Workbook

Sheet Instructions
A1: Offerors who are not Pre-Qualified by PSC must complete the DRiVE Sustainability Questionnaire and submit this as part of their proposals.
A2: PSC Pre-qualified vendors who would like to make updates to the DRiVE Sustainability Questionnaire previoulsy submitted to PSC as part of the PQ process must contact prot@unops.org. Regular updates to the DriVE Questionnaire is encouraged.

Sheet PROFILE
C3: DRiVE Supplier Sustainability Questionnaire
C4: Driven by UNOPS commitment to sustainability and risk management in procurement, the organization launched in 2018 the DRiVE programme (Delivering Responsibility in Vendor Engagement). The overall scope of DRiVE is to ensure that UNOPS vendors operate responsibly and in accordance with high standards of integrity through the development of a vendor assessment, inspection and corrective action-planning programme, with a particular focus on the associated areas related to human rights, labour rights, ethical conduct, sexual exploitation and abuse and environmental responsibility.
C6: It is our endeavour to ensure that our vendors operate in accordance with the provisions contained in the UN Supplier Code of Conduct and the UNOPS Procurement Manual and General Conditions of Contract. This supplier self-assessment questionnaire is designed to give us a better understanding of how your company manages its impact, awareness and mitigation in these areas.
C8: UNOPS embraces the principle of continuous improvement. This is why the questions within the DRiVE Supplier Sustainability Questionnaire reflect the expectations that UNOPS has of all its suppliers. UNOPS hopes to form an open and honest dialogue with its suppliers in order to move toward a common direction of shared values. UNOPS will find its suppliers to be at different stages in fully adopting and implementing these standards and hence UNOPS will not be evaluating the input received on this questionnaire (unless specifically indicated on this tender's criteria section). However, please note that UNOPS reserves the right to verify the completeness and accuracy of information provided including by conducting a Verification/Inspection Visit as part of our due diligence process and in the spirit of fostering the open and honest dialogue and continuous improvement.
C9: It is estimated that it will take between 20 and 30 minutes to complete this questionnaire. Please follow these instructions:
C10: 1- | D10: Fill out the "COMPANY PROFILE" section below in this sheet/tab.
C11: 2- | D11: Fill out the "QUESTIONNAIRE" sheet/tab. Each question has a drop down box with the answer option that you can select. Please note that all questions must be answered. There is a HELP sheet / tab to provide guidance, as well as a link as a '?' to take you to guidance related to the question. If you have comments you can provide them next to the question.
C12: 3- | D12: Upload this document against the corresponding "Document checklist" on the eSourcing system.
C14: For further details on the DRiVE programme please refer to UNOPS Procurement Manual, Revision 6.1, Section 1.5.4.1. (Link below). If you require any clarification regarding these questions, please use the 'Request a Clarification' functionality within the eSourcing system.
C15: =HYPERLINK("https://content.unops.org/service-Line-Documents/Procurement/UNOPS-Procurement-Manual-2019_EN.pdf","Procuerment Manual, 6.1. ") -> Procuerment Manual, 6.1.
C17: We are also embrace continious improvement within our own processes, we therefore value your commets and feedback regarding this questionnaire and document. If you wish to do so please use the box below to provide feedback.
D23: COMPANY PROFILE
D25: UNGM registration number:
D27: Company Name:
D29: Business Address:
D35: Country:
D37: UN Global Compact Participant:
G38: Participant Number:
G39: Date of last COP:
G40: Level of COP:
D42: This document is truthful and accurate and has been completed by
G43: Name:
G44: Position:
G45: Email:
G46: Telephone:
B51: FEEDBACK
B53: Please feel free to provide feedback here…
C884: Afghanistan | F884: FAO
C885: Albania | F885: IAEA
C886: Algeria | F886: ICAO
C887: American Samoa | F887: IFAD
C888: Andorra | F888: ILO
C889: Angola | F889: ITC
C890: Anguilla | F890: ITU
C891: Antigua & Barbuda | F891: IMO
C892: Argentina | F892: OPCW
C893: Armenia | F893: PAHO
C894: Aruba | F894: UN Secretariat
C895: Australia | F895: UN Women
... C909: Bosnia & Herzegovina | F909: WTO
...

Sheet QUESTIONNAIRE
G2: SUPPLIER SUSTAINABILITY QUESTIONNAIRE | L2: HIDE THIS PART - DOESN'T EVER NEED TO BE UNHIDDEN. ANSWERS FROM HERE ARE FED FROM THE Q&A SHEET
G3: IF YOU HAVE ANY QUERIES PLEASE FOLLOW THE TENDER CLARIFICATION PROCEDURE IN ESOURCING
F4: Click ? for help | G4: Select from list below - ALL QUESTIONS MUST BE ANSWERED - IF AN ANSWER IS LEFT BLANK IT IS ASSUMED AUTOMATICALLY TO BE NOT CONSINDERED / ADDRESSED / IMPLEMENTED | H4: Supplier Comments (Comments should only be added if the options in the drop down do not represent your situation) | L4: Q | M4: 1 | N4: 2 | O4: 3 | P4: 4 | Q4: 4
E5: For glossary, definitions, resources click '?' to the right or use the HELP sheet | F5: ?
C6: A | E6: =VLOOKUP($C6,QADATA!$D$8:$K$83,3,FALSE) -> POLICY | L6: =C6 -> A
C7: 1 | E7: =VLOOKUP($C7,QADATA!$D$9:$K$83,3,FALSE) -> Does your company have a Freedom of Association and Right to Collective Bargaining policy in place? | F7: ? | L7: =C7 -> 1 | M7: =VLOOKUP($L7,QADATA!$D$9:$K$83,4,FALSE) -> Yes - for more than 3 years | N7: =VLOOKUP($L7,QADATA!$D$9:$K$83,5,FALSE) -> Yes - for less than 3 years | O7: =VLOOKUP($L7,QADATA!$D$9:$K$83,6,FALSE) -> Referred to in another policy | P7: =VLOOKUP($L7,QADATA!$D$9:$K$83,7,FALSE) -> No policy in place
C8: 2 | E8: =VLOOKUP($C8,QADATA!$D$9:$K$83,3,FALSE) -> Does your company have a Wages, Working Hours and Other Conditions of Work policy in place? | F8: ? | L8: =C8 -> 2 | M8: =VLOOKUP($L8,QADATA!$D$9:$K$83,4,FALSE) -> Yes - for more than 3 years | N8: =VLOOKUP($L8,QADATA!$D$9:$K$83,5,FALSE) -> Yes - for less than 3 years | O8: =VLOOKUP($L8,QADATA!$D$9:$K$83,6,FALSE) -> Referred to in another policy | P8: =VLOOKUP($L8,QADATA!$D$9:$K$83,7,FALSE) -> No policy in place
C9: 3 | E9: =VLOOKUP($C9,QADATA!$D$9:$K$83,3,FALSE) -> Does your company have a Forced and Compulsory Labour policy in place? | F9: ? | L9: =C9 -> 3 | M9: =VLOOKUP($L9,QADATA!$D$9:$K$83,4,FALSE) -> Yes - for more than 3 years | N9: =VLOOKUP($L9,QADATA!$D$9:$K$83,5,FALSE) -> Yes - for less than 3 years | O9: =VLOOKUP($L9,QADATA!$D$9:$K$83,6,FALSE) -> Referred to in another policy | P9: =VLOOKUP($L9,QADATA!$D$9:$K$83,7,FALSE) -> No policy in place
C10: 4 | E10: =VLOOKUP($C10,QADATA!$D$9:$K$83,3,FALSE) -> Does your company have a Child Labour policy in place? | F10: ? | L10: =C10 -> 4 | M10: =VLOOKUP($L10,QADATA!$D$9:$K$83,4,FALSE) -> Yes - for more than 3 years | N10: =VLOOKUP($L10,QADATA!$D$9:$K$83,5,FALSE) -> Yes - for less than 3 years | O10: =VLOOKUP($L10,QADATA!$D$9:$K$83,6,FALSE) -> Referred to in another policy | P10: =VLOOKUP($L10,QADATA!$D$9:$K$83,7,FALSE) -> No policy in place
C11: 5 | E11: =VLOOKUP($C11,QADATA!$D$9:$K$83,3,FALSE) -> Does your company have an Anti Discrimination policy in place? | F11: ? | L11: =C11 -> 5 | M11: =VLOOKUP($L11,QADATA!$D$9:$K$83,4,FALSE) -> Yes - for more than 3 years | N11: =VLOOKUP($L11,QADATA!$D$9:$K$83,5,FALSE) -> Yes - for less than 3 years | O11: =VLOOKUP($L11,QADATA!$D$9:$K$83,6,FALSE) -> Referred to in another policy | P11: =VLOOKUP($L11,QADATA!$D$9:$K$83,7,FALSE) -> No policy in place
C12: 6 | E12: =VLOOKUP($C12,QADATA!$D$9:$K$83,3,FALSE) -> Does your company have a Quality Management Policy in place? | F12: ? | L12: =C12 -> 6 | M12: =VLOOKUP($L12,QADATA!$D$9:$K$83,4,FALSE) -> Yes - for more than 3 years | N12: =VLOOKUP($L12,QADATA!$D$9:$K$83,5,FALSE) -> Yes - for less than 3 years | O12: =VLOOKUP($L12,QADATA!$D$9:$K$83,6,FALSE) -> Referred to in another policy | P12: =VLOOKUP($L12,QADATA!$D$9:$K$83,7,FALSE) -> No policy in place
C13: 7 | E13: =VLOOKUP($C13,QADATA!$D$9:$K$83,3,FALSE) -> Does your company have an Environmental Policy in place? | F13: ? | L13: =C13 -> 7 | M13: =VLOOKUP($L13,QADATA!$D$9:$K$83,4,FALSE) -> Yes - for more than 3 years | N13: =VLOOKUP($L13,QADATA!$D$9:$K$83,5,FALSE) -> Yes - for less than 3 years | O13: =VLOOKUP($L13,QADATA!$D$9:$K$83,6,FALSE) -> Referred to in another policy | P13: =VLOOKUP($L13,QADATA!$D$9:$K$83,7,FALSE) -> No policy in place
C14: 8 | E14: =VLOOKUP($C14,QADATA!$D$9:$K$83,3,FALSE) -> Does your company have a Health and Safety policy in place? | F14: ? | L14: =C14 -> 8 | M14: =VLOOKUP($L14,QADATA!$D$9:$K$83,4,FALSE) -> Yes - for more than 3 years | N14: =VLOOKUP($L14,QADATA!$D$9:$K$83,5,FALSE) -> Yes - for less than 3 years | O14: =VLOOKUP($L14,QADATA!$D$9:$K$83,6,FALSE) -> Referred to in another policy | P14: =VLOOKUP($L14,QADATA!$D$9:$K$83,7,FALSE) -> No policy in place
C15: 9 | E15: =VLOOKUP($C15,QADATA!$D$9:$K$83,3,FALSE) -> Does your company have a Code of Conduct (or ethical conduct policy)? | F15: ? | L15: =C15 -> 9 | M15: =VLOOKUP($L15,QADATA!$D$9:$K$83,4,FALSE) -> Yes - for more than 3 years | N15: =VLOOKUP($L15,QADATA!$D$9:$K$83,5,FALSE) -> Yes - for less than 3 years | O15: =VLOOKUP($L15,QADATA!$D$9:$K$83,6,FALSE) -> Referred to in another policy | P15: =VLOOKUP($L15,QADATA!$D$9:$K$83,7,FALSE) -> No policy in place
C16: 10 | E16: =VLOOKUP($C16,QADATA!$D$9:$K$83,3,FALSE) -> Does your company have a Corporate Social Responsibility policy? | F16: ? | L16: =C16 -> 10 | M16: =VLOOKUP($L16,QADATA!$D$9:$K$83,4,FALSE) -> Yes - for more than 3 years | N16: =VLOOKUP($L16,QADATA!$D$9:$K$83,5,FALSE) -> Yes - for less than 3 years | O16: =VLOOKUP($L16,QADATA!$D$9:$K$83,6,FALSE) -> Referred to in another policy | P16: =VLOOKUP($L16,QADATA!$D$9:$K$83,7,FALSE) -> No policy in place
C17: 11 | E17: =VLOOKUP($C17,QADATA!$D$9:$K$83,3,FALSE) -> Does your company have a policy related to conflict minerals? | F17: ? | L17: =C17 -> 11 | M17: =VLOOKUP($L17,QADATA!$D$9:$K$83,4,FALSE) -> Yes - for more than 3 years (or Not Applicable to your sector) | N17: =VLOOKUP($L17,QADATA!$D$9:$K$83,5,FALSE) -> Yes - for less than 3 years | O17: =VLOOKUP($L17,QADATA!$D$9:$K$83,6,FALSE) -> Referred to in another policy | P17: =VLOOKUP($L17,QADATA!$D$9:$K$83,7,FALSE) -> No policy in place
C18: B | E18: =VLOOKUP($C18,QADATA!$D$9:$K$83,3,FALSE) -> MANAGEMENT SYSTEMS | L18: =C18 -> B
C19: 12 | E19: =VLOOKUP($C19,QADATA!$D$9:$K$83,3,FALSE) -> Does your company have a certified formal, documented Quality Management System? | F19: ? | L19: =C19 -> 12 | M19: =VLOOKUP($L19,QADATA!$D$9:$K$83,4,FALSE) -> Yes - such as ISO or similar and certified by a independent third party | N19: =VLOOKUP($L19,QADATA!$D$9:$K$83,5,FALSE) -> Yes - Documented but not certified | O19: =VLOOKUP($L19,QADATA!$D$9:$K$83,6,FALSE) -> Informal (undocumented) process | P19: =VLOOKUP($L19,QADATA!$D$9:$K$83,7,FALSE) -> No Quality Management System in place
C20: 13 | E20: =VLOOKUP($C20,QADATA!$D$9:$K$83,3,FALSE) -> Does your company have a certified formal, documented Environmental Management System? | F20: ? | L20: =C20 -> 13 | M20: =VLOOKUP($L20,QADATA!$D$9:$K$83,4,FALSE) -> Yes - such as ISO or similar and certified by a independent third party | N20: =VLOOKUP($L20,QADATA!$D$9:$K$83,5,FALSE) -> Yes - Documented but not certified | O20: =VLOOKUP($L20,QADATA!$D$9:$K$83,6,FALSE) -> Informal (undocumented) process | P20: =VLOOKUP($L20,QADATA!$D$9:$K$83,7,FALSE) -> No Environmental Management System in place
C21: 14 | E21: =VLOOKUP($C21,QADATA!$D$9:$K$83,3,FALSE) -> Does your company have a certified formal, documented Health and Safety Management System? | F21: ? | L21: =C21 -> 14 | M21: =VLOOKUP($L21,QADATA!$D$9:$K$83,4,FALSE) -> Yes - such as ISO or similar and certified by a independent third party | N21: =VLOOKUP($L21,QADATA!$D$9:$K$83,5,FALSE) -> Yes - Documented but not certified | O21: =VLOOKUP($L21,QADATA!$D$9:$K$83,6,FALSE) -> Informal (undocumented) process | P21: =VLOOKUP($L21,QADATA!$D$9:$K$83,7,FALSE) -> No Health & Safety Management System in place
C22: C | E22: =VLOOKUP($C22,QADATA!$D$9:$K$83,3,FALSE) -> HUMAN RIGHTS | L22: =C22 -> C
C23: 15 | E23: =VLOOKUP($C23,QADATA!$D$9:$K$83,3,FALSE) -> Does your company have a framework / procedures in place to commit to the UN Guiding principles for Business & Human Rights? | F23: ? | L23: =C23 -> 15 | M23: =VLOOKUP($L23,QADATA!$D$9:$K$83,4,FALSE) -> Yes - We have a documented procedure in place that is implemented, reported & reviewed | N23: =VLOOKUP($L23,QADATA!$D$9:$K$83,5,FALSE) -> Yes - We have a documented procedure in place. But it is not reported upon | O23: =VLOOKUP($L23,QADATA!$D$9:$K$83,6,FALSE) -> We have informal procedures, with no or limited documentation | P23: =VLOOKUP($L23,QADATA!$D$9:$K$83,7,FALSE) -> No we do not
C24: 16 | E24: =VLOOKUP($C24,QADATA!$D$9:$K$83,3,FALSE) -> Does your company have a mechanism for preventing, reporting and investigating cases of Human Rights abuses? | F24: ? | L24: =C24 -> 16 | M24: =VLOOKUP($L24,QADATA!$D$9:$K$83,4,FALSE) -> A formal documented procedure (including 3rd party involvement) | N24: =VLOOKUP($L24,QADATA!$D$9:$K$83,5,FALSE) -> A formal documented procedure | O24: =VLOOKUP($L24,QADATA!$D$9:$K$83,6,FALSE) -> An informal procedure | P24: =VLOOKUP($L24,QADATA!$D$9:$K$83,7,FALSE) -> No procedure in place
C25: 17 | E25: =VLOOKUP($C25,QADATA!$D$9:$K$83,3,FALSE) -> Does your company have a mechanism for preventing, reporting and investigating cases of Sexual Exploitation and Abuse? | F25: ? | L25: =C25 -> 17 | M25: =VLOOKUP($L25,QADATA!$D$9:$K$83,4,FALSE) -> A formal documented procedure (including 3rd party involvement) | N25: =VLOOKUP($L25,QADATA!$D$9:$K$83,5,FALSE) -> A formal documented procedure | O25: =VLOOKUP($L25,QADATA!$D$9:$K$83,6,FALSE) -> An informal procedure | P25: =VLOOKUP($L25,QADATA!$D$9:$K$83,7,FALSE) -> No procedure in place
C26: D | E26: =VLOOKUP($C26,QADATA!$D$9:$K$83,3,FALSE) -> LABOUR STANDARDS | L26: =C26 -> D
C27: 18 | E27: =VLOOKUP($C27,QADATA!$D$9:$K$83,3,FALSE) -> How does your company ensure that you pay minimum wage to your employees? | F27: ? | L27: =C27 -> 18 | M27: =VLOOKUP($L27,QADATA!$D$9:$K$83,4,FALSE) -> The company has a written policy in place as well as documented procedures that are followed. | N27: =VLOOKUP($L27,QADATA!$D$9:$K$83,5,FALSE) -> The company has a written policy in place an follows (undocumented) procedures. | O27: =VLOOKUP($L27,QADATA!$D$9:$K$83,6,FALSE) -> The company does not have a written policy in place but follows (undocumented) procedures | P27: =VLOOKUP($L27,QADATA!$D$9:$K$83,7,FALSE) -> There are some cases that minimum wages are not paid
C28: 19 | E28: =VLOOKUP($C28,QADATA!$D$9:$K$83,3,FALSE) -> How does your company ensure it pay its employees in a non-discriminatory manner (e.g. paying different working groups such as women, people with disabilities, etc… different pay for the same tasks)? | F28: ? | L28: =C28 -> 19 | M28: =VLOOKUP($L28,QADATA!$D$9:$K$83,4,FALSE) -> The company has a written policy in place as well as documented procedures that are followed. | N28: =VLOOKUP($L28,QADATA!$D$9:$K$83,5,FALSE) -> The company has a written policy in place an follows (undocumented) procedures. | O28: =VLOOKUP($L28,QADATA!$D$9:$K$83,6,FALSE) -> The company does not have a written policy in place but follows (undocumented) procedures | P28: =VLOOKUP($L28,QADATA!$D$9:$K$83,7,FALSE) -> There are some cases that different groups are paid differently for the same tasks.
C29: 20 | E29: =VLOOKUP($C29,QADATA!$D$9:$K$83,3,FALSE) -> Does your company have a complaints system in place to address concerns or issues from employees / workers / others? | F29: ? | L29: =C29 -> 20 | M29: =VLOOKUP($L29,QADATA!$D$9:$K$83,4,FALSE) -> Yes - documented procedure including anonymous whistle-blower protection | N29: =VLOOKUP($L29,QADATA!$D$9:$K$83,5,FALSE) -> Yes - there are guidelines, but no formal documented procedure | O29: =VLOOKUP($L29,QADATA!$D$9:$K$83,6,FALSE) -> Although no formal procedure is in place, management treat such incidents seriously | P29: =VLOOKUP($L29,QADATA!$D$9:$K$83,7,FALSE) -> No this is not needed in our company
C30: 21 | E30: =VLOOKUP($C30,QADATA!$D$9:$K$83,3,FALSE) -> Does your company have an Overtime work policy in place or staff are not allowed to work overtime? | F30: ? | L30: =C30 -> 21 | M30: =VLOOKUP($L30,QADATA!$D$9:$K$83,4,FALSE) -> Overtime is voluntary and procedure and payments documented (staff are not allowed to work overtime) | N30: =VLOOKUP($L30,QADATA!$D$9:$K$83,5,FALSE) -> Overtime is voluntary there is no documented procedure, but payments are recorded. | O30: =VLOOKUP($L30,QADATA!$D$9:$K$83,6,FALSE) -> Over time is compensated but not recorded | P30: =VLOOKUP($L30,QADATA!$D$9:$K$83,7,FALSE) -> Overtime is not recorded or compensated
C31: 22 | E31: =VLOOKUP($C31,QADATA!$D$9:$K$83,3,FALSE) -> What is the approach of your company regarding keeping original identification documents of your workers / employees? | F31: ? | L31: =C31 -> 22 | M31: =VLOOKUP($L31,QADATA!$D$9:$K$83,4,FALSE) -> No original ID documentation is ever kept by the company | N31: =VLOOKUP($L31,QADATA!$D$9:$K$83,5,FALSE) -> Original ID documentation is kept by the company (by request of employee) | O31: =VLOOKUP($L31,QADATA!$D$9:$K$83,6,FALSE) -> They are kept but only on a selective manner when management deem it necessary | P31: =VLOOKUP($L31,QADATA!$D$9:$K$83,7,FALSE) -> Keeping the original identification documents is a common practice
C32: 23 | E32: =VLOOKUP($C32,QADATA!$D$9:$K$83,3,FALSE) -> Do you have a procedure in place at time of employment to verify age of prospective employees? | F32: ? | L32: =C32 -> 23 | M32: =VLOOKUP($L32,QADATA!$D$9:$K$83,4,FALSE) -> Yes - A documented procedure is in place | N32: =VLOOKUP($L32,QADATA!$D$9:$K$83,5,FALSE) -> A procedure is in place but not documented | O32: =VLOOKUP($L32,QADATA!$D$9:$K$83,6,FALSE) -> This is not a common practice to verify age | P32: =VLOOKUP($L32,QADATA!$D$9:$K$83,7,FALSE) -> Age is not verified
C33: 24 | E33: =VLOOKUP($C33,QADATA!$D$9:$K$83,3,FALSE) -> Are your employees selected based on gender, ethnicity, sexual orientation or political belief? | F33: ? | L33: =C33 -> 24 | M33: =VLOOKUP($L33,QADATA!$D$9:$K$83,4,FALSE) -> No - all employees are selected based on merit as per documented procedure in place | N33: =VLOOKUP($L33,QADATA!$D$9:$K$83,5,FALSE) -> No - all employees are selected based on merit but no documented procedure in place | O33: =VLOOKUP($L33,QADATA!$D$9:$K$83,6,FALSE) -> Yes - to a certain extent | P33: =VLOOKUP($L33,QADATA!$D$9:$K$83,7,FALSE) -> Yes - in most cases
C34: 25 | E34: =VLOOKUP($C34,QADATA!$D$9:$K$83,3,FALSE) -> Are terms of employment communicated and agreed upon with an employee, written and in a local language? | F34: ? | L34: =C34 -> 25 | M34: =VLOOKUP($L34,QADATA!$D$9:$K$83,4,FALSE) -> Terms of employment are written and are signed by both employer and employee | N34: =VLOOKUP($L34,QADATA!$D$9:$K$83,5,FALSE) -> Terms of employment are written and signed by employee only | O34: =VLOOKUP($L34,QADATA!$D$9:$K$83,6,FALSE) -> Terms of employment are communicated but not written or signed | P34: =VLOOKUP($L34,QADATA!$D$9:$K$83,7,FALSE) -> There are no terms of employment - only pay to work
C35: 26 | E35: =VLOOKUP($C35,QADATA!$D$9:$K$83,3,FALSE) -> Are payments of salary made according to the contract, directly to the employee and on a regular basis? | F35: ? | L35: =C35 -> 26 | M35: =VLOOKUP($L35,QADATA!$D$9:$K$83,4,FALSE) -> Yes | N35: =VLOOKUP($L35,QADATA!$D$9:$K$83,5,FALSE) -> Yes - but not regularly | O35: =VLOOKUP($L35,QADATA!$D$9:$K$83,6,FALSE) -> Non-regular cash payments are a common practice here | P35: =VLOOKUP($L35,QADATA!$D$9:$K$83,7,FALSE) -> Salary / wages are paid directly to an intermediary to distribute
C36: 27 | E36: =VLOOKUP($C36,QADATA!$D$9:$K$83,3,FALSE) -> Are employees made aware of deductions (e.g. welfare, tax, accommodation etc..) and agree to them? | F36: ? | L36: =C36 -> 27 | M36: =VLOOKUP($L36,QADATA!$D$9:$K$83,4,FALSE) -> Yes - all deduction are agreed in advance and documented in the contract | N36: =VLOOKUP($L36,QADATA!$D$9:$K$83,5,FALSE) -> Employees are made aware of deductions but they are not documented in the contract | O36: =VLOOKUP($L36,QADATA!$D$9:$K$83,6,FALSE) -> Employees are not made aware of deductions until time of payment | P36: =VLOOKUP($L36,QADATA!$D$9:$K$83,7,FALSE) -> Deductions are made as they occur - without prior information to employee
C37: 28 | E37: =VLOOKUP($C37,QADATA!$D$9:$K$83,3,FALSE) -> Are employee payments properly documented? | F37: ? | L37: =C37 -> 28 | M37: =VLOOKUP($L37,QADATA!$D$9:$K$83,4,FALSE) -> Yes - Detailed pay-slips are provided, signed for and include details of deductions, if any | N37: =VLOOKUP($L37,QADATA!$D$9:$K$83,5,FALSE) -> Yes - Employees sign that they have received salary but no pay-slip provided | O37: =VLOOKUP($L37,QADATA!$D$9:$K$83,6,FALSE) -> No formal procedure in place, but employees are notified that payment has been made | P37: =VLOOKUP($L37,QADATA!$D$9:$K$83,7,FALSE) -> No formal procedure in place
C38: E | E38: =VLOOKUP($C38,QADATA!$D$9:$K$83,3,FALSE) -> EQUAL OPPORTUNITY | L38: =C38 -> E | M38: =VLOOKUP($L38,QADATA!$D$9:$K$83,4,FALSE) -> 0 | N38: =VLOOKUP($L38,QADATA!$D$9:$K$83,5,FALSE) -> 0 | O38: =VLOOKUP($L38,QADATA!$D$9:$K$83,6,FALSE) -> 0 | P38: =VLOOKUP($L38,QADATA!$D$9:$K$83,7,FALSE) -> 0
C39: 29 | E39: =VLOOKUP($C39,QADATA!$D$9:$K$83,3,FALSE) -> Does your company have a mechanism in place for reporting, investigating and addressing harassment | F39: ? | L39: =C39 -> 29 | M39: =VLOOKUP($L39,QADATA!$D$9:$K$83,4,FALSE) -> Yes- A formal documented procedure is in place; data about cases is available and tracked | N39: =VLOOKUP($L39,QADATA!$D$9:$K$83,5,FALSE) -> Yes - a documented procedure | O39: =VLOOKUP($L39,QADATA!$D$9:$K$83,6,FALSE) -> An informal procedure | P39: =VLOOKUP($L39,QADATA!$D$9:$K$83,7,FALSE) -> No procedure
C40: 30 | E40: =VLOOKUP($C40,QADATA!$D$9:$K$83,3,FALSE) -> Does your company encourage diversity and inclusion in the workplace? | F40: ? | L40: =C40 -> 30 | M40: =VLOOKUP($L40,QADATA!$D$9:$K$83,4,FALSE) -> Yes we have a diversity and inclusion policy and action plan that is well implemented | N40: =VLOOKUP($L40,QADATA!$D$9:$K$83,5,FALSE) -> Yes we have a policy but no action plan yet | O40: =VLOOKUP($L40,QADATA!$D$9:$K$83,6,FALSE) -> We encourage diversity informally | P40: =VLOOKUP($L40,QADATA!$D$9:$K$83,7,FALSE) -> We don't have any initiative around diversity and inclusion
C41: 31 | E41: =VLOOKUP($C41,QADATA!$D$9:$K$83,3,FALSE) -> What percentage (%) of current total staff are women? Please provide your best estimate. | F41: ? | L41: =C41 -> 31 | M41: =VLOOKUP($L41,QADATA!$D$9:$K$83,4,FALSE) -> More than 60% | N41: =VLOOKUP($L41,QADATA!$D$9:$K$83,5,FALSE) -> Between 30% - 60% | O41: =VLOOKUP($L41,QADATA!$D$9:$K$83,6,FALSE) -> Between 10% - 30% | P41: =VLOOKUP($L41,QADATA!$D$9:$K$83,7,FALSE) -> Less than 10%
...

Sheet HELP
B1: QUESTION | C1: GUIDANCE | F1: HIDE
A2: A | B2: =QADATA!F8 -> POLICY | F2: Link
A3: 1 | B3: =QADATA!F9 -> Does your company have a Freedom of Association and Right to Collective Bargaining policy in place? | C3: Freedom of association refers to the right to freedom of peaceful assembly and to the freedom of association such as to a trade union. Collective bargaining refers to a process of negotiations between the employer and a group of employees. | F3: ="#gid=1312646253&range=a"&ROW(B3) -> #gid=1312646253&range=a3
A4: 2 | B4: =QADATA!F10 -> Does your company have a Wages, Working Hours and Other Conditions of Work policy in place? | C4: Working conditions are made up of the conditions, criteria and environment employees are exposed to during their employment and the employee’s terms and conditions of employment. Examples include health, safety and well-being; maximum daily and weekly working hours, including mandatory days off, annual paid leave etc. | F4: ="#gid=1312646253&range=a"&ROW(B4) -> #gid=1312646253&range=a4
A5: 3 | B5: =QADATA!F11 -> Does your company have a Forced and Compulsory Labour policy in place? | C5: Forced or compulsory labour refers to all work or service a person carries out as a penalty and / or for which that person has not offered to do voluntarily (per agreement). Examples could include forced overtime, retention of identity documents, etc. | F5: ="#gid=1312646253&range=a"&ROW(B5) -> #gid=1312646253&range=a5
A6: 4 | B6: =QADATA!F12 -> Does your company have a Child Labour policy in place? | C6: Child labour refers to the employment of a person (child) who is under the legal minimum working age. In the circumstances where young persons are admitted to work, the working conditions must be not harm their safety, health or physical, mental, moral or social development or to interfere with their education. | F6: ="#gid=1312646253&range=a"&ROW(B6) -> #gid=1312646253&range=a6
A7: 5 | B7: =QADATA!F13 -> Does your company have an Anti Discrimination policy in place? | C7: Anti-discrimination encourages and requires the equal treatment of an individual or groups irrespective of sex, race, skin colour, ethnic or social origin, genetic features, language, religion or belief, political or any other opinion, membership of a national minority, birth, disability, age or sexual orientation. In many countries companies are legally required to obey certain practices that ensure discrimination is eliminated and expectations of equality are always met in the workplace. All workers must be treated equally and be given the same set of opportunities regardless of their race, age, gender, sexuality, disability, culture or anything else that might be discriminated against. The legislations in place are in existence to ensure that an inclusive working environment is always fostered, and that difference should never prove to be an obstacle in career progression or indeed getting a job in the first place. | F7: ="#gid=1312646253&range=a"&ROW(B7) -> #gid=1312646253&range=a7
A8: 6 | B8: =QADATA!F14 -> Does your company have a Quality Management Policy in place? | C8: A quality management policy should declare what is considered as a standard of 'quality' and outlines the processes in place to ensure that this meet this standard. The policy should make clear the intentions regarding quality of the products or services, a commitment to continuous improvement in quality management and the responsibilities of all staff, especially those with key roles, for maintaining quality of products and services. It should be formally endorsed by top management. | F8: ="#gid=1312646253&range=a"&ROW(B8) -> #gid=1312646253&range=a8
A9: 7 | B9: =QADATA!F15 -> Does your company have an Environmental Policy in place? | C9: An environmental policy should state the commitment that the company is making in relation to its use of resources and impact on the environment of its products and/ or services. With the purpose of decreasing the impact on the environment. It should be formally endorsed by top management. The policy should make clear actions and objectives which take into consideration applicable legal and other requirements. | F9: ="#gid=1312646253&range=a"&ROW(B9) -> #gid=1312646253&range=a9
A10: 8 | B10: =QADATA!F16 -> Does your company have a Health and Safety policy in place? | C10: A health and safety policy should state the commitment that the company is making in relation to its efforts towards identifying workplace hazards and reducing accidents and exposure to harmful situations and substances. The policy should make clear actions and objectives which take into consideration of applicable legal and other requirements. It should also refer to key components of the actions for example, training of personnel, personal protective equipment. It should be formally endorsed by top management. | F10: ="#gid=1312646253&range=a"&ROW(B10) -> #gid=1312646253&range=a10
A11: 9 | B11: =QADATA!F17 -> Does your company have a Code of Conduct (or ethical conduct policy)? | C11: A Code of Conduct is a set of rules outlining the responsibilities or proper practice for an individual (employee) and organisation. It could cover social, ethical and environmental aspects. | F11: ="#gid=1312646253&range=a"&ROW(B11) -> #gid=1312646253&range=a11
A12: 10 | B12: =QADATA!F18 -> Does your company have a Corporate Social Responsibility policy? | C12: Examples of Supplier CSR/Sustainability Policy could be a specific Supplier Code of Conduct or a Company Conduct document which applies to both internal employees as well as external business partners, such as suppliers. The objective should be to promote healthy working conditions and environmental responsibility throughout the entire supply chain. | F12: ="#gid=1312646253&range=a"&ROW(B12) -> #gid=1312646253&range=a12
A13: 11 | B13: =QADATA!F19 -> Does your company have a policy related to conflict minerals? | C13: So called conflict minerals (tantalum, tin, gold and tungsten) are sourced from the Democratic Republic of Congo and its neighbouring states. Companies that are at risk of using conflict minerals are required to undertake due diligence on the sourcing and file a conflict minerals report. Examples of conflict minerals reporting template. | F13: ="#gid=1312646253&range=a"&ROW(B13) -> #gid=1312646253&range=a13
A14: B | B14: =QADATA!F20 -> MANAGEMENT SYSTEMS | F14: ="#gid=1312646253&range=a"&ROW(B14) -> #gid=1312646253&range=a14
A15: 12 | B15: =QADATA!F21 -> Does your company have a certified formal, documented Quality Management System? | C15: A management system is a set of documented controls, processes and /or procedures that is reviewed by management. These procedures are followed by personnel for guidance and reference. A management system can be developed internally or externally in accordance with a recognised standard, for example ISO. | F15: ="#gid=1312646253&range=a"&ROW(B15) -> #gid=1312646253&range=a15
A16: 13 | B16: =QADATA!F22 -> Does your company have a certified formal, documented Environmental Management System? | C16: A management system is a set of documented controls, processes and /or procedures that is reviewed by management. These procedures are followed by personnel for guidance and reference. A management system can be developed internally or externally in accordance with a recognised standard, for example ISO. | F16: ="#gid=1312646253&range=a"&ROW(B16) -> #gid=1312646253&range=a16
A17: 14 | B17: =QADATA!F23 -> Does your company have a certified formal, documented Health and Safety Management System? | C17: A management system is a set of documented controls, processes and /or procedures that is reviewed by management. These procedures are followed by personnel for guidance and reference. A management system can be developed internally or externally in accordance with a recognised standard, for example ISO. | F17: ="#gid=1312646253&range=a"&ROW(B17) -> #gid=1312646253&range=a17
A18: C | B18: =QADATA!F24 -> HUMAN RIGHTS | F18: ="#gid=1312646253&range=a"&ROW(B18) -> #gid=1312646253&range=a18
A19: 15 | B19: =QADATA!F25 -> Does your company have a framework / procedures in place to commit to the UN Guiding principles for Business & Human Rights? | C19: As a company, it is your obligation to Respect human rights, and to Remedy any human rights issue that make your company complicit in human rights abuse. The company should have in place ways to protect workers against possible abuses, the company should implement prevention policies, facilitate open communication, provide training, and allow workers to report incidents of harassment. | F19: ="#gid=1312646253&range=a"&ROW(B19) -> #gid=1312646253&range=a19
A20: 16 | B20: =QADATA!F26 -> Does your company have a mechanism for preventing, reporting and investigating cases of Human Rights abuses? | C20: Companies play a critical role in ensuring that victims of business-related human rights abuses have access to an effective remedial process. A company should have a complaint mechanism that fully investigates the reports and responds accordingly to reported harassment cases. Workplace harassment encompasses many types of behaviour, including assault, physical and sexual harassment or threats, and workplace bullying and intimidation. 3rd party involvement refers to others from outside your company, this might be for example: that this is handled by a 3rd party / your process is audited by 3rd party / 3rd party are involved in the process. | F20: ="#gid=1312646253&range=a"&ROW(B20) -> #gid=1312646253&range=a20
A21: 17 | B21: =QADATA!F27 -> Does your company have a mechanism for preventing, reporting and investigating cases of Sexual Exploitation and Abuse? | C21: The definition of sexual exploitation is “any actual or attempted abuse of a position of vulnerability, differential power, or trust, for sexual purposes, including, but not limited to, profiting monetarily, socially or politically from the sexual exploitation of another.” The definition of sexual abuse is “actual or threatened physical intrusion of a sexual nature, whether by force or under unequal or coercive conditions.” This might be influenced differently, depending on your company, for example whether it is locally owned, employing members of the community, or on the other hand, large, possibly international or based in a large urban city / capital. Additionally, if your operations are elsewhere, employing people from outside the community, the risk of your employees committing sexual abuse and exploitation are different. | F21: ="#gid=1312646253&range=a"&ROW(B21) -> #gid=1312646253&range=a21
A22: D | B22: =QADATA!F28 -> LABOUR STANDARDS | C22: LABOUR STANDARDS | F22: ="#gid=1312646253&range=a"&ROW(B22) -> #gid=1312646253&range=a22
A23: 18 | B23: =QADATA!F29 -> How does your company ensure that you pay minimum wage to your employees? | C23: Wages and benefits relate to the basic or minimum wage or salary and any additional entitlements payable directly or indirectly, in cash or in kind, by the employer to the worker and arising out of the worker’s employment. Examples include paid sick days, family and medical leave, paid overtime, etc. | F23: ="#gid=1312646253&range=a"&ROW(B23) -> #gid=1312646253&range=a23
A24: 19 | B24: =QADATA!F30 -> How does your company ensure it pay its employees in a non-discriminatory manner (e.g. paying different working groups such as women, people with disabilities, etc… different pay for the same tasks)? | C24: The payment of employees should not be discriminatory and requires the equal treatment of an individual or groups irrespective of sex, race, skin colour, ethnic or social origin, genetic features, language, religion or belief, political or any other opinion, membership of a national minority, birth, disability, age or sexual orientation. | F24: ="#gid=1312646253&range=a"&ROW(B24) -> #gid=1312646253&range=a24
A25: 20 | B25: =QADATA!F31 -> Does your company have a complaints system in place to address concerns or issues from employees / workers / others? | C25: A process to address employee complaints about discrimination and harassment (or other) is important for a company as it can identify areas of improvement in a workplace as well as help to avoid formal external complaints and/or legal action. A good complaints process should be: Fair / Confidential / Transparent / Accessible / Efficient. | F25: ="#gid=1312646253&range=a"&ROW(B25) -> #gid=1312646253&range=a25
A26: 21 | B26: =QADATA!F32 -> Does your company have an Overtime work policy in place or staff are not allowed to work overtime? | C26: An overtime policy is important to have as it explains how employees will be compensated for any hours worked beyond their standard working hours. This helps to inform and ensure that employees are treated consistently and correctly compensated as well as to reduce incidents of overtime abuse by both employee and employer. This overtime policy must abided by any legal guidelines. | F26: ="#gid=1312646253&range=a"&ROW(B26) -> #gid=1312646253&range=a26
A27: 22 | B27: =QADATA!F33 -> What is the approach of your company regarding keeping original identification documents of your workers / employees? | C27: Keeping an employee's formal documentation such as a passport or ID card can be considered a violation as these documents are a connection to an individuals human rights. Keeping these documents can prohibit an individual to exercise their human rights. | F27: ="#gid=1312646253&range=a"&ROW(B27) -> #gid=1312646253&range=a27
A28: 23 | B28: =QADATA!F34 -> Do you have a procedure in place at time of employment to verify age of prospective employees? | C28: A documented procedure is a written description of the prescribed course of action or process to manage and control organisations activities. | F28: ="#gid=1312646253&range=a"&ROW(B28) -> #gid=1312646253&range=a28
A29: 24 | B29: =QADATA!F35 -> Are your employees selected based on gender, ethnicity, sexual orientation or political belief? | C29: Discrimination in the selection of employees can happen when your employer, workmate, or a company, treat an applicant less favourably than another person, because of who they are. Discrimination appears at all stages of employment: this could include examples such as how positions are advertised / how interviews are conducted / bias or unfair terms and conditions / denial of training, promotion, benefits / unfair dismissal or demoted. | F29: ="#gid=1312646253&range=a"&ROW(B29) -> #gid=1312646253&range=a29
A30: 25 | B30: =QADATA!F36 -> Are terms of employment communicated and agreed upon with an employee, written and in a local language? | C30: It is important that there is an agreement between employee and employer (terms of employment / contract). This is best done in writing, in a language (usually local) that both the employee and the employer understand. Both the employee and the employer should have a copy for their reference. | F30: ="#gid=1312646253&range=a"&ROW(B30) -> #gid=1312646253&range=a30
A31: 26 | B31: =QADATA!F37 -> Are payments of salary made according to the contract, directly to the employee and on a regular basis? | C31: To ensure that an employee is paid the full amount agreed in the contract between employer and employee and the employee should receive the payment directly. When payments, salary, wages are paid to a third party to distribute, there is a possibility of deductions to be made from the amount to be received by the employee. | F31: ="#gid=1312646253&range=a"&ROW(B31) -> #gid=1312646253&range=a31
A32: 27 | B32: =QADATA!F38 -> Are employees made aware of deductions (e.g. welfare, tax, accommodation etc..) and agree to them? | C32: As an employer the circumstances in which you can deduct money from employee pay is if the employee has agreed the deductions, this includes deductions for benefit contributions. These deductions should be clearly indicated in the payslip generated by the employer. | F32: ="#gid=1312646253&range=a"&ROW(B32) -> #gid=1312646253&range=a32
A33: 28 | B33: =QADATA!F39 -> Are employee payments properly documented? | C33: Documented information should be given to all employees when they are paid (Pay Slip). Contents of a Pay Slips should include: Employer’s name and address / Worker’s name and occupation / Period for which payment is made / Total salary or wages / Any deductions / Tax Information / The actual amount paid after tax deduction. If relevant to the calculation of pay: overtime rates / No. of ordinary, holiday and overtime hours worked/ Pension/ Bonus payment | F33: ="#gid=1312646253&range=a"&ROW(B33) -> #gid=1312646253&range=a33
A34: E | B34: =QADATA!F40 -> EQUAL OPPORTUNITY | C34: EQUAL OPPORTUNITY | F34: ="#gid=1312646253&range=a"&ROW(B34) -> #gid=1312646253&range=a34
A35: 29 | B35: =QADATA!F41 -> Does your company have a mechanism in place for reporting, investigating and addressing harassment | C35: Preventing addressing harassment, in particular sexual harassment in the workplace is an important element of ensuring an equal opportunity and anti-discrimination environment. Harassment is any improper and unwelcome conduct that might reasonably be expected or be perceived to cause offence or humiliation to another person. Harassment may take the form of words, gestures or actions which tend to annoy, alarm, abuse, demean, intimidate, belittle, humiliate or embarrass another or which create an intimidating, hostile or offensive work environment. Harassment normally implies a series of incidents. Sexual harassment is any unwelcome sexual advance, request for sexual favour, verbal or physical conduct or gesture of a sexual nature, or any other behaviour of a sexual nature that might reasonably be expected or be perceived to cause offence or humiliation to another, when such conduct interferes with work, is made a condition of employment or creates an intimidating, hostile or offensive work environment. While typically involving a pattern of behaviour, it can take the form of a single incident. Sexual harassment may occur between persons of the opposite or same sex. Both males and females can be either the victims or the offenders. | F35: ="#gid=1312646253&range=a"&ROW(B35) -> #gid=1312646253&range=a35
A36: 30 | B36: =QADATA!F42 -> Does your company encourage diversity and inclusion in the workplace? | C36: Having a diverse workforce can offer a company a wide range of ideas, skills and resources. Companies that embrace diversity, often reap the benefits of a broader market, improved productivity and a raised profile within the competitive marketplace. In many countries companies are legally required to obey certain practices that ensure discrimination is eliminated and expectations of equality are always met in the workplace. All workers must be treated equally and be given the same set of opportunities regardless of their race, age, gender, sexuality, disability, culture or anything else that might be discriminated against. The legislations in place are in existence to ensure that an inclusive working environment is always fostered, and that difference should never prove to be an obstacle in career progression or indeed getting a job in the first place. | F36: ="#gid=1312646253&range=a"&ROW(B36) -> #gid=1312646253&range=a36
A37: 31 | B37: =QADATA!F43 -> What percentage (%) of current total staff are women? Please provide your best estimate. | C37: Having a diverse workforce can offer a company a wide range of ideas, skills and resources. Companies that embrace diversity, often reap the benefits of a broader market, improved productivity and a raised profile within the competitive marketplace. | F37: ="#gid=1312646253&range=a"&ROW(B37) -> #gid=1312646253&range=a37
A38: 32 | B38: =QADATA!F44 -> What percentage (%) of current key staff (leadership) are women? Please provide your best estimate. | C38: Having a diverse workforce can offer a company a wide range of ideas, skills and resources. Companies that embrace diversity, often reap the benefits of a broader market, improved productivity and a raised profile within the competitive marketplace. | F38: ="#gid=1312646253&range=a"&ROW(B38) -> #gid=1312646253&range=a38
A39: 33 | B39: =QADATA!F45 -> What percentage (%) of staff have a disability? Please provide your best estimate. | C39: Without imposing a disproportionate or undue burden on the employer, companies must provide the necessary and appropriate modification and adjustments in the workplace, to ensure the employment of persons with disabilities. | F39: ="#gid=1312646253&range=a"&ROW(B39) -> #gid=1312646253&range=a39
A40: F | B40: =QADATA!F46 -> QUALITY MANAGEMENT | C40: QUALITY MANAGEMENT | F40: ="#gid=1312646253&range=a"&ROW(B40) -> #gid=1312646253&range=a40
...

Sheet ASSESSMENT
C2: HIDE THIS COL | F2: CONFIDENTIAL | J2: Legend | W2: HIDE THIS PART - DOESN'T EVER NEED TO BE UNHIDDEN. ANSWERS FROM HERE ARE FED FROM THE Q&A SHEET
F3: DRiVE Supplier Sustainability Questionnaire Assesment | J3: HIGH
F4: VENDOR NAME: | G4: =PROFILE!G27 -> 0 | J4: MEDIUM-HIGH
F5: DATE OF COMPLETION: | G5: =PROFILE!I47 -> 0 | J5: LOW-MEDIUM
F6: TENDER REFERENCE: | G6: ITB/1234/7891 | J6: LOW
F7: QUESTIONNAIRE RISK | G7: =G20 -> HIGH
C9: SECTION REF | F9: SECTION | G9: Risk Level per Category (Description) Low / Low - Medium / Medium - High / High | H9: Risk Level per Category (Score) | I9: Category Adherence (As a % of Low Risk) | J9: PSC Pre-Qualification Score out of 10 | O9: =I10 -> 0 | Q9: =J10 -> 0
C10: POLICY | F10: POLICY | G10: =IF(H10<1.5,"LOW",IF(H10<2.5,"LOW - MEDIUM",IF(H10<3.5,"MEDIUM - HIGH",IF(H10>=3.5,"HIGH")))) -> HIGH | H10: =SUMIF($C$25:$C$99,$C10,$H$25:$H$99) / COUNTIF($C$25:$C$99,$C10) -> 4 | I10: =(4-H10)/3 -> 0 | J10: =I10 -> 0 | O10: =I11 -> 0 | Q10: =J11 -> 0
C11: MGMTSYS | F11: MANAGEMENT SYSTEMS | G11: =IF(H11<1.5,"LOW",IF(H11<2.5,"LOW - MEDIUM",IF(H11<3.5,"MEDIUM - HIGH",IF(H11>=3.5,"HIGH")))) -> HIGH | H11: =SUMIF($C$25:$C$99,$C11,$H$25:$H$99) / COUNTIF($C$25:$C$99,$C11) -> 4 | I11: =(4-H11)/3 -> 0 | J11: =I11 -> 0 | O11: =I12 -> 0 | Q11: =J12 -> 0
C12: HUMRHGTS | F12: HUMAN RIGHTS | G12: =IF(H12<1.5,"LOW",IF(H12<2.5,"LOW - MEDIUM",IF(H12<3.5,"MEDIUM - HIGH",IF(H12>=3.5,"HIGH")))) -> HIGH | H12: =SUMIF($C$25:$C$99,$C12,$H$25:$H$99) / COUNTIF($C$25:$C$99,$C12) -> 4 | I12: =(4-H12)/3 -> 0 | J12: =I12 -> 0 | O12: =I13 -> 0 | Q12: =J13 -> 0
C13: LABSTDS | F13: LABOUR STANDARDS | G13: =IF(H13<1.5,"LOW",IF(H13<2.5,"LOW - MEDIUM",IF(H13<3.5,"MEDIUM - HIGH",IF(H13>=3.5,"HIGH")))) -> HIGH | H13: =SUMIF($C$25:$C$99,$C13,$H$25:$H$99) / COUNTIF($C$25:$C$99,$C13) -> 4 | I13: =(4-H13)/3 -> 0 | J13: =I13 -> 0 | O13: =I14 -> 0 | Q13: =J14 -> 0
C14: EQOPP | F14: EQUAL OPPORTUNITY | G14: =IF(H14<1.5,"LOW",IF(H14<2.5,"LOW - MEDIUM",IF(H14<3.5,"MEDIUM - HIGH",IF(H14>=3.5,"HIGH")))) -> HIGH | H14: =SUMIF($C$25:$C$99,$C14,$H$25:$H$99) / COUNTIF($C$25:$C$99,$C14) -> 4 | I14: =(4-H14)/3 -> 0 | J14: =I14 -> 0 | O14: =I15 -> 0 | Q14: =J15 -> 0
C15: QUMGMT | F15: QUALITY MANAGEMENT | G15: =IF(H15<1.5,"LOW",IF(H15<2.5,"LOW - MEDIUM",IF(H15<3.5,"MEDIUM - HIGH",IF(H15>=3.5,"HIGH")))) -> HIGH | H15: =SUMIF($C$25:$C$99,$C15,$H$25:$H$99) / COUNTIF($C$25:$C$99,$C15) -> 4 | I15: =(4-H15)/3 -> 0 | J15: =I15 -> 0 | O15: =I16 -> 0 | Q15: =J16 -> 0
C16: ENVMGMT | F16: ENVIRONMENTAL MANAGEMENT | G16: =IF(H16<1.5,"LOW",IF(H16<2.5,"LOW - MEDIUM",IF(H16<3.5,"MEDIUM - HIGH",IF(H16>=3.5,"HIGH")))) -> HIGH | H16: =SUMIF($C$25:$C$99,$C16,$H$25:$H$99) / COUNTIF($C$25:$C$99,$C16) -> 4 | I16: =(4-H16)/3 -> 0 | J16: =I16 -> 0 | O16: =I17 -> 0 | Q16: =J17 -> 0
C17: HS | F17: HEALTH & SAFETY | G17: =IF(H17<1.5,"LOW",IF(H17<2.5,"LOW - MEDIUM",IF(H17<3.5,"MEDIUM - HIGH",IF(H17>=3.5,"HIGH")))) -> HIGH | H17: =SUMIF($C$25:$C$99,$C17,$H$25:$H$99) / COUNTIF($C$25:$C$99,$C17) -> 4 | I17: =(4-H17)/3 -> 0 | J17: =I17 -> 0 | O17: =I18 -> 0 | Q17: =J18 -> 0
C18: CONT | F18: CONTRACTORS / SUBCONTRACTORS | G18: =IF(H18<1.5,"LOW",IF(H18<2.5,"LOW - MEDIUM",IF(H18<3.5,"MEDIUM - HIGH",IF(H18>=3.5,"HIGH")))) -> HIGH | H18: =SUMIF($C$25:$C$99,$C18,$H$25:$H$99) / COUNTIF($C$25:$C$99,$C18) -> 4 | I18: =(4-H18)/3 -> 0 | J18: =I18 -> 0 | M18: ="Average risk level - equal weighting by question: "&AVERAGE(H25:H99) -> Average risk level - equal weighting by question: 4 | O18: =I19 -> 0 | Q18: =J19 -> 0
C19: CONDUCT | F19: COMPANY CONDUCT | G19: =IF(H19<1.5,"LOW",IF(H19<2.5,"LOW - MEDIUM",IF(H19<3.5,"MEDIUM - HIGH",IF(H19>=3.5,"HIGH")))) -> HIGH | H19: =SUMIF($C$25:$C$99,$C19,$H$25:$H$99) / COUNTIF($C$25:$C$99,$C19) -> 4 | I19: =(4-H19)/3 -> 0 | J19: =I19 -> 0 | M19: ="Average risk level - equal weighting by section: "&AVERAGE(H10:H19) -> Average risk level - equal weighting by section: 4 | O19: =I20 -> 0 | P19: =I20 -> 0 | Q19: =J20 -> 0 | R19: =J20 -> 0
F20: TOTAL | G20: =IF(H20<1.5,"LOW",IF(H20<2.5,"LOW - MEDIUM",IF(H20<3.5,"MEDIUM - HIGH",IF(H20>=3.5,"HIGH")))) -> HIGH | H20: =AVERAGE(H25:H99) -> 4 | I20: =(4-H20)/3 -> 0 | J20: =SUM(J10:J19) -> 0
M21: TOOL KIT (Pillar 3) | R21: =G21 -> 0 | X21: LOW | Y21: LOW TO MEDIUM | Z21: MEDIUM TO HIGH | AA21: HIGH | AB21: Not selected
C22: SECTION | D22: QUESTION# | F22: =PROFILE!F21 -> 0 | G22: RESPONSE FROM VENDOR | H22: Risk Level per Question (Score) | I22: Risk Level per Question (Description) | J22: VENDOR ADDITIONAL COMMENTS | M22: VALIDATION & REMEDIATION ACTION PLAN | W22: Q | X22: 1 | Y22: 2 | Z22: 3 | AA22: 4 | AB22: 4
D23: =HELP!A1 -> 0 | F23: A glossary, additional definition and resources are at the bottom of this page | M23: The points below are for reference when engaging the supplier during contract management for areas identified for improvement or for validation
D24: A | F24: =VLOOKUP($D24,QADATA!$D$8:$K$83,3,FALSE) -> POLICY | W24: =D24 -> A
C25: POLICY | D25: 1 | F25: =VLOOKUP($D25,QADATA!$D$8:$K$83,3,FALSE) -> Does your company have a Freedom of Association and Right to Collective Bargaining policy in place? | G25: =VLOOKUP(D25,QUESTIONNAIRE!$C$7:$H$81,5,FALSE) -> 0 | H25: =IF(G25=X25, $X$22, IF(G25=Y25, $Y$22, IF(G25=Z25,$Z$22, IF(G25=AA25,$AA$22, $AB$22)))) -> 4 | I25: =IF(G25=X25, $X$21, IF(G25=Y25, $Y$21, IF(G25=Z25,$Z$21, IF(G25=AA25,$AA$21, $AB$21)))) -> Not selected | J25: =IF(VLOOKUP(D25,QUESTIONNAIRE!$C$7:$H$81,6,FALSE)="","",VLOOKUP(D25,QUESTIONNAIRE!$C$7:$H$81,6,FALSE)) | M25: {=IF(I25="Not selected","Question left blank",INDEX(ACTION!$A$7:$E100,MATCH($D25,ACTION!$A$7:$A100),MATCH($H25,ACTION!$A$5:$E$5)))} -> Question left blank | W25: =D25 -> 1 | X25: =VLOOKUP($W25,QADATA!$D$9:$K$83,4,FALSE) -> Yes - for more than 3 years | Y25: =VLOOKUP($W25,QADATA!$D$9:$K$83,5,FALSE) -> Yes - for less than 3 years | Z25: =VLOOKUP($W25,QADATA!$D$9:$K$83,6,FALSE) -> Referred to in another policy | AA25: =VLOOKUP($W25,QADATA!$D$9:$K$83,7,FALSE) -> No policy in place | AB25: =VLOOKUP($W25,QADATA!$D$9:$K$83,8,FALSE) -> 0
C26: POLICY | D26: 2 | F26: =VLOOKUP($D26,QADATA!$D$8:$K$83,3,FALSE) -> Does your company have a Wages, Working Hours and Other Conditions of Work policy in place? | G26: =VLOOKUP(D26,QUESTIONNAIRE!$C$7:$H$81,5,FALSE) -> 0 | H26: =IF(G26=X26, $X$22, IF(G26=Y26, $Y$22, IF(G26=Z26,$Z$22, IF(G26=AA26,$AA$22, $AB$22)))) -> 4 | I26: =IF(G26=X26, $X$21, IF(G26=Y26, $Y$21, IF(G26=Z26,$Z$21, IF(G26=AA26,$AA$21, $AB$21)))) -> Not selected | J26: =IF(VLOOKUP(D26,QUESTIONNAIRE!$C$7:$H$81,6,FALSE)="","",VLOOKUP(D26,QUESTIONNAIRE!$C$7:$H$81,6,FALSE)) | M26: {=IF(I26="Not selected","Question left blank",INDEX(ACTION!$A$7:$E100,MATCH($D26,ACTION!$A$7:$A100),MATCH($H26,ACTION!$A$5:$E$5)))} -> Question left blank | W26: =D26 -> 2 | X26: =VLOOKUP($W26,QADATA!$D$9:$K$83,4,FALSE) -> Yes - for more than 3 years | Y26: =VLOOKUP($W26,QADATA!$D$9:$K$83,5,FALSE) -> Yes - for less than 3 years | Z26: =VLOOKUP($W26,QADATA!$D$9:$K$83,6,FALSE) -> Referred to in another policy | AA26: =VLOOKUP($W26,QADATA!$D$9:$K$83,7,FALSE) -> No policy in place | AB26: =VLOOKUP($W26,QADATA!$D$9:$K$83,8,FALSE) -> 0
C27: POLICY | D27: 3 | F27: =VLOOKUP($D27,QADATA!$D$8:$K$83,3,FALSE) -> Does your company have a Forced and Compulsory Labour policy in place? | G27: =VLOOKUP(D27,QUESTIONNAIRE!$C$7:$H$81,5,FALSE) -> 0 | H27: =IF(G27=X27, $X$22, IF(G27=Y27, $Y$22, IF(G27=Z27,$Z$22, IF(G27=AA27,$AA$22, $AB$22)))) -> 4 | I27: =IF(G27=X27, $X$21, IF(G27=Y27, $Y$21, IF(G27=Z27,$Z$21, IF(G27=AA27,$AA$21, $AB$21)))) -> Not selected | J27: =IF(VLOOKUP(D27,QUESTIONNAIRE!$C$7:$H$81,6,FALSE)="","",VLOOKUP(D27,QUESTIONNAIRE!$C$7:$H$81,6,FALSE)) | M27: {=IF(I27="Not selected","Question left blank",INDEX(ACTION!$A$7:$E100,MATCH($D27,ACTION!$A$7:$A100),MATCH($H27,ACTION!$A$5:$E$5)))} -> Question left blank | W27: =D27 -> 3 | X27: =VLOOKUP($W27,QADATA!$D$9:$K$83,4,FALSE) -> Yes - for more than 3 years | Y27: =VLOOKUP($W27,QADATA!$D$9:$K$83,5,FALSE) -> Yes - for less than 3 years | Z27: =VLOOKUP($W27,QADATA!$D$9:$K$83,6,FALSE) -> Referred to in another policy | AA27: =VLOOKUP($W27,QADATA!$D$9:$K$83,7,FALSE) -> No policy in place | AB27: =VLOOKUP($W27,QADATA!$D$9:$K$83,8,FALSE) -> 0
C28: POLICY | D28: 4 | F28: =VLOOKUP($D28,QADATA!$D$8:$K$83,3,FALSE) -> Does your company have a Child Labour policy in place? | G28: =VLOOKUP(D28,QUESTIONNAIRE!$C$7:$H$81,5,FALSE) -> 0 | H28: =IF(G28=X28, $X$22, IF(G28=Y28, $Y$22, IF(G28=Z28,$Z$22, IF(G28=AA28,$AA$22, $AB$22)))) -> 4 | I28: =IF(G28=X28, $X$21, IF(G28=Y28, $Y$21, IF(G28=Z28,$Z$21, IF(G28=AA28,$AA$21, $AB$21)))) -> Not selected | J28: =IF(VLOOKUP(D28,QUESTIONNAIRE!$C$7:$H$81,6,FALSE)="","",VLOOKUP(D28,QUESTIONNAIRE!$C$7:$H$81,6,FALSE)) | M28: {=IF(I28="Not selected","Question left blank",INDEX(ACTION!$A$7:$E100,MATCH($D28,ACTION!$A$7:$A100),MATCH($H28,ACTION!$A$5:$E$5)))} -> Question left blank | W28: =D28 -> 4 | X28: =VLOOKUP($W28,QADATA!$D$9:$K$83,4,FALSE) -> Yes - for more than 3 years | Y28: =VLOOKUP($W28,QADATA!$D$9:$K$83,5,FALSE) -> Yes - for less than 3 years | Z28: =VLOOKUP($W28,QADATA!$D$9:$K$83,6,FALSE) -> Referred to in another policy | AA28: =VLOOKUP($W28,QADATA!$D$9:$K$83,7,FALSE) -> No policy in place | AB28: =VLOOKUP($W28,QADATA!$D$9:$K$83,8,FALSE) -> 0
C29: POLICY | D29: 5 | F29: =VLOOKUP($D29,QADATA!$D$8:$K$83,3,FALSE) -> Does your company have an Anti Discrimination policy in place? | G29: =VLOOKUP(D29,QUESTIONNAIRE!$C$7:$H$81,5,FALSE) -> 0 | H29: =IF(G29=X29, $X$22, IF(G29=Y29, $Y$22, IF(G29=Z29,$Z$22, IF(G29=AA29,$AA$22, $AB$22)))) -> 4 | I29: =IF(G29=X29, $X$21, IF(G29=Y29, $Y$21, IF(G29=Z29,$Z$21, IF(G29=AA29,$AA$21, $AB$21)))) -> Not selected | J29: =IF(VLOOKUP(D29,QUESTIONNAIRE!$C$7:$H$81,6,FALSE)="","",VLOOKUP(D29,QUESTIONNAIRE!$C$7:$H$81,6,FALSE)) | M29: {=IF(I29="Not selected","Question left blank",INDEX(ACTION!$A$7:$E100,MATCH($D29,ACTION!$A$7:$A100),MATCH($H29,ACTION!$A$5:$E$5)))} -> Question left blank | W29: =D29 -> 5 | X29: =VLOOKUP($W29,QADATA!$D$9:$K$83,4,FALSE) -> Yes - for more than 3 years | Y29: =VLOOKUP($W29,QADATA!$D$9:$K$83,5,FALSE) -> Yes - for less than 3 years | Z29: =VLOOKUP($W29,QADATA!$D$9:$K$83,6,FALSE) -> Referred to in another policy | AA29: =VLOOKUP($W29,QADATA!$D$9:$K$83,7,FALSE) -> No policy in place | AB29: =VLOOKUP($W29,QADATA!$D$9:$K$83,8,FALSE) -> 0
C30: POLICY | D30: 6 | F30: =VLOOKUP($D30,QADATA!$D$8:$K$83,3,FALSE) -> Does your company have a Quality Management Policy in place? | G30: =VLOOKUP(D30,QUESTIONNAIRE!$C$7:$H$81,5,FALSE) -> 0 | H30: =IF(G30=X30, $X$22, IF(G30=Y30, $Y$22, IF(G30=Z30,$Z$22, IF(G30=AA30,$AA$22, $AB$22)))) -> 4 | I30: =IF(G30=X30, $X$21, IF(G30=Y30, $Y$21, IF(G30=Z30,$Z$21, IF(G30=AA30,$AA$21, $AB$21)))) -> Not selected | J30: =IF(VLOOKUP(D30,QUESTIONNAIRE!$C$7:$H$81,6,FALSE)="","",VLOOKUP(D30,QUESTIONNAIRE!$C$7:$H$81,6,FALSE)) | M30: {=IF(I30="Not selected","Question left blank",INDEX(ACTION!$A$7:$E100,MATCH($D30,ACTION!$A$7:$A100),MATCH($H30,ACTION!$A$5:$E$5)))} -> Question left blank | W30: =D30 -> 6 | X30: =VLOOKUP($W30,QADATA!$D$9:$K$83,4,FALSE) -> Yes - for more than 3 years | Y30: =VLOOKUP($W30,QADATA!$D$9:$K$83,5,FALSE) -> Yes - for less than 3 years | Z30: =VLOOKUP($W30,QADATA!$D$9:$K$83,6,FALSE) -> Referred to in another policy | AA30: =VLOOKUP($W30,QADATA!$D$9:$K$83,7,FALSE) -> No policy in place | AB30: =VLOOKUP($W30,QADATA!$D$9:$K$83,8,FALSE) -> 0
C31: POLICY | D31: 7 | F31: =VLOOKUP($D31,QADATA!$D$8:$K$83,3,FALSE) -> Does your company have an Environmental Policy in place? | G31: =VLOOKUP(D31,QUESTIONNAIRE!$C$7:$H$81,5,FALSE) -> 0 | H31: =IF(G31=X31, $X$22, IF(G31=Y31, $Y$22, IF(G31=Z31,$Z$22, IF(G31=AA31,$AA$22, $AB$22)))) -> 4 | I31: =IF(G31=X31, $X$21, IF(G31=Y31, $Y$21, IF(G31=Z31,$Z$21, IF(G31=AA31,$AA$21, $AB$21)))) -> Not selected | J31: =IF(VLOOKUP(D31,QUESTIONNAIRE!$C$7:$H$81,6,FALSE)="","",VLOOKUP(D31,QUESTIONNAIRE!$C$7:$H$81,6,FALSE)) | M31: {=IF(I31="Not selected","Question left blank",INDEX(ACTION!$A$7:$E100,MATCH($D31,ACTION!$A$7:$A100),MATCH($H31,ACTION!$A$5:$E$5)))} -> Question left blank | W31: =D31 -> 7 | X31: =VLOOKUP($W31,QADATA!$D$9:$K$83,4,FALSE) -> Yes - for more than 3 years | Y31: =VLOOKUP($W31,QADATA!$D$9:$K$83,5,FALSE) -> Yes - for less than 3 years | Z31: =VLOOKUP($W31,QADATA!$D$9:$K$83,6,FALSE) -> Referred to in another policy | AA31: =VLOOKUP($W31,QADATA!$D$9:$K$83,7,FALSE) -> No policy in place | AB31: =VLOOKUP($W31,QADATA!$D$9:$K$83,8,FALSE) -> 0
C32: POLICY | D32: 8 | F32: =VLOOKUP($D32,QADATA!$D$8:$K$83,3,FALSE) -> Does your company have a Health and Safety policy in place? | G32: =VLOOKUP(D32,QUESTIONNAIRE!$C$7:$H$81,5,FALSE) -> 0 | H32: =IF(G32=X32, $X$22, IF(G32=Y32, $Y$22, IF(G32=Z32,$Z$22, IF(G32=AA32,$AA$22, $AB$22)))) -> 4 | I32: =IF(G32=X32, $X$21, IF(G32=Y32, $Y$21, IF(G32=Z32,$Z$21, IF(G32=AA32,$AA$21, $AB$21)))) -> Not selected | J32: =IF(VLOOKUP(D32,QUESTIONNAIRE!$C$7:$H$81,6,FALSE)="","",VLOOKUP(D32,QUESTIONNAIRE!$C$7:$H$81,6,FALSE)) | M32: {=IF(I32="Not selected","Question left blank",INDEX(ACTION!$A$7:$E100,MATCH($D32,ACTION!$A$7:$A100),MATCH($H32,ACTION!$A$5:$E$5)))} -> Question left blank | W32: =D32 -> 8 | X32: =VLOOKUP($W32,QADATA!$D$9:$K$83,4,FALSE) -> Yes - for more than 3 years | Y32: =VLOOKUP($W32,QADATA!$D$9:$K$83,5,FALSE) -> Yes - for less than 3 years | Z32: =VLOOKUP($W32,QADATA!$D$9:$K$83,6,FALSE) -> Referred to in another policy | AA32: =VLOOKUP($W32,QADATA!$D$9:$K$83,7,FALSE) -> No policy in place | AB32: =VLOOKUP($W32,QADATA!$D$9:$K$83,8,FALSE) -> 0
C33: POLICY | D33: 9 | F33: =VLOOKUP($D33,QADATA!$D$8:$K$83,3,FALSE) -> Does your company have a Code of Conduct (or ethical conduct policy)? | G33: =VLOOKUP(D33,QUESTIONNAIRE!$C$7:$H$81,5,FALSE) -> 0 | H33: =IF(G33=X33, $X$22, IF(G33=Y33, $Y$22, IF(G33=Z33,$Z$22, IF(G33=AA33,$AA$22, $AB$22)))) -> 4 | I33: =IF(G33=X33, $X$21, IF(G33=Y33, $Y$21, IF(G33=Z33,$Z$21, IF(G33=AA33,$AA$21, $AB$21)))) -> Not selected | J33: =IF(VLOOKUP(D33,QUESTIONNAIRE!$C$7:$H$81,6,FALSE)="","",VLOOKUP(D33,QUESTIONNAIRE!$C$7:$H$81,6,FALSE)) | M33: {=IF(I33="Not selected","Question left blank",INDEX(ACTION!$A$7:$E100,MATCH($D33,ACTION!$A$7:$A100),MATCH($H33,ACTION!$A$5:$E$5)))} -> Question left blank | W33: =D33 -> 9 | X33: =VLOOKUP($W33,QADATA!$D$9:$K$83,4,FALSE) -> Yes - for more than 3 years | Y33: =VLOOKUP($W33,QADATA!$D$9:$K$83,5,FALSE) -> Yes - for less than 3 years | Z33: =VLOOKUP($W33,QADATA!$D$9:$K$83,6,FALSE) -> Referred to in another policy | AA33: =VLOOKUP($W33,QADATA!$D$9:$K$83,7,FALSE) -> No policy in place | AB33: =VLOOKUP($W33,QADATA!$D$9:$K$83,8,FALSE) -> 0
C34: POLICY | D34: 10 | F34: =VLOOKUP($D34,QADATA!$D$8:$K$83,3,FALSE) -> Does your company have a Corporate Social Responsibility policy? | G34: =VLOOKUP(D34,QUESTIONNAIRE!$C$7:$H$81,5,FALSE) -> 0 | H34: =IF(G34=X34, $X$22, IF(G34=Y34, $Y$22, IF(G34=Z34,$Z$22, IF(G34=AA34,$AA$22, $AB$22)))) -> 4 | I34: =IF(G34=X34, $X$21, IF(G34=Y34, $Y$21, IF(G34=Z34,$Z$21, IF(G34=AA34,$AA$21, $AB$21)))) -> Not selected | J34: =IF(VLOOKUP(D34,QUESTIONNAIRE!$C$7:$H$81,6,FALSE)="","",VLOOKUP(D34,QUESTIONNAIRE!$C$7:$H$81,6,FALSE)) | M34: {=IF(I34="Not selected","Question left blank",INDEX(ACTION!$A$7:$E100,MATCH($D34,ACTION!$A$7:$A100),MATCH($H34,ACTION!$A$5:$E$5)))} -> Question left blank | W34: =D34 -> 10 | X34: =VLOOKUP($W34,QADATA!$D$9:$K$83,4,FALSE) -> Yes - for more than 3 years | Y34: =VLOOKUP($W34,QADATA!$D$9:$K$83,5,FALSE) -> Yes - for less than 3 years | Z34: =VLOOKUP($W34,QADATA!$D$9:$K$83,6,FALSE) -> Referred to in another policy | AA34: =VLOOKUP($W34,QADATA!$D$9:$K$83,7,FALSE) -> No policy in place | AB34: =VLOOKUP($W34,QADATA!$D$9:$K$83,8,FALSE) -> 0
