Workbook

Sheet Summary BoQ
A1: Summary Bill of Quantities (BoQ) for the Rehabilitation of 8 Damaged Houses in Al-Moutanazah Zone, Al-Baker Neighborhood, Heet District, Anbar Governorate خلاصة جداول الكميات لأعادة تأهيل 8 منازل متضررة في منطقة المتنزه، حي البكر، قضاء هيت، محافظة الانبار
A2: This is the summary BoQ to be costed - the detailed BoQs for each house are described in the next sheets. | E2: ملخص جدول الكميات ليتم تسعيرهُ-الكشوفات لكل منزل على حدٍ في الاوراق المُرفقة
A3: GENERAL NOTES: | E3: معلومات عامة
A4: 1 | B4: The Work items are to be implemented as per the conditions, details and specifications of the RFQ and in accordance with the UN-Habitat supervising engineer's instructions. | E4: يجب تنفيذ بنود العمل وفقا للشروط والتفاصيل والمواصفات الخاصة بالمناقصة وطبقا لتعليمات المهندس المشرف للهابيتات
A5: 2 | B5: Prices should include provision of all necessary materials, equipment and workmanship to complete the items. | E5: يجب أن تشمل الأسعار توفير جميع المواد والمعدات والأيدي العاملة لتنفيذ جميع الفقرات
A6: 3 | B6: The contractor must provide detailed time schedule, detailing all activities in logical sequence to complete the works within the project duration. | E6: يجب علي المقاول تقديم جدول زمني مفصل ، يفصل جميع الانشطه في تسلسل منطقي لإكمال الاعمال خلال مده المشروع
A7: 4 | B7: All quoted prices include removing the existing damaged items (fire or war damaged), which also include washing (and if needed scrapping) ceiling and walls from ash and to be sure to deliver the clean unit to the beneficiaries. | E7: تشمل جميع الأسعار المقدمه أزاله العناصر التالفة الموجودة (الحريق أو الأجزاء المتضررةبسبب الحرب) ، والتي تشمل أيضا غسل (وإذا لزم الأمر قشط) السقف والجدران من الرماد والتاكد من تسليم وحده نظيفه للمستفيدين
A8: 5 | B8: The contractor must provide all samples. The samples must be approved by the UN-Habitat Engineer. | E8: يجب علي المقاول تقديم جميع العينات للمواد الأنشائية وغيرها. وتكون بموافقة المهندس المشرف للهابيتات
A9: 6 | B9: Work items to be implemented as per the conditions and specifications of the tender and in accordance with the UN-Habitat supervision engineer's instructions. | E9: بنود العمل المقرر تنفيذها تكون وفقا لشروط ومواصفات المناقصة وطبقا لتعليمات المهندس المشرف للهابيتات
A10: 7 | B10: In an effort to support the country's economy and reduce the impact of long-haul transportation on the environment, construction materials will be sourced from the local market and from Iraqi producers (unless unavailable). | E10: في محاولة لدعم اقتصاد البلد والحد من تاثير النقل البعيد المدى علي البيئة ، سيتم الحصول علي مواد البناء من السوق المحلية ومن المنتجين العراقيين (إلا في حالة كونها غير متوفرة)
A11: 8 | B11: To support local livelihoods in the project area, the Contractor must be willing to recruit local unskilled labourers among unemployed residents of Heet distrit – including masonry workers, metalworkers, plasterers/painters and cleaners (including women) – that will be identified in coordination with the UN-Habitat site team. Skilled labour and key technical staff are excluded from this requirement. | E11: لدعم سبل العيش المحلية في منطقه المشروع ، يجب علي المقاول ان يكون علي استعداد لتوظيف العمال المحليين من بين المقيمين العاطلين عن العمل في قضاء هيت-بما في ذلك عمال البناء وعمال المعادن والجبس/ الصباغين والمنظفين (بما في ذلك النساء)- ويستثني من هذا الشرط العمالة الماهرة والموظفون التقنيون الرئيسيون
A12: 9 | B12: The contractor will avoid blocking the streets and creating traffic hazards and annoyance to the neighbours with deposits of large quantities of construction materials and equipment - other than on a temporary basis for loading and downloading. Efforts should be also made to reduce polluting activities and any negative impact of the construction works on the environment. | E12: على المقاول تجنب سد الشوارع وخلق مخاطر مروريه وإزعاج لجيرانه برواسب بكميات كبيره من مواد ومعدات البناء-بخلاف الإيداع والتحميل بصوره مؤقته. وينبغي أيضا بذل الجهود للحد من الانشطه الملوثة وأي اثر سلبي لاعمال التشييد علي البيئة.
A13: # | B13: Item Description | C13: Unit | D13: Qty. | E13: Unit Price US$ | F13: Total Price US$
A14: 1 | B14: Civil Works - General Notes: The contractor's responsibility includes conducting all necessary tests and providing all samples. The samples must be approved by the UN-Habitat Engineer. In cases where necessary works are not mentioned in the BoQ, the contractor should add this item to the BoQ before starting the works, otherwise the contractor should execute this work for no extra cost and does not have any right to ask for any variations orders. The prices include painting all iron materials (pipes, angles, frames, etc) with two (2) layers of antirust paint and two layers of good quality oil paint, both produced in Iraq. | E14: الأعمال المدنية - ملاحظات عامة: توفير المواد والعمالة والمعدات اللازمة لتنفيذ البنود الموضحة أدناه ، وجميع تلك الأنشطة المطلوبة لإنجاز المهمة في كل جانب وتفاصيل حسب تعليمات المهندس المشرف للهابيتات. يجب أن تكون جميع الأعمال والمواد التي يقدمها المقاول مطابقة للمواصفات القياسية العراقية ذات الصلة وشروط ومواصفات المناقصة ووفقًا لتعليمات المهندس المشرف للهابيتات. يجب أن تشمل الأسعار توفير وتوريد وتركيب جميع المواد والمعدات اللازمة لإكمال البنود وفقًا لجداول الكميات والرسومات الفنية إن وجدت. تتضمن مسؤولية المقاول أيضًا القيام بكل الاختبارات اللازمة. في الحالات التي لم يتم فيها ذكر بعض الأعمال في جداول الكميات وتم ذكرها في الرسومات الفنية ، يجب على المقاول إضافة هذا البند إلى جداول الكميات قبل البدء في الأعمال ، وإلا يجب على المقاول تنفيذ هذا العمل دون أي تكلفة إضافية وليس له أي حق في طلب أي أوامر الاختلافات. تشمل الأسعار طلاء جميع المواد الحديدية (الأنابيب والزوايا والإطارات وغيرها) بطبقتين (2) من الطلاء المضاد للصدأ وطبقتين من الطلاء الزيتي ذي النوعية الجيدة ، وكلاهما منتج في العراق. سيتجنب المقاول إغلاق الشوارع وخلق مخاطر مرورية وإزعاج للجيران بوضع كميات كبيرة من مواد البناء والمعدات - عدا على أساس مؤقت للتحميل والتنزيل.
A15: 1-1 | B15: Reinforced Concrete: Provision of materials, labour and equipment and all requirements for casting reinforced concrete (1:2:4), for foundations, roof, beams, columns, slab, stairs and concrete parapets, including form works and steel reinforcement. Slopes of flat surfaces should be directed towards the outside. The Contractor should ensure the highest standards of workmanship by skilled or appropriately trained workmen. The Contractor will use ordinary cement produced in Iraq (same specifications as Portland Cement) and best quality aggregates, mixed with fresh and clear water. Vibrators or other suitable equipment will be used to ensure that the cement pour is free from air bubbles and voids within the cement mixture. The concrete will be cured appropriately to increase durability. All works should be done according to the instructions of UN-Habitat supervising Engineer. | C15: M3 | D15: ='A01'!D5+'A02'!D5+'A03'!D5+'A58'!D5+'A63'!D5+'A64'!D5+'A66'!D5+'A67'!D5 -> 13 | F15: =D15*E15 -> 0 | G15: أعمال الكونكريت المسلح: توفير المواد والايدي العاملة و المعدات اللازمة لتنفيذ أعمال الكونكريت المسلح (1:2:4) للأسس , الأسقف, الجسور, الأدراج و المظلات. السعر يشمل أعمال القالب الخشبي و حديد التسليح و كل ما يلزم لإأنجاز العمل. يجب مراعاة اوزان الصب و توفير ميلان في الصب عند الحاجة حسب توجيهات المهندس المشرف يجب أن يتم تنفيذ العمل بأفضل المواصفات الفنية و عن طريق تعوفير ايدي عاملة ماهرة. يجب استخدام السمنت المصنوع في العراق بنفس مواصفات السمنت البورتلاندي ونوعية عالية الجودة من الحصى و الرمل و تخلط بالماء النظيف و يجب كذلك استعمال الهزازات لضمان عدم وجود فجوات هوائية داخل الصب و حسب المواصفات العراقية يجب ان تتم جميع الأعمال حسب توجيهات المهندس المشرف.
A16: 1-2 | B16: Concrete masonry wall : Provision of materials and labour to build external and internal walls above or below Damp Proof Course (DPC) in hollow concrete blocks (20x20x40cm) or (20x15x40cm) produced by Iraqi factories. Each course will be bound by an ordinary cement mortar (1:3) joint. Cement mortar will fill any voids and gaps. Blocks will be flush and level. In correspondence of the openings (windows and doors), workers will use a half block with the smooth side facing outwards. Workers will avoid using damaged/broken blocks. A mason's line will be used as a vertical guide. Excess mortar will be removed before it hardens. The price will include the installation of 2 levelled angle steel sections (size 2.5"x2.5"x4 mm), as lintels above the doors and windows, extending at least 25cm on each side of the openings, welded together by min. 3 iron bars corresponding to the width of the wall and covered by iron mesh. The steel sections will be painted with an anti-rust coat primer produce in Iraq, in accordance to the instructions of the UN-Habitat supervising Engineer. | C16: M3 | D16: ='A01'!D6+'A02'!D6+'A03'!D6+'A58'!D6+'A63'!D6+'A64'!D6+'A66'!D6+'A67'!D6 -> 38 | F16: =D16*E16 -> 0 | G16: أعمال بناء البلوك الاسمنتي: تجهيز المواد و الايدي العاملة و المعدات اللازمة لتنفيذ أعمال بناء البلوك الاسمنتي المجوف , لبناء القواطع الداخلية و الجدران الخارجية و سور السطح و عتبات النوافذ. باستخدام البلوك الاسمنتي المجوف قياس (20*40*20 سم ) أو (20*15*40 سم) و مونة اسمنتية 1:3 . و يشمل العمل تثبيت النوافذ و الأبواب. في حال وجود فتحات يجب تثبيت هيكل معدني من زوايا الحديد (50*50*4 ملم) بشكل أفقي في أعلى الفتحة, يتداخل 25 سم مع الجدران الجانبية من كل جهة يتم صبغ الهيكل المعدني بمواد مضادة للصدأ. و كل ما يلزم لإأنجاز العمل. جمييع الأعمال يجب أن تكون حسب توجيهات المهندس المشرف.
A17: 1-3 | B17: Stone masonry: Stone walls and parapets will be built using stone quarried locally using traditional building techniques. Provision of materials, labour and equipment to build external and internal walls above or below (DPC), fence and parapet by using 30 cm-wide stone with ordinary cement mortar (1:3), including fixing the windows and doors. The stones must be properly cleaned from all forms of dirt (dust, mud, or organic materials). Cracked stone shall not be used. Stones should be wetted before being placed on the mortar. Every stone is carefully fitted to the adjacent stone so as to form neat and close joints. All spaces between two stones must be filled with mortar (no stone shall touch each other directly). The price includes installing 2 precisely levelled angle steel sections (size 2.5"x2.5"x4 mm), as lintels above the doors and windows, extending at least 25cm on each side of the openings, welded together by min. 2 iron bars corresponding to the width of the wall and covered by iron mesh. The steel sections will be painted with an anti-rust coat (as mentioned in the above instructions) and in accordance to the instructions of the UN-Habitat supervising Engineer. | C17: M3 | D17: ='A01'!D7+'A02'!D7+'A03'!D7+'A58'!D7+'A63'!D7+'A64'!D7+'A66'!D7+'A67'!D7 -> 30 | F17: =D17*E17 -> 0 | G17: أعمال البناء بالحجر: تجهيز المواد و الايدي العاملة و المعدات اللازمة لتنفيذ أعمال بناء بالحجر, لبناء القواطع الداخلية و الجدران الخارجية و سور السطح و عتبات النوافذ. باستخدام الحجر المحلي الصنع بعرض من 30 الى 40 سم حسب توجيه المهندس المشرف. يجب تنظيف الأحجار بشكل صحيح من جميع أشكال الأوساخ (الغبار أو الطين أو المواد العضوية). لا يجوز استخدام الحجر المشقق. يجب ترطيب الأحجار قبل وضع المونة. يجب تركيب الحجر بعناية بالحجر المجاور حتى يتم تشكيل مفاصل أنيقة وإغلاقها بإستخدام مونة اسمنتية 1:3 على ان يتم ملئ الفواصل الجانبية بين البلوك بالمونة. يشمل العمل تثبيت النوافذ و الأبواب. في حال وجود فتحات يجب تثبيت هيكل معدني من زوايا الحديد (50*50*4 ملم) بشكل أفقي في أعلى الفتحة, يتداخل 25 سم مع الجدران الجانبية من كل جهة يتم صبغ الهيكل المعدني بمواد مضادة للصدأ. و كل ما يلزم لإنجاز العمل. جمييع الأعمال يجب أن تكون حسب توجيهات المهندس المشرف.
A18: 1-4 | B18: Cement plastering: Provision of materials, labour and equipment and all other activities that are required for plastering exterior and interior walls, partitions, ceilings and parapets using ordinary cement produced in Iraq (same specifications as Portland Cement) and sand (ratio of 1:3). Plaster finishing should result in straight and smooth surfaces, with clear and straight edges and corners. Plastering will be done by skilled workmanship using an alluminium hollow tube tool and reference strips placed at no more than 1 m distance on large surfaces. The works unit price will also include the removal and disposal of any loose plaster and dust, reparing any cracks and damaged parts of walls and ceilings prior to plastering. Walls will be sprayed with water to help the new plaster to adhere to the old wall. The contractor will complete the job as per the instructions of UN-Habitat supervising engineer. | C18: M2 | D18: ='A01'!D8+'A02'!D8+'A03'!D8+'A58'!D8+'A63'!D8+'A64'!D8+'A66'!D8+'A67'!D8 -> 885 | F18: =D18*E18 -> 0 | G18: أعمال اللبخ الاسمنتي: توفير المواد و الايدي العاملة و المعدات اللازمة لإنجاز أعمال اللبخ الاسمنتي للجدران الخارجية و الداخلية و الأسقف و سور السطح ( ستارة), باستخدام الاسمنت و الرمل بنسبة خلط (1:3), يجب أن يكون السطح النهائي ناعماً و مستوياً, و الزوايا يجب ان تكون حادة و مستقيمة, في حال وجود مساحات كبيرة يجب استخدام دليل استقامة شاقولي بتباعد أقصى 1 م, يشمل العمل ازالة اللبخ المتضرر و إصلاح الجدران المتضررة, و إتمام العمل بشكل كامل وفق توجيهات المهندس المشرف.
A19: 1-5 | B19: Gypsum Plastering: Provision of materials, labour and equipment and all other necessary activities that are required for plastering the interior walls and ceilings with gypsum sourced in Iraq. Large plastering areas will be divided into smaller more manageable segments by using traditional plaster 'guides' created every 70- 80 cm. Plastered surfaces shall be smooth and all edges straight and levelled. The contractor shall perform all other activities that are required to make the job complete in every aspect and detailed, as per the instructions of UN-Habitat supervising engineer.The works unit price will also include the removal and disposal of any loose plaster and dust, reparing any cracks and damaged parts of walls and ceilings prior to plastering. | C19: M2 | D19: ='A01'!D9+'A02'!D9+'A03'!D9+'A58'!D9+'A63'!D9+'A64'!D9+'A66'!D9+'A67'!D9 -> 720 | F19: =D19*E19 -> 0 | G19: أعمال اللبخ الجصي: توفير المواد و الايدي العاملة و المعدات اللازمة لإنجاز أعمال اللبخ الجصي للجدران الداخلية , باستخدام اللبخ الجصي, يجب أن يكون السطح النهائي ناعماً و مستوياً, و الزوايا يجب ان تكون حادة و مستقيمة, في حال وجود مساحات كبيرة يجب استخدام دليل استقامة شاقولي بتباعد أقصى 80 سم, يشمل العمل ازالة اللبخ المتضرر و إصلاح الجدران المتضررة, و إتمام العمل بشكل كامل وفق توجيهات المهندس المشرف.
A20: 1-6 | B20: Roof Maintenance: Remove existing damaged concrete roofing tiles, old mastic, underlying sand bed and accumulated dirt. Supply materials and labour to lay hot poured bitumen, after cleaning the roof surfaces, laying polyehylene s, styrofoam s and clean river sand to form slopes, followed by the laying of a new concrete roofing tiles (80 x 80 x 4cm) with adequate slopes towards the roof drains, filling the joints with an approved roofing mastic treated by heat. All works must be done according to the instructions of the UN-Habitat supervising engineer. | C20: M2 | D20: ='A01'!D10+'A02'!D10+'A03'!D10+'A58'!D10+'A63'!D10+'A64'!D10+'A66'!D10+'A67'!D10 -> 60 | F20: =D20*E20 -> 0 | G20: أعمال صيانة الأسطح: توفير المواد و الايدي العاملة و المعدات اللازمة لإزالة طبقات التسطيح الموجودة والمتضررة حسب تقييم المهندس المشرف، الماستك، البلاطات الكونكريتية (شتايكَر)، الرمل النهري و استبدالها بطبقة من الماستك الساخن بعد تنظيف السطح جيداً وفرش طبقة من البولي اثيلين و طبقة من الستايروفوم و من ثم وضع طبقة رمل نهري و تسليطه بالاتجاه المناسب و بعد ذلك وضع البلاطات الكونكريتية (الشتايكَر) بقياس (80x80x4 سم) و تسليطها بالميل المناسب بإتجاه التصريف وبعدها يتم ملئ المفاصل الطولية و العرضية بالماستك الساخن. جميع الأعمال يجب ان تتم بموافقة المهندس المشرف.
A21: 1-7 | B21: Traditional "mosaic"floor tiles: Remove the existing tiles, old mortar and bed, supply materials and lay new polished Kashi ("mosaic" - Venetian style) floor tiles (30cm x 30cm) using cement mortar (1:3). The price includes the removal and safe disposal of all construction debris and waste in a landfill site located outside of the municipality boundary, approved by the Municipality and the UN-Habitat supervising Engineer, in an environmentally friendly manner and in line with the Mosul Municipality standards. | C21: M2 | D21: ='A01'!D11+'A02'!D11+'A03'!D11+'A58'!D11+'A63'!D11+'A64'!D11+'A66'!D11+'A67'!D11 -> 230 | F21: =D21*E21 -> 0 | G21: بلاط موازييك: توفير المواد و الايدي العاملة و المعدات اللازمة لإزالة البلاط الموزاييك القديم و إستبداله ببلاط جديد محلي (30x30 سم) بإستخدام مونة السمنت والرمل بنسبة خلط (1:3) و يشمل السعر ازالة الانقاض و رميها في المكان المخصص من قبل البلدية تحت اشراف البلدية والمهندس المشرف بطريقة صديقة للبيئة وبما يتماشى مع معايير بلدية الموصل.
A22: 1-8 | B22: Install new wooden door: Provision of materials, labour and equipment and all other necessary activities that are required for the installation of wooden hinged doors (approx. 2.1x1 m) produced in Iraq, with its frame. The price includes supplying and fixing the frame, all required locks, hinges etc, and also repairs of any damages that may occur to the wall or finishing due to the replacement process or refixing. Price includes two (2) coats of good quality semigloss oil paint produced in Iraq. All gaps between walls and door frames will be filled with a polyurethane (PU) joint sealant to ensure an air tight joint. The price includes the removal and disposal of the old damaged doors and/or frames. All works should be done according to instructions of UN-Habitat supervising engineer. | C22: No. | D22: ='A01'!D12+'A02'!D12+'A03'!D12+'A58'!D12+'A63'!D12+'A64'!D12+'A66'!D12+'A67'!D12 -> 12 | F22: =D22*E22 -> 0 | G22: الأبواب الخشبية: توفير المواد والايدي العاملة و المعدات اللازمة لتركيب باب خشبي مع إطار, متضمنة كافة الاكسسوارات و الايديات و مفاصل الحركة و الأقفال, يتم صبغ الباب و الاطار بطبقتين من الصبغ الدهني, يجب صقل الاصطح و الحواف,إصلاح الأضرار ضمن الجدران الناتجة عن التركيب, يتم ملء الفراغات بين الباب و الجدران بواسطة بوليوريتان ماستيك. يجب إتمام العمل بشكل كامل و جاهز للتشغيل و يجب ازالة الابواب القديمة و رميها في المكان المحدد من قبل البلدية وفق توجيهات المهندس المشرف.
A23: 1-9 | B23: Install new steel door: Provision of materials, labour and equipment and all other necessary activities that are required for the installation of steel hinged doors (approx. 2.1x1 m), produced in Iraq, with their frame and accessories.the door consist of 2 layers of steel ss and filled with Styrofoam in between. The price includes supplying and fixing the frame, all required locks, hinges,and also the repair of any damages that may occur to the wall or finishing due to the replacement and/or refixing process. All gaps between walls and door frames will be filled with a polyurethane (PU) joint sealant to ensure an air tight joint. Price also includes the painting of two (2) coats of red oxide anti-rust primer produced in Iraq, followed by two (2) coats of good quality semigloss oil paint. All works should be done according to instructions of UN-Habitat supervising engineer. | C23: No. | D23: ='A01'!D13+'A02'!D13+'A03'!D13+'A58'!D13+'A63'!D13+'A64'!D13+'A66'!D13+'A67'!D13 -> 11 | F23: =D23*E23 -> 0 | G23: الأبواب المعدنية الداخلية: توفير المواد والايدي العاملة و المعدات اللازمة لتركيب باب معدني من انتاج عراقي مع إطار, متضمنة كافة الاكسسوارات و الايديات و مفاصل الحركة و الأقفال, يتم صبغ الباب و الاطار بطبقتين من الصبغ المانع للصدأ ومن ثم طبقتين من الصبغ الدهني, يجب صقل الاصطح و الحواف,إصلاح الأضرار ضمن الجدران الناتجة عن التركيب, يتم ملء الفراغات بين الباب و الجدران بواسطة بوليوريتان ماستيك. يجب إتمام العمل بشكل كامل و جاهز للتشغيل و يجب ازالة الابواب القديمة و رميها في المكان المحدد من قبل البلدية وفق توجيهات المهندس المشرف.
A24: 1-10 | B24: Install new external steel door: Provision of materials, labor, equipment and all other necessary activities that are required for removing existing damaged exterior steel doors and supplying and installing new steel doors, produced in Iraq, with frames and all required handles, hinges, locks, etc, the door consist of 2 layers of steel ss and filled with Styrofoam in between . Price also includes painting with two (2) coats of red oxide anti-rust primer produced in Iraq, followed by two (2) coats of good quality semigloss oil paint produced in Iraq. Price also includes repairing and straightening the edges of the wall receiving the new door. All gaps between walls and steel door frames will be filled with a polyurethane (PU) joint sealant. The price includes the disposal of the old damaged steel doors and/or frames. All works should be done according to instructions of UN-Habitat supervising engineer. | C24: M2 | D24: ='A01'!D14+'A02'!D14+'A03'!D14+'A58'!D14+'A63'!D14+'A64'!D14+'A66'!D14+'A67'!D14 -> 49 | F24: =D24*E24 -> 0 | G24: باب الرئيسي الحديدي: توفير المواد والايدي العاملة و المعدات اللازمة لتركيب باب معدني جديد من انتاج عراقي مع إطار, متضمنة كافة الاكسسوارات و الايديات و مفاصل الحركة و الأقفال, يتم صبغ الباب و الاطار بطبقتين من الصبغ المانع للصدأ ومن ثم طبقتين من الصبغ الدهني, يجب صقل الاصطح و الحواف,إصلاح الأضرار ضمن الجدران الناتجة عن التركيب, يتم ملء الفراغات بين الباب و الجدران بواسطة بوليوريتان ماستيك. يجب إتمام العمل بشكل كامل و جاهز للتشغيل و يجب ازالة الابواب القديمة و رميها في المكان المحدد من قبل البلدية وفق توجيهات المهندس المشرف.
A25: 1-11 | B25: Installing new steel windows with protection bars: Provision materials, labor, equipment and all other necessities and requirements for installing new steel windows on openings on the street, with steel protection bars and antifly mesh. The works also include supply of handles, hinges and all required accessories for completing the work, as well painting of all steel work with two (2) coats of red oxide primer paint produced in Iraq, followed by two (2) coats of good quality semigloss oil paint produced in Iraq. Price shall also includes repairing, straightening and modifying the edges of the wall. All gaps between walls and door frames will be filled with a polyurethane (PU) joint sealant to ensure an air tight joint. The price includes the removal and disposal of the old damaged windows. All works to be done according to instructions of UN-Habitat supervising engineer. | C25: M2 | D25: ='A01'!D15+'A02'!D15+'A03'!D15+'A58'!D15+'A63'!D15+'A64'!D15+'A66'!D15+'A67'!D15 -> 36 | F25: =D25*E25 -> 0 | G25: تجهيز و تثبيت نافذة معدنية مع قضبان حماية معدنية (كتيبة) : توفير المواد و الايدي العاملة و المعدات اللازمة لتركيب نافذة من الحديد مع قضبان حماية حديدة (كتيبه) وكذلك شبك حماية من الحشرات, متضمنة كافة الاكسسوارات و الايديات و مفاصل الحركة, الزجاج شفاف سمك 4 ملم, يجب ان يكون خال من الخدوش و الأضرار و التموجات, يتم تثبيته على الهيكل المعدني بواسطة المعجون بشكل محكم. يتم صبغ الباب و الاطار بطبقتين من الصبغ المانع للصدأ ومن ثم طبقتين من الصبغ الدهني حتى التستسير, يجب صقل الاصطح و الحواف. يجب إصلاح الأضرار ضمن الجدران الناتجة عن التركيب,يتم ملء الفراغات بين النافذة و الجدران بواسطة بوليوريتان ماستيك. وفق توجيهات المهندس المشرف.
A26: 1-12 | B26: Windows Glass: Provision of materials, labour and supply materials to install and fix 4mm clear glass for existing windows wherever needed/ The glass shall not have any scratches, cracks, splinters or waves and all glazing works shall be done according to instructions of UN-Habitat supervising Engineer. | C26: M2 | D26: ='A01'!D16+'A02'!D16+'A03'!D16+'A58'!D16+'A63'!D16+'A64'!D16+'A66'!D16+'A67'!D16 -> 80 | F26: =D26*E26 -> 0 | G26: زجاج النوافذ: توفير المواد و الايدي العاملة و المعدات اللازمة لتركيب زجاج شفاف للنوافذ سمك 4 ملم, للنوافذ المتضررة. يجب ان يكون الزجاج خال من الخدوش و الأضرار و التموجات, يجب إتمام العمل بشكل كامل وفق توجيهات المهندس المشرف.
A27: 1-13 | B27: Oil-based painting: Provision of materials, labour, equipment and all other necessary activities that are required for painting walls and any other places defined by the UN-Habitat engineer with oil-based paint, subject to approval of UN-Habitat supervision engineer. A layer of primer paint must be applied before two (2) layers of good quality semmigloss oil-based paint, produced in Iraq (quality equivalent to to Yakoot, Merjan or Alahliya) to be approved by UN-Habitat supervisor engineer. The price includes any preparatory works required prior to the painting, such as filling and repairing all holes and cracks, removal of nails and flaking old paint, scraping away any lose plaster, etc. All works should be done according to instructions of the UN-Habitat supervision engineer. | C27: M2 | D27: ='A01'!D17+'A02'!D17+'A03'!D17+'A58'!D17+'A63'!D17+'A64'!D17+'A66'!D17+'A67'!D17 -> 690 | F27: =D27*E27 -> 0 | G27: أعمال الطلاء بالصبغ الدهني: توفير المواد و الايدي العاملة و المعدات اللازمة للطلاء باستخدام طلاء دهني على الجدران المحددة من قبل المهندس المشرف, بجودة تعادل طلاء جوتن أو بيتيك حسب موافقة المهندس المشرف.يتم تنظيف الأسطح قبل الطلاء و تجهيزها و ملئ التجاويف و إزالة المسامير. و من ثم يتم تنفيذ طبقة من الأساس و طبقتين من الطلاء, جميع الأعمال يجب ان تتم بموافقة المهندس المشرف.
B28: SUB TOTAL OF CIVIL WORKS | F28: =SUM(F15:F27) -> 0 | G28: مجموع مبالغ الاعمال المدنية
A29: 2 | B29: Sanitary and plumbing works - General Notes Provision of materials, works and equipment to implement the items described below. The responsibility of the contractor covers all what is required to complete the job in every part and as detailed as per the instruction of the UN-Habitat supervision engineer. The price also includes removal and repairing of any damages that may occur to walls or finishing due to replacements, finishing and/or refixing. All samples of materials must be approved by the UN-Habitat Engineer prior to their purchase and/or delivery at site the work includes the opening of sewers and pipes blocked when needed. All works should be done according to instructions of the UN-Habitat supervising engineer. | E29: الأعمال الصحية-ملاحظات عامة: توفير المواد والاعمال والمعدات اللازمة لتنفيذ البنود المبينة أدناه. وتغطي مسؤوليه المتعهد كل ما هو مطلوب لإنجاز العمل في كل جزء وعلي النحو المفصل وفقا لتعليمات المهندس المشرف للهابيتات. ويشمل السعر أيضا أزاله وإصلاح اي اضرار قد تحدث إلى الجدران أو التشطيب بسبب استبدال, التشطيب و/أو أعاده تثبيت. ويجب ان يوافق مهندس موئل الأمم المتحدة علي جميع عينات المواد قبل شرائها و/أو تسليمها في الموقع. وينبغي القيام بجميع الاعمال وفقا لتعليمات المهندس المشرف للهابيتات.
A30: 2-1 | B30: Sitting toilet installation for elderly and disabled: Provide materials and required labour to install a new western-style sitting dual-flush toilet bowl with pedestal of the best brand available made in Iraq (if not available: Turkish or Iranian can be used), equipped with integrated water spray rinser. All gaps will be air sealed. The price includes supply and fixing of a new connection sewage pipe where necessary, a 1/2" chrome tap in the vicinity of the toilet at 40 cm from the floor, the fitting of a suitably-dimensioned toilet seat cover in plastic and a non-slip support stainless steel handrail (40-50 cm long) fixed diagonally to the wall beside the toilet. All works must be conducted according to the instructions of UN-Habitat supervising engineer. | C30: No. | D30: ='A01'!D20+'A02'!D20+'A03'!D20+'A58'!D20+'A63'!D20+'A64'!D20+'A66'!D20+'A67'!D20 -> 1 | F30: =D30*E30 -> 0 | G30: تواليت (مرحاض) غربي لكبار السن و لذوي الاحتياجات الخاصة: توفير المواد والايدي العاملة و المعدات اللازمة لتثبيت مرحاض غربي مع قاعدة لأفضل علامة تجارية صنع في العراق (إن لم تكن متوفرة: يمكن استخدام التركية أو الإيرانية) ، مزودة بمزود بخاخات الماء المتكاملة. يشمل السعر توفير وتركيب أنبوب صرف صحي جديد للتوصيل عند الضرورة ، وحنفية كروم 1/2 "بالقرب من المرحاض على بعد 40 سم من الأرضية ، وتركيب غطاء مقعد المرحاض ذي أبعاد مناسبة من البلاستيك ، و يشمل العمل توفير دعامة مسكة (محجر) من الحديد غير القابل للصدأ (طوله 40-50 سم) مثبتة بصورة افقية على الحائط بجانب المرحاض. يتم تنفيذ جميع الاعمال حسب توجيهات المهندس المشرف.
B31: SUB TOTAL OF SANITARY AND PLUMBING WORKS | F31: =SUM(F30:F30) -> 0 | G31: مجموع مبالغ الاعمال الصحية و السباكة
A32: 3 | B32: Electrical works Note: Molded Case Circuit Breaker (MCCB), Main Distribution Board (MDBs), Distribution Board (DBs) wiring must be re-arranged in suitable, safe and free of hazards way whenever need. The works inlcude provision of materials, works, equipment and any other requirements and necessities to implement the items described below. All types of wiring, trenching, etc. and all that is required to make the job complete in every part and details as per the instruction of UN-Habitat supervising engineer is included in the unit rates. The sample of all items must be approved by the UN-Habitat engineer prior to its purchase and or delivery at site. The price includes removing the old and repairing of any damages that may occur to the wall or finishing due to the replacement process or finishing and refixing, all work done according to instructions of the supervisor engineer. | E32: الأعمال الكهربائية-ملاحظات عامة: ملاحظه: يجب أن يتم اعادة ترتيب قواطع الدوائر الكهربائية والبورد الرئيسي وبوردات التوزيع بطريقة مناسبه وأمنه وخاليه من المخاطر حسب الحاجة. تعمل الشركة علي توفير المواد والاعمال والمعدات وغيرها من المتطلبات والضروريات لتنفيذ البنود الموصوفة أدناه. جميع أنواع الأسلاك ، والتراي كيبل ، وما إلى ذلك ، وكل ما هو مطلوب لجعل هذه المهمة كامله في كل جزء والتفاصيل وفقا لتعليمات المهندس المشرف للهابيتات. ويجب ان يوافق المهندسالمشرف للهابيتات على جميع العينات و من جميع الأصناف قبل شرائها أو تسليمها في الموقع. ويشمل السعر أزاله الأسلاك والمواد القديمة وإصلاح اي اضرار قد تحدث في الجدران أو التشطيب بسبب عمليه الاستبدال وأعاده التثبيت ، كل العمل المنجز وفقا لتعليمات المهندس المشرف للهابيتات
A33: 3-1 | B33: LED Tube lighting and connections (120 cm): Supply materials and labour to install and operate a surface type, single LED tube light fixture 120cm long, and all required accessories, mounted on wall or ceiling, with all wiring system (2x1.5 mm2 copper wire) fixed on the wall, and any other relevant requirements to complete the job in every aspect. The commissioning (start up) of the electrical system will include visual and mechanical inspection to verify that (i) equipment is in compliance with purchase specifications and design intent and that no damage occurred during shipment; (ii) relays and breakers are functioning correctly. All the works must be completed according to the specifications and instructions of the UN-Habitat supervising engineer. | C33: No. | D33: ='A01'!D23+'A02'!D23+'A03'!D23+'A58'!D23+'A63'!D23+'A64'!D23+'A66'!D23+'A67'!D23 -> 20 | F33: =D33*E33 -> 0 | G33: شمعة ليد إنارة (120 سم) مع قاعدة مع التمديدات: تجهيز و تثبيت شمعة ليد إنارة نيون مفرد بطول (120 سم) مع قاعدة, مع كافة التوصيلات و الاكسسوارات الازمة للتشغيل حسب توجيهات المهندس المشرف.
A34: 3-2 | B34: New wall socket (15 Amp) with new wiring: Supply materials and labour to install and fix new good quality 2 gang 6 pin UK (type G) or universal type wall sockets with their boxes (15 Amp) of good quality with all required wiring, at 45 cm height from the floor. The work includes all requirements with surface type wiring (2x2.5mm2 copper wire) from the main switch board to the point. The sockets will be carefully levelled. Any damages to the wall will be repaired and gaps replastered. For satefy purposes, all switches and sockets in wet areas (kitchen and bathrooms) are to be installed at a min. distance of 60 cm from any water source. All the works and testing must be completed according to the specifications and instructions of the UN-Habitat supervising engineer. | C34: No. | D34: ='A01'!D24+'A02'!D24+'A03'!D24+'A58'!D24+'A63'!D24+'A64'!D24+'A66'!D24+'A67'!D24 -> 10 | F34: =D34*E34 -> 0 | G34: مأخذ كهربائي مع تمديد اسلاك (A15): تجهيز و تثبيت مأخذ كهربائي (15A) من النوعية الجيدة مع تمديد الكبلات النحاسية 2*2.5 ملم., موافق عليها من قبل المهندس المشرف. يجب تركيب المآخذ و المفاتيح ضمن الأماكن الرطبة بمسافة تبعد 60 سم عن أقرب مصدر مائي. يجب تثبيتها بصورة افقية منتظمة. يجب تصليح اي اضرار بالحائط الناتجة عن العمل. كل العمل يكون حسب توجيهات المهندس المشرف
A35: 3-3 | B35: Replacement of wall socket (15 Amp) without wiring: Supply materials and labour to remove old socket and install and fix new good quality 2 gang 6 pin good quality UK (type G) or universal type wall socket (15 Amp) only, without new wiring. The switches will be carefully levelled. Any damages to the wall will be repaired and gaps replastered.All the works and testing must be completed according to the specifications and instructions of the UN-Habitat supervising engineer. | C35: No. | D35: ='A01'!D25+'A02'!D25+'A03'!D25+'A58'!D25+'A63'!D25+'A64'!D25+'A66'!D25+'A67'!D25 -> 2 | F35: =D35*E35 -> 0 | G35: تبديل مأخذ كهربائي (15 A) بدون تمديد اسلاك: تجهيز و تثبيت مأخذ كهربائي (A15 ) بدون امداد وايرات حسب توجيهات المهندس المشرف. يجب تركيب المآخذ و المفاتيح ضمن الأماكن الرطبة بمسافة تبعد 60 سم عن أقرب مصدر مائي. يجب تثبيتها بصورة افقية منتظمة. يجب تصليح اي اضرار بالحائط الناتجة عن العمل. كل العمل يكون حسب توجيهات المهندس المشرف
A36: 3-4 | B36: New wall socket (13 Amp) with new wiring: Supply materials and labour to install and fix new good quality 2 gang 6 pin UK (type G) or universal type wall sockets with their boxes (13 Amp) of good quality with all required wiring, at 45 cm height from the floor. The work includes all requirements with surface type wiring (2x2.5mm2 copper wire) from the main switch board to the point. The sockets will be carefully levelled. Any damages to the wall will be repaired and gaps replastered. For satefy purposes, all switches and sockets in wet areas (kitchen and bathrooms) are to be installed at a min. distance of 60 cm from any water source. All the works and testing must be completed according to the specifications and instructions of the UN-Habitat supervising engineer. | C36: No. | D36: ='A01'!D26+'A02'!D26+'A03'!D26+'A58'!D26+'A63'!D26+'A64'!D26+'A66'!D26+'A67'!D26 -> 23 | F36: =D36*E36 -> 0 | G36: مأخذ كهربائي مع تمديد اسلاك (A13) : تجهيز و تثبيت مأخذ كهربائي (13A) من النوعية الجيدة مع تمديد الكبلات النحاسية 2*2.5 ملم., موافق عليها من قبل المهندس المشرف. يجب تركيب المآخذ و المفاتيح ضمن الأماكن الرطبة بمسافة تبعد 60 سم عن أقرب مصدر مائي. يجب تثبيتها بصورة افقية منتظمة. يجب تصليح اي اضرار بالحائط الناتجة عن العمل. كل العمل يكون حسب توجيهات المهندس المشرف
A37: 3-5 | B37: Replacement of wall socket (13 Amp) without wiring: Supply materials and labour to remove old socket and install and fix new good quality 2 gang 6 pin good quality UK (type G) or universal type wall socket (13 Amp) only, without new wiring. The switches will be carefully levelled. Any damages to the wall will be repaired and gaps replastered.All the works and testing must be completed according to the specifications and instructions of the UN-Habitat supervising engineer. | C37: No. | D37: ='A01'!D27+'A02'!D27+'A03'!D27+'A58'!D27+'A63'!D27+'A64'!D27+'A66'!D27+'A67'!D27 -> 13 | F37: =D37*E37 -> 0 | G37: تبديل مأخذ كهربائي (13 A) بدون تمديد اسلاك: تجهيز و تثبيت مأخذ كهربائي (A13 ) بدون امداد وايرات حسب توجيهات المهندس المشرف. يجب تركيب المآخذ و المفاتيح ضمن الأماكن الرطبة بمسافة تبعد 60 سم عن أقرب مصدر مائي. يجب تثبيتها بصورة افقية منتظمة. يجب تصليح اي اضرار بالحائط الناتجة عن العمل. كل العمل يكون حسب توجيهات المهندس المشرف
A38: 3-6 | B38: Electrical wall switch replacement without wiring: Supply materials and labour to remove old switch and install and fix 1 or 2 gang one way wall switch (one, two or three lines) only, without wiring, as per the instructions of UN-Habitat supervisor engineer. The switches will be carefully levelled. Any damages to the wall will be repaired and gaps replastered. For satefy purposes, all switches and sockets in wet areas (kitchen and bathrooms) are to be installed at a min. distance of 60 cm from any water source. All the works and testing must be completed according to the specifications and instructions of the UN-Habitat supervising engineer. | C38: No. | D38: ='A01'!D28+'A02'!D28+'A03'!D28+'A58'!D28+'A63'!D28+'A64'!D28+'A66'!D28+'A67'!D28 -> 20 | F38: =D38*E38 -> 0 | G38: تبديل المفاتيح الكهربائية بدون تمديد اسلاك: تجهيز و تثبيت المفاتيح الكهربائية (مفرد-مزدوج-ثلاثي ) بدون التوصيلات و التمديدات الكهربائية حسب توجيهات المهندس المشرف. يجب تركيب المآخذ و المفاتيح ضمن الأماكن الرطبة بمسافة تبعد 60 سم عن أقرب مصدر مائي. يجب تثبيتها بصورة افقية منتظمة. يجب تصليح اي اضرار بالحائط الناتجة عن العمل. كل العمل يكون حسب توجيهات المهندس المشرف
A39: 3-7 | B39: Ceiling fan: Supply materials and labour to install good quality electrical ceiling fans for interiors ("shami" type or equivalent), according to the instructions of UN-Habitat supervisor engineer. | C39: No. | D39: ='A01'!D29+'A02'!D29+'A03'!D29+'A58'!D29+'A63'!D29+'A64'!D29+'A66'!D29+'A67'!D29 -> 10 | F39: =D39*E39 -> 0 | G39: المروحة السقفية : تجهيز و تركيب مروحة كهربائية سقفية, مع التوصيل و التشغيل. حسب توجيهات المهندس المشرف .
B40: SUB TOTAL OF ELECTRICAL WORKS | F40: =SUM(F33:F39) -> 0 | G40: مجموع مبالغ الاعمال الكهربائية
B41: TOTAL AMOUNT | F41: =F40+F31+F28 -> 0 | G41: المجموع الكلي
B43: SUMMARY of BOQ
B44: SUB TOTAL OF CIVIL WORKS | C44: =F28 -> 0
B45: SUB TOTAL OF SANITARY AND PLUMBING WORKS | C45: =F31 -> 0
B46: SUB TOTAL OF ELECTRICAL WORKS | C46: =F40 -> 0
B47: TOTAL VALUE OF WORKS | C47: =C46+C45+C44 -> 0

Sheet A01
A1: Bill of Quantities (BoQ) for the Rehabilitation of 8 Damaged Houses in Al-Moutanazah Zone, Al-Baker Neighborhood, Heet District, Anbar Governorate
B2: This is the detailed BoQs for 1 house (code indicated in the sheet label)الكشف لمنزل واحد (رمز المنزل مؤشر كعنوان للورقة ادناه)
A3: # | B3: Item Description | C3: Unit | D3: Qty.
A4: 1 | B4: Civil Works - General Notes: The contractor's responsibility includes conducting all necessary tests and providing all samples. The samples must be approved by the UN-Habitat Engineer. In cases where necessary works are not mentioned in the BoQ, the contractor should add this item to the BoQ before starting the works, otherwise the contractor should execute this work for no extra cost and does not have any right to ask for any variations orders. The prices include painting all iron materials (pipes, angles, frames, etc) with two (2) layers of antirust paint and two layers of good quality oil paint, both produced in Iraq. | D4: الأعمال المدنية - ملاحظات عامة: توفير المواد والعمالة والمعدات اللازمة لتنفيذ البنود الموضحة أدناه ، وجميع تلك الأنشطة المطلوبة لإنجاز المهمة في كل جانب وتفاصيل حسب تعليمات المهندس المشرف للهابيتات. يجب أن تكون جميع الأعمال والمواد التي يقدمها المقاول مطابقة للمواصفات القياسية العراقية ذات الصلة وشروط ومواصفات المناقصة ووفقًا لتعليمات المهندس المشرف للهابيتات. يجب أن تشمل الأسعار توفير وتوريد وتركيب جميع المواد والمعدات اللازمة لإكمال البنود وفقًا لجداول الكميات والرسومات الفنية إن وجدت. تتضمن مسؤولية المقاول أيضًا القيام بكل الاختبارات اللازمة. في الحالات التي لم يتم فيها ذكر بعض الأعمال في جداول الكميات وتم ذكرها في الرسومات الفنية ، يجب على المقاول إضافة هذا البند إلى جداول الكميات قبل البدء في الأعمال ، وإلا يجب على المقاول تنفيذ هذا العمل دون أي تكلفة إضافية وليس له أي حق في طلب أي أوامر الاختلافات. تشمل الأسعار طلاء جميع المواد الحديدية (الأنابيب والزوايا والإطارات وغيرها) بطبقتين (2) من الطلاء المضاد للصدأ وطبقتين من الطلاء الزيتي ذي النوعية الجيدة ، وكلاهما منتج في العراق. سيتجنب المقاول إغلاق الشوارع وخلق مخاطر مرورية وإزعاج للجيران بوضع كميات كبيرة من مواد البناء والمعدات - عدا على أساس مؤقت للتحميل والتنزيل.
A5: 1-1 | B5: Reinforced Concrete: Provision of materials, labour and equipment and all requirements for casting reinforced concrete (1:2:4), for foundations, roof, beams, columns, slab, stairs and concrete parapets, including form works and steel reinforcement. Slopes of flat surfaces should be directed towards the outside. The Contractor should ensure the highest standards of workmanship by skilled or appropriately trained workmen. The Contractor will use ordinary cement produced in Iraq (same specifications as Portland Cement) and best quality aggregates, mixed with fresh and clear water. Vibrators or other suitable equipment will be used to ensure that the cement pour is free from air bubbles and voids within the cement mixture. The concrete will be cured appropriately to increase durability. All works should be done according to the instructions of UN-Habitat supervising Engineer. | C5: M3 | E5: أعمال الكونكريت المسلح: توفير المواد والايدي العاملة و المعدات اللازمة لتنفيذ أعمال الكونكريت المسلح (1:2:4) للأسس , الأسقف, الجسور, الأدراج و المظلات. السعر يشمل أعمال القالب الخشبي و حديد التسليح و كل ما يلزم لإأنجاز العمل. يجب مراعاة اوزان الصب و توفير ميلان في الصب عند الحاجة حسب توجيهات المهندس المشرف يجب أن يتم تنفيذ العمل بأفضل المواصفات الفنية و عن طريق تعوفير ايدي عاملة ماهرة. يجب استخدام السمنت المصنوع في العراق بنفس مواصفات السمنت البورتلاندي ونوعية عالية الجودة من الحصى و الرمل و تخلط بالماء النظيف و يجب كذلك استعمال الهزازات لضمان عدم وجود فجوات هوائية داخل الصب و حسب المواصفات العراقية يجب ان تتم جميع الأعمال حسب توجيهات المهندس المشرف.
A6: 1-2 | B6: Concrete masonry wall : Provision of materials and labour to build external and internal walls above or below Damp Proof Course (DPC) in hollow concrete blocks (20x20x40cm) or (20x15x40cm) produced by Iraqi factories. Each course will be bound by an ordinary cement mortar (1:3) joint. Cement mortar will fill any voids and gaps. Blocks will be flush and level. In correspondence of the openings (windows and doors), workers will use a half block with the smooth side facing outwards. Workers will avoid using damaged/broken blocks. A mason's line will be used as a vertical guide. Excess mortar will be removed before it hardens. The price will include the installation of 2 levelled angle steel sections (size 2.5"x2.5"x4 mm), as lintels above the doors and windows, extending at least 25cm on each side of the openings, welded together by min. 3 iron bars corresponding to the width of the wall and covered by iron mesh. The steel sections will be painted with an anti-rust coat primer produce in Iraq, in accordance to the instructions of the UN-Habitat supervising Engineer. | C6: M3 | D6: 6 | E6: أعمال بناء البلوك الاسمنتي: تجهيز المواد و الايدي العاملة و المعدات اللازمة لتنفيذ أعمال بناء البلوك الاسمنتي المجوف , لبناء القواطع الداخلية و الجدران الخارجية و سور السطح و عتبات النوافذ. باستخدام البلوك الاسمنتي المجوف قياس (20*40*20 سم ) أو (20*15*40 سم) و مونة اسمنتية 1:3 . و يشمل العمل تثبيت النوافذ و الأبواب. في حال وجود فتحات يجب تثبيت هيكل معدني من زوايا الحديد (50*50*4 ملم) بشكل أفقي في أعلى الفتحة, يتداخل 25 سم مع الجدران الجانبية من كل جهة يتم صبغ الهيكل المعدني بمواد مضادة للصدأ. و كل ما يلزم لإأنجاز العمل. جمييع الأعمال يجب أن تكون حسب توجيهات المهندس المشرف.
A7: 1-3 | B7: Stone masonry: Stone walls and parapets will be built using stone quarried locally using traditional building techniques. Provision of materials, labour and equipment to build external and internal walls above or below (DPC), fence and parapet by using 30 cm-wide stone with ordinary cement mortar (1:3), including fixing the windows and doors. The stones must be properly cleaned from all forms of dirt (dust, mud, or organic materials). Cracked stone shall not be used. Stones should be wetted before being placed on the mortar. Every stone is carefully fitted to the adjacent stone so as to form neat and close joints. All spaces between two stones must be filled with mortar (no stone shall touch each other directly). The price includes installing 2 precisely levelled angle steel sections (size 2.5"x2.5"x4 mm), as lintels above the doors and windows, extending at least 25cm on each side of the openings, welded together by min. 2 iron bars corresponding to the width of the wall and covered by iron mesh. The steel sections will be painted with an anti-rust coat (as mentioned in the above instructions) and in accordance to the instructions of the UN-Habitat supervising Engineer. | C7: M3 | D7: 7 | E7: أعمال البناء بالحجر: تجهيز المواد و الايدي العاملة و المعدات اللازمة لتنفيذ أعمال بناء بالحجر, لبناء القواطع الداخلية و الجدران الخارجية و سور السطح و عتبات النوافذ. باستخدام الحجر المحلي الصنع بعرض من 30 الى 40 سم حسب توجيه المهندس المشرف. يجب تنظيف الأحجار بشكل صحيح من جميع أشكال الأوساخ (الغبار أو الطين أو المواد العضوية). لا يجوز استخدام الحجر المشقق. يجب ترطيب الأحجار قبل وضع المونة. يجب تركيب الحجر بعناية بالحجر المجاور حتى يتم تشكيل مفاصل أنيقة وإغلاقها بإستخدام مونة اسمنتية 1:3 على ان يتم ملئ الفواصل الجانبية بين البلوك بالمونة. يشمل العمل تثبيت النوافذ و الأبواب. في حال وجود فتحات يجب تثبيت هيكل معدني من زوايا الحديد (50*50*4 ملم) بشكل أفقي في أعلى الفتحة, يتداخل 25 سم مع الجدران الجانبية من كل جهة يتم صبغ الهيكل المعدني بمواد مضادة للصدأ. و كل ما يلزم لإنجاز العمل. جمييع الأعمال يجب أن تكون حسب توجيهات المهندس المشرف.
A8: 1-4 | B8: Cement plastering: Provision of materials, labour and equipment and all other activities that are required for plastering exterior and interior walls, partitions, ceilings and parapets using ordinary cement produced in Iraq (same specifications as Portland Cement) and sand (ratio of 1:3). Plaster finishing should result in straight and smooth surfaces, with clear and straight edges and corners. Plastering will be done by skilled workmanship using an alluminium hollow tube tool and reference strips placed at no more than 1 m distance on large surfaces. The works unit price will also include the removal and disposal of any loose plaster and dust, reparing any cracks and damaged parts of walls and ceilings prior to plastering. Walls will be sprayed with water to help the new plaster to adhere to the old wall. The contractor will complete the job as per the instructions of UN-Habitat supervising engineer. | C8: M2 | D8: 130 | E8: أعمال اللبخ الاسمنتي: توفير المواد و الايدي العاملة و المعدات اللازمة لإنجاز أعمال اللبخ الاسمنتي للجدران الخارجية و الداخلية و الأسقف و سور السطح ( ستارة), باستخدام الاسمنت و الرمل بنسبة خلط (1:3), يجب أن يكون السطح النهائي ناعماً و مستوياً, و الزوايا يجب ان تكون حادة و مستقيمة, في حال وجود مساحات كبيرة يجب استخدام دليل استقامة شاقولي بتباعد أقصى 1 م, يشمل العمل ازالة اللبخ المتضرر و إصلاح الجدران المتضررة, و إتمام العمل بشكل كامل وفق توجيهات المهندس المشرف.
A9: 1-5 | B9: Gypsum Plastering: Provision of materials, labour and equipment and all other necessary activities that are required for plastering the interior walls and ceilings with gypsum sourced in Iraq. Large plastering areas will be divided into smaller more manageable segments by using traditional plaster 'guides' created every 70- 80 cm. Plastered surfaces shall be smooth and all edges straight and levelled. The contractor shall perform all other activities that are required to make the job complete in every aspect and detailed, as per the instructions of UN-Habitat supervising engineer.The works unit price will also include the removal and disposal of any loose plaster and dust, reparing any cracks and damaged parts of walls and ceilings prior to plastering. | C9: M2 | D9: 80 | E9: أعمال اللبخ الجصي: توفير المواد و الايدي العاملة و المعدات اللازمة لإنجاز أعمال اللبخ الجصي للجدران الداخلية , باستخدام اللبخ الجصي, يجب أن يكون السطح النهائي ناعماً و مستوياً, و الزوايا يجب ان تكون حادة و مستقيمة, في حال وجود مساحات كبيرة يجب استخدام دليل استقامة شاقولي بتباعد أقصى 80 سم, يشمل العمل ازالة اللبخ المتضرر و إصلاح الجدران المتضررة, و إتمام العمل بشكل كامل وفق توجيهات المهندس المشرف.
A10: 1-6 | B10: Roof Maintenance: Remove existing damaged concrete roofing tiles, old mastic, underlying sand bed and accumulated dirt. Supply materials and labour to lay hot poured bitumen, after cleaning the roof surfaces, laying polyehylene s, styrofoam s and clean river sand to form slopes, followed by the laying of a new concrete roofing tiles (80 x 80 x 4cm) with adequate slopes towards the roof drains, filling the joints with an approved roofing mastic treated by heat. All works must be done according to the instructions of the UN-Habitat supervising engineer. | C10: M2 | E10: أعمال صيانة الأسطح: توفير المواد و الايدي العاملة و المعدات اللازمة لإزالة طبقات التسطيح الموجودة والمتضررة حسب تقييم المهندس المشرف، الماستك، البلاطات الكونكريتية (شتايكَر)، الرمل النهري و استبدالها بطبقة من الماستك الساخن بعد تنظيف السطح جيداً وفرش طبقة من البولي اثيلين و طبقة من الستايروفوم و من ثم وضع طبقة رمل نهري و تسليطه بالاتجاه المناسب و بعد ذلك وضع البلاطات الكونكريتية (الشتايكَر) بقياس (80x80x4 سم) و تسليطها بالميل المناسب بإتجاه التصريف وبعدها يتم ملئ المفاصل الطولية و العرضية بالماستك الساخن. جميع الأعمال يجب ان تتم بموافقة المهندس المشرف.
A11: 1-7 | B11: Traditional "mosaic"floor tiles: Remove the existing tiles, old mortar and bed, supply materials and lay new polished Kashi ("mosaic" - Venetian style) floor tiles (30cm x 30cm) using cement mortar (1:3). The price includes the removal and safe disposal of all construction debris and waste in a landfill site located outside of the municipality boundary, approved by the Municipality and the UN-Habitat supervising Engineer, in an environmentally friendly manner and in line with the Mosul Municipality standards. | C11: M2 | D11: 40 | E11: بلاط موازييك: توفير المواد و الايدي العاملة و المعدات اللازمة لإزالة البلاط الموزاييك القديم و إستبداله ببلاط جديد محلي (30x30 سم) بإستخدام مونة السمنت والرمل بنسبة خلط (1:3) و يشمل السعر ازالة الانقاض و رميها في المكان المخصص من قبل البلدية تحت اشراف البلدية والمهندس المشرف بطريقة صديقة للبيئة وبما يتماشى مع معايير بلدية الموصل.
A12: 1-8 | B12: Install new wooden door: Provision of materials, labour and equipment and all other necessary activities that are required for the installation of wooden hinged doors (approx. 2.1x1 m) produced in Iraq, with its frame. The price includes supplying and fixing the frame, all required locks, hinges etc, and also repairs of any damages that may occur to the wall or finishing due to the replacement process or refixing. Price includes two (2) coats of good quality semigloss oil paint produced in Iraq. All gaps between walls and door frames will be filled with a polyurethane (PU) joint sealant to ensure an air tight joint. The price includes the removal and disposal of the old damaged doors and/or frames. All works should be done according to instructions of UN-Habitat supervising engineer. | C12: No. | E12: الأبواب الخشبية: توفير المواد والايدي العاملة و المعدات اللازمة لتركيب باب خشبي مع إطار, متضمنة كافة الاكسسوارات و الايديات و مفاصل الحركة و الأقفال, يتم صبغ الباب و الاطار بطبقتين من الصبغ الدهني, يجب صقل الاصطح و الحواف,إصلاح الأضرار ضمن الجدران الناتجة عن التركيب, يتم ملء الفراغات بين الباب و الجدران بواسطة بوليوريتان ماستيك. يجب إتمام العمل بشكل كامل و جاهز للتشغيل و يجب ازالة الابواب القديمة و رميها في المكان المحدد من قبل البلدية وفق توجيهات المهندس المشرف.
A13: 1-9 | B13: Install new steel door: Provision of materials, labour and equipment and all other necessary activities that are required for the installation of steel hinged doors (approx. 2.1x1 m), produced in Iraq, with their frame and accessories.the door consist of 2 layers of steel ss and filled with Styrofoam in between. The price includes supplying and fixing the frame, all required locks, hinges,and also the repair of any damages that may occur to the wall or finishing due to the replacement and/or refixing process. All gaps between walls and door frames will be filled with a polyurethane (PU) joint sealant to ensure an air tight joint. Price also includes the painting of two (2) coats of red oxide anti-rust primer produced in Iraq, followed by two (2) coats of good quality semigloss oil paint. All works should be done according to instructions of UN-Habitat supervising engineer. | C13: No. | E13: الأبواب المعدنية الداخلية: توفير المواد والايدي العاملة و المعدات اللازمة لتركيب باب معدني من انتاج عراقي مع إطار, متضمنة كافة الاكسسوارات و الايديات و مفاصل الحركة و الأقفال, يتم صبغ الباب و الاطار بطبقتين من الصبغ المانع للصدأ ومن ثم طبقتين من الصبغ الدهني, يجب صقل الاصطح و الحواف,إصلاح الأضرار ضمن الجدران الناتجة عن التركيب, يتم ملء الفراغات بين الباب و الجدران بواسطة بوليوريتان ماستيك. يجب إتمام العمل بشكل كامل و جاهز للتشغيل و يجب ازالة الابواب القديمة و رميها في المكان المحدد من قبل البلدية وفق توجيهات المهندس المشرف.
A14: 1-10 | B14: Install new external steel door: Provision of materials, labor, equipment and all other necessary activities that are required for removing existing damaged exterior steel doors and supplying and installing new steel doors, produced in Iraq, with frames and all required handles, hinges, locks, etc, the door consist of 2 layers of steel ss and filled with Styrofoam in between . Price also includes painting with two (2) coats of red oxide anti-rust primer produced in Iraq, followed by two (2) coats of good quality semigloss oil paint produced in Iraq. Price also includes repairing and straightening the edges of the wall receiving the new door. All gaps between walls and steel door frames will be filled with a polyurethane (PU) joint sealant. The price includes the disposal of the old damaged steel doors and/or frames. All works should be done according to instructions of UN-Habitat supervising engineer. | C14: M2 | D14: 7 | E14: باب الرئيسي الحديدي: توفير المواد والايدي العاملة و المعدات اللازمة لتركيب باب معدني جديد من انتاج عراقي مع إطار, متضمنة كافة الاكسسوارات و الايديات و مفاصل الحركة و الأقفال, يتم صبغ الباب و الاطار بطبقتين من الصبغ المانع للصدأ ومن ثم طبقتين من الصبغ الدهني, يجب صقل الاصطح و الحواف,إصلاح الأضرار ضمن الجدران الناتجة عن التركيب, يتم ملء الفراغات بين الباب و الجدران بواسطة بوليوريتان ماستيك. يجب إتمام العمل بشكل كامل و جاهز للتشغيل و يجب ازالة الابواب القديمة و رميها في المكان المحدد من قبل البلدية وفق توجيهات المهندس المشرف.
A15: 1-11 | B15: Installing new steel windows with protection bars: Provision materials, labor, equipment and all other necessities and requirements for installing new steel windows on openings on the street, with steel protection bars and antifly mesh. The works also include supply of handles, hinges and all required accessories for completing the work, as well painting of all steel work with two (2) coats of red oxide primer paint produced in Iraq, followed by two (2) coats of good quality semigloss oil paint produced in Iraq. Price shall also includes repairing, straightening and modifying the edges of the wall. All gaps between walls and door frames will be filled with a polyurethane (PU) joint sealant to ensure an air tight joint. The price includes the removal and disposal of the old damaged windows. All works to be done according to instructions of UN-Habitat supervising engineer. | C15: M2 | D15: 6 | E15: تجهيز و تثبيت نافذة معدنية مع قضبان حماية معدنية (كتيبة) : توفير المواد و الايدي العاملة و المعدات اللازمة لتركيب نافذة من الحديد مع قضبان حماية حديدة (كتيبه) وكذلك شبك حماية من الحشرات, متضمنة كافة الاكسسوارات و الايديات و مفاصل الحركة, الزجاج شفاف سمك 4 ملم, يجب ان يكون خال من الخدوش و الأضرار و التموجات, يتم تثبيته على الهيكل المعدني بواسطة المعجون بشكل محكم. يتم صبغ الباب و الاطار بطبقتين من الصبغ المانع للصدأ ومن ثم طبقتين من الصبغ الدهني حتى التستسير, يجب صقل الاصطح و الحواف. يجب إصلاح الأضرار ضمن الجدران الناتجة عن التركيب,يتم ملء الفراغات بين النافذة و الجدران بواسطة بوليوريتان ماستيك. وفق توجيهات المهندس المشرف.
A16: 1-12 | B16: Windows Glass: Provision of materials, labour and supply materials to install and fix 4mm clear glass for existing windows wherever needed/ The glass shall not have any scratches, cracks, splinters or waves and all glazing works shall be done according to instructions of UN-Habitat supervising Engineer. | C16: M2 | E16: زجاج النوافذ: توفير المواد و الايدي العاملة و المعدات اللازمة لتركيب زجاج شفاف للنوافذ سمك 4 ملم, للنوافذ المتضررة. يجب ان يكون الزجاج خال من الخدوش و الأضرار و التموجات, يجب إتمام العمل بشكل كامل وفق توجيهات المهندس المشرف.
A17: 1-13 | B17: Oil-based painting: Provision of materials, labour, equipment and all other necessary activities that are required for painting walls and any other places defined by the UN-Habitat engineer with oil-based paint, subject to approval of UN-Habitat supervision engineer. A layer of primer paint must be applied before two (2) layers of good quality semmigloss oil-based paint, produced in Iraq (quality equivalent to to Yakoot, Merjan or Alahliya) to be approved by UN-Habitat supervisor engineer. The price includes any preparatory works required prior to the painting, such as filling and repairing all holes and cracks, removal of nails and flaking old paint, scraping away any lose plaster, etc. All works should be done according to instructions of the UN-Habitat supervision engineer. | C17: M2 | D17: 160 | E17: أعمال الطلاء بالصبغ الدهني: توفير المواد و الايدي العاملة و المعدات اللازمة للطلاء باستخدام طلاء دهني على الجدران المحددة من قبل المهندس المشرف, بجودة تعادل طلاء جوتن أو بيتيك حسب موافقة المهندس المشرف.يتم تنظيف الأسطح قبل الطلاء و تجهيزها و ملئ التجاويف و إزالة المسامير. و من ثم يتم تنفيذ طبقة من الأساس و طبقتين من الطلاء, جميع الأعمال يجب ان تتم بموافقة المهندس المشرف.
A19: 2 | B19: Sanitary and plumbing works - General Notes Provision of materials, works and equipment to implement the items described below. The responsibility of the contractor covers all what is required to complete the job in every part and as detailed as per the instruction of the UN-Habitat supervision engineer. The price also includes removal and repairing of any damages that may occur to walls or finishing due to replacements, finishing and/or refixing. All samples of materials must be approved by the UN-Habitat Engineer prior to their purchase and/or delivery at site the work includes the opening of sewers and pipes blocked when needed. All works should be done according to instructions of the UN-Habitat supervising engineer. | D19: الأعمال الصحية-ملاحظات عامة: توفير المواد والاعمال والمعدات اللازمة لتنفيذ البنود المبينة أدناه. وتغطي مسؤوليه المتعهد كل ما هو مطلوب لإنجاز العمل في كل جزء وعلي النحو المفصل وفقا لتعليمات المهندس المشرف للهابيتات. ويشمل السعر أيضا أزاله وإصلاح اي اضرار قد تحدث إلى الجدران أو التشطيب بسبب استبدال, التشطيب و/أو أعاده تثبيت. ويجب ان يوافق مهندس موئل الأمم المتحدة علي جميع عينات المواد قبل شرائها و/أو تسليمها في الموقع. وينبغي القيام بجميع الاعمال وفقا لتعليمات المهندس المشرف للهابيتات.
A20: 2-1 | B20: Sitting toilet installation for elderly and disabled: Provide materials and required labour to install a new western-style sitting dual-flush toilet bowl with pedestal of the best brand available made in Iraq (if not available: Turkish or Iranian can be used), equipped with integrated water spray rinser. All gaps will be air sealed. The price includes supply and fixing of a new connection sewage pipe where necessary, a 1/2" chrome tap in the vicinity of the toilet at 40 cm from the floor, the fitting of a suitably-dimensioned toilet seat cover in plastic and a non-slip support stainless steel handrail (40-50 cm long) fixed diagonally to the wall beside the toilet. All works must be conducted according to the instructions of UN-Habitat supervising engineer. | C20: No. | D20: 0 | E20: تواليت (مرحاض) غربي لكبار السن و لذوي الاحتياجات الخاصة: توفير المواد والايدي العاملة و المعدات اللازمة لتثبيت مرحاض غربي مع قاعدة لأفضل علامة تجارية صنع في العراق (إن لم تكن متوفرة: يمكن استخدام التركية أو الإيرانية) ، مزودة بمزود بخاخات الماء المتكاملة. يشمل السعر توفير وتركيب أنبوب صرف صحي جديد للتوصيل عند الضرورة ، وحنفية كروم 1/2 "بالقرب من المرحاض على بعد 40 سم من الأرضية ، وتركيب غطاء مقعد المرحاض ذي أبعاد مناسبة من البلاستيك ، و يشمل العمل توفير دعامة مسكة (محجر) من الحديد غير القابل للصدأ (طوله 40-50 سم) مثبتة بصورة افقية على الحائط بجانب المرحاض. يتم تنفيذ جميع الاعمال حسب توجيهات المهندس المشرف.
A22: 3 | B22: Electrical works Note: Molded Case Circuit Breaker (MCCB), Main Distribution Board (MDBs), Distribution Board (DBs) wiring must be re-arranged in suitable, safe and free of hazards way whenever need. The works inlcude provision of materials, works, equipment and any other requirements and necessities to implement the items described below. All types of wiring, trenching, etc. and all that is required to make the job complete in every part and details as per the instruction of UN-Habitat supervising engineer is included in the unit rates. The sample of all items must be approved by the UN-Habitat engineer prior to its purchase and or delivery at site. The price includes removing the old and repairing of any damages that may occur to the wall or finishing due to the replacement process or finishing and refixing, all work done according to instructions of the supervisor engineer. | D22: الأعمال الكهربائية-ملاحظات عامة: ملاحظه: يجب أن يتم اعادة ترتيب قواطع الدوائر الكهربائية والبورد الرئيسي وبوردات التوزيع بطريقة مناسبه وأمنه وخاليه من المخاطر حسب الحاجة. تعمل الشركة علي توفير المواد والاعمال والمعدات وغيرها من المتطلبات والضروريات لتنفيذ البنود الموصوفة أدناه. جميع أنواع الأسلاك ، والتراي كيبل ، وما إلى ذلك ، وكل ما هو مطلوب لجعل هذه المهمة كامله في كل جزء والتفاصيل وفقا لتعليمات المهندس المشرف للهابيتات. ويجب ان يوافق المهندسالمشرف للهابيتات على جميع العينات و من جميع الأصناف قبل شرائها أو تسليمها في الموقع. ويشمل السعر أزاله الأسلاك والمواد القديمة وإصلاح اي اضرار قد تحدث في الجدران أو التشطيب بسبب عمليه الاستبدال وأعاده التثبيت ، كل العمل المنجز وفقا لتعليمات المهندس المشرف للهابيتات.
A23: 3-1 | B23: LED Tube lighting and connections (120 cm): Supply materials and labour to install and operate a surface type, single LED tube light fixture 120cm long, and all required accessories, mounted on wall or ceiling, with all wiring system (2x1.5 mm2 copper wire) fixed on the wall, and any other relevant requirements to complete the job in every aspect. The commissioning (start up) of the electrical system will include visual and mechanical inspection to verify that (i) equipment is in compliance with purchase specifications and design intent and that no damage occurred during shipment; (ii) relays and breakers are functioning correctly. All the works must be completed according to the specifications and instructions of the UN-Habitat supervising engineer. | C23: No. | D23: 2 | E23: شمعة ليد إنارة (120 سم) مع قاعدة مع التمديدات: تجهيز و تثبيت شمعة ليد إنارة نيون مفرد بطول (120 سم) مع قاعدة, مع كافة التوصيلات و الاكسسوارات الازمة للتشغيل حسب توجيهات المهندس المشرف.
A24: 3-2 | B24: New wall socket (15 Amp) with new wiring: Supply materials and labour to install and fix new good quality 2 gang 6 pin UK (type G) or universal type wall sockets with their boxes (15 Amp) of good quality with all required wiring, at 45 cm height from the floor. The work includes all requirements with surface type wiring (2x2.5mm2 copper wire) from the main switch board to the point. The sockets will be carefully levelled. Any damages to the wall will be repaired and gaps replastered. For satefy purposes, all switches and sockets in wet areas (kitchen and bathrooms) are to be installed at a min. distance of 60 cm from any water source. All the works and testing must be completed according to the specifications and instructions of the UN-Habitat supervising engineer. | C24: No. | D24: 1 | E24: مأخذ كهربائي مع تمديد اسلاك (A15): تجهيز و تثبيت مأخذ كهربائي (15A) من النوعية الجيدة مع تمديد الكبلات النحاسية 2*2.5 ملم., موافق عليها من قبل المهندس المشرف. يجب تركيب المآخذ و المفاتيح ضمن الأماكن الرطبة بمسافة تبعد 60 سم عن أقرب مصدر مائي. يجب تثبيتها بصورة افقية منتظمة. يجب تصليح اي اضرار بالحائط الناتجة عن العمل. كل العمل يكون حسب توجيهات المهندس المشرف
A25: 3-3 | B25: Replacement of wall socket (15 Amp) without wiring: Supply materials and labour to remove old socket and install and fix new good quality 2 gang 6 pin good quality UK (type G) or universal type wall socket (15 Amp) only, without new wiring. The switches will be carefully levelled. Any damages to the wall will be repaired and gaps replastered.All the works and testing must be completed according to the specifications and instructions of the UN-Habitat supervising engineer. | C25: No. | D25: 0 | E25: تبديل مأخذ كهربائي (15 A) بدون تمديد اسلاك: تجهيز و تثبيت مأخذ كهربائي (A15 ) بدون امداد وايرات حسب توجيهات المهندس المشرف. يجب تركيب المآخذ و المفاتيح ضمن الأماكن الرطبة بمسافة تبعد 60 سم عن أقرب مصدر مائي. يجب تثبيتها بصورة افقية منتظمة. يجب تصليح اي اضرار بالحائط الناتجة عن العمل. كل العمل يكون حسب توجيهات المهندس المشرف
A26: 3-4 | B26: New wall socket (13 Amp) with new wiring: Supply materials and labour to install and fix new good quality 2 gang 6 pin UK (type G) or universal type wall sockets with their boxes (13 Amp) of good quality with all required wiring, at 45 cm height from the floor. The work includes all requirements with surface type wiring (2x2.5mm2 copper wire) from the main switch board to the point. The sockets will be carefully levelled. Any damages to the wall will be repaired and gaps replastered. For satefy purposes, all switches and sockets in wet areas (kitchen and bathrooms) are to be installed at a min. distance of 60 cm from any water source. All the works and testing must be completed according to the specifications and instructions of the UN-Habitat supervising engineer. | C26: No. | D26: 2 | E26: مأخذ كهربائي مع تمديد اسلاك (A13) : تجهيز و تثبيت مأخذ كهربائي (13A) من النوعية الجيدة مع تمديد الكبلات النحاسية 2*2.5 ملم., موافق عليها من قبل المهندس المشرف. يجب تركيب المآخذ و المفاتيح ضمن الأماكن الرطبة بمسافة تبعد 60 سم عن أقرب مصدر مائي. يجب تثبيتها بصورة افقية منتظمة. يجب تصليح اي اضرار بالحائط الناتجة عن العمل. كل العمل يكون حسب توجيهات المهندس المشرف
A27: 3-5 | B27: Replacement of wall socket (13 Amp) without wiring: Supply materials and labour to remove old socket and install and fix new good quality 2 gang 6 pin good quality UK (type G) or universal type wall socket (13 Amp) only, without new wiring. The switches will be carefully levelled. Any damages to the wall will be repaired and gaps replastered.All the works and testing must be completed according to the specifications and instructions of the UN-Habitat supervising engineer. | C27: No. | D27: 1 | E27: تبديل مأخذ كهربائي (13 A) بدون تمديد اسلاك: تجهيز و تثبيت مأخذ كهربائي (A13 ) بدون امداد وايرات حسب توجيهات المهندس المشرف. يجب تركيب المآخذ و المفاتيح ضمن الأماكن الرطبة بمسافة تبعد 60 سم عن أقرب مصدر مائي. يجب تثبيتها بصورة افقية منتظمة. يجب تصليح اي اضرار بالحائط الناتجة عن العمل. كل العمل يكون حسب توجيهات المهندس المشرف
A28: 3-6 | B28: Electrical wall switch replacement without wiring: Supply materials and labour to remove old switch and install and fix 1 or 2 gang one way wall switch (one, two or three lines) only, without wiring, as per the instructions of UN-Habitat supervisor engineer. The switches will be carefully levelled. Any damages to the wall will be repaired and gaps replastered. For satefy purposes, all switches and sockets in wet areas (kitchen and bathrooms) are to be installed at a min. distance of 60 cm from any water source. All the works and testing must be completed according to the specifications and instructions of the UN-Habitat supervising engineer. | C28: No. | D28: 2 | E28: تبديل المفاتيح الكهربائية بدون تمديد اسلاك: تجهيز و تثبيت المفاتيح الكهربائية (مفرد-مزدوج-ثلاثي ) بدون التوصيلات و التمديدات الكهربائية حسب توجيهات المهندس المشرف. يجب تركيب المآخذ و المفاتيح ضمن الأماكن الرطبة بمسافة تبعد 60 سم عن أقرب مصدر مائي. يجب تثبيتها بصورة افقية منتظمة. يجب تصليح اي اضرار بالحائط الناتجة عن العمل. كل العمل يكون حسب توجيهات المهندس المشرف
A29: 3-7 | B29: Ceiling fan: Supply materials and labour to install good quality electrical ceiling fans for interiors ("shami" type or equivalent), according to the instructions of UN-Habitat supervisor engineer. | C29: No. | D29: 1 | E29: المروحة السقفية : تجهيز و تركيب مروحة كهربائية سقفية, مع التوصيل و التشغيل. حسب توجيهات المهندس المشرف .

Sheet A02
A1: Bill of Quantities (BoQ) for the Rehabilitation of 8 Damaged Houses in Al-Moutanazah Zone, Al-Baker Neighborhood, Heet District, Anbar Governorate
B2: This is the detailed BoQs for 1 house (code indicated in the sheet label)الكشف لمنزل واحد (رمز المنزل مؤشر كعنوان للورقة ادناه)
A3: # | B3: Item Description | C3: Unit | D3: Qty.
A4: 1 | B4: Civil Works - General Notes: The contractor's responsibility includes conducting all necessary tests and providing all samples. The samples must be approved by the UN-Habitat Engineer. In cases where necessary works are not mentioned in the BoQ, the contractor should add this item to the BoQ before starting the works, otherwise the contractor should execute this work for no extra cost and does not have any right to ask for any variations orders. The prices include painting all iron materials (pipes, angles, frames, etc) with two (2) layers of antirust paint and two layers of good quality oil paint, both produced in Iraq. | D4: الأعمال المدنية - ملاحظات عامة: توفير المواد والعمالة والمعدات اللازمة لتنفيذ البنود الموضحة أدناه ، وجميع تلك الأنشطة المطلوبة لإنجاز المهمة في كل جانب وتفاصيل حسب تعليمات المهندس المشرف للهابيتات. يجب أن تكون جميع الأعمال والمواد التي يقدمها المقاول مطابقة للمواصفات القياسية العراقية ذات الصلة وشروط ومواصفات المناقصة ووفقًا لتعليمات المهندس المشرف للهابيتات. يجب أن تشمل الأسعار توفير وتوريد وتركيب جميع المواد والمعدات اللازمة لإكمال البنود وفقًا لجداول الكميات والرسومات الفنية إن وجدت. تتضمن مسؤولية المقاول أيضًا القيام بكل الاختبارات اللازمة. في الحالات التي لم يتم فيها ذكر بعض الأعمال في جداول الكميات وتم ذكرها في الرسومات الفنية ، يجب على المقاول إضافة هذا البند إلى جداول الكميات قبل البدء في الأعمال ، وإلا يجب على المقاول تنفيذ هذا العمل دون أي تكلفة إضافية وليس له أي حق في طلب أي أوامر الاختلافات. تشمل الأسعار طلاء جميع المواد الحديدية (الأنابيب والزوايا والإطارات وغيرها) بطبقتين (2) من الطلاء المضاد للصدأ وطبقتين من الطلاء الزيتي ذي النوعية الجيدة ، وكلاهما منتج في العراق. سيتجنب المقاول إغلاق الشوارع وخلق مخاطر مرورية وإزعاج للجيران بوضع كميات كبيرة من مواد البناء والمعدات - عدا على أساس مؤقت للتحميل والتنزيل.
A5: 1-1 | B5: Reinforced Concrete: Provision of materials, labour and equipment and all requirements for casting reinforced concrete (1:2:4), for foundations, roof, beams, columns, slab, stairs and concrete parapets, including form works and steel reinforcement. Slopes of flat surfaces should be directed towards the outside. The Contractor should ensure the highest standards of workmanship by skilled or appropriately trained workmen. The Contractor will use ordinary cement produced in Iraq (same specifications as Portland Cement) and best quality aggregates, mixed with fresh and clear water. Vibrators or other suitable equipment will be used to ensure that the cement pour is free from air bubbles and voids within the cement mixture. The concrete will be cured appropriately to increase durability. All works should be done according to the instructions of UN-Habitat supervising Engineer. | C5: M3 | E5: أعمال الكونكريت المسلح: توفير المواد والايدي العاملة و المعدات اللازمة لتنفيذ أعمال الكونكريت المسلح (1:2:4) للأسس , الأسقف, الجسور, الأدراج و المظلات. السعر يشمل أعمال القالب الخشبي و حديد التسليح و كل ما يلزم لإأنجاز العمل. يجب مراعاة اوزان الصب و توفير ميلان في الصب عند الحاجة حسب توجيهات المهندس المشرف يجب أن يتم تنفيذ العمل بأفضل المواصفات الفنية و عن طريق تعوفير ايدي عاملة ماهرة. يجب استخدام السمنت المصنوع في العراق بنفس مواصفات السمنت البورتلاندي ونوعية عالية الجودة من الحصى و الرمل و تخلط بالماء النظيف و يجب كذلك استعمال الهزازات لضمان عدم وجود فجوات هوائية داخل الصب و حسب المواصفات العراقية يجب ان تتم جميع الأعمال حسب توجيهات المهندس المشرف.
A6: 1-2 | B6: Concrete masonry wall : Provision of materials and labour to build external and internal walls above or below Damp Proof Course (DPC) in hollow concrete blocks (20x20x40cm) or (20x15x40cm) produced by Iraqi factories. Each course will be bound by an ordinary cement mortar (1:3) joint. Cement mortar will fill any voids and gaps. Blocks will be flush and level. In correspondence of the openings (windows and doors), workers will use a half block with the smooth side facing outwards. Workers will avoid using damaged/broken blocks. A mason's line will be used as a vertical guide. Excess mortar will be removed before it hardens. The price will include the installation of 2 levelled angle steel sections (size 2.5"x2.5"x4 mm), as lintels above the doors and windows, extending at least 25cm on each side of the openings, welded together by min. 3 iron bars corresponding to the width of the wall and covered by iron mesh. The steel sections will be painted with an anti-rust coat primer produce in Iraq, in accordance to the instructions of the UN-Habitat supervising Engineer. | C6: M3 | D6: 6 | E6: أعمال بناء البلوك الاسمنتي: تجهيز المواد و الايدي العاملة و المعدات اللازمة لتنفيذ أعمال بناء البلوك الاسمنتي المجوف , لبناء القواطع الداخلية و الجدران الخارجية و سور السطح و عتبات النوافذ. باستخدام البلوك الاسمنتي المجوف قياس (20*40*20 سم ) أو (20*15*40 سم) و مونة اسمنتية 1:3 . و يشمل العمل تثبيت النوافذ و الأبواب. في حال وجود فتحات يجب تثبيت هيكل معدني من زوايا الحديد (50*50*4 ملم) بشكل أفقي في أعلى الفتحة, يتداخل 25 سم مع الجدران الجانبية من كل جهة يتم صبغ الهيكل المعدني بمواد مضادة للصدأ. و كل ما يلزم لإأنجاز العمل. جمييع الأعمال يجب أن تكون حسب توجيهات المهندس المشرف.
A7: 1-3 | B7: Stone masonry: Stone walls and parapets will be built using stone quarried locally using traditional building techniques. Provision of materials, labour and equipment to build external and internal walls above or below (DPC), fence and parapet by using 30 cm-wide stone with ordinary cement mortar (1:3), including fixing the windows and doors. The stones must be properly cleaned from all forms of dirt (dust, mud, or organic materials). Cracked stone shall not be used. Stones should be wetted before being placed on the mortar. Every stone is carefully fitted to the adjacent stone so as to form neat and close joints. All spaces between two stones must be filled with mortar (no stone shall touch each other directly). The price includes installing 2 precisely levelled angle steel sections (size 2.5"x2.5"x4 mm), as lintels above the doors and windows, extending at least 25cm on each side of the openings, welded together by min. 2 iron bars corresponding to the width of the wall and covered by iron mesh. The steel sections will be painted with an anti-rust coat (as mentioned in the above instructions) and in accordance to the instructions of the UN-Habitat supervising Engineer. | C7: M3 | D7: 6 | E7: أعمال البناء بالحجر: تجهيز المواد و الايدي العاملة و المعدات اللازمة لتنفيذ أعمال بناء بالحجر, لبناء القواطع الداخلية و الجدران الخارجية و سور السطح و عتبات النوافذ. باستخدام الحجر المحلي الصنع بعرض من 30 الى 40 سم حسب توجيه المهندس المشرف. يجب تنظيف الأحجار بشكل صحيح من جميع أشكال الأوساخ (الغبار أو الطين أو المواد العضوية). لا يجوز استخدام الحجر المشقق. يجب ترطيب الأحجار قبل وضع المونة. يجب تركيب الحجر بعناية بالحجر المجاور حتى يتم تشكيل مفاصل أنيقة وإغلاقها بإستخدام مونة اسمنتية 1:3 على ان يتم ملئ الفواصل الجانبية بين البلوك بالمونة. يشمل العمل تثبيت النوافذ و الأبواب. في حال وجود فتحات يجب تثبيت هيكل معدني من زوايا الحديد (50*50*4 ملم) بشكل أفقي في أعلى الفتحة, يتداخل 25 سم مع الجدران الجانبية من كل جهة يتم صبغ الهيكل المعدني بمواد مضادة للصدأ. و كل ما يلزم لإنجاز العمل. جمييع الأعمال يجب أن تكون حسب توجيهات المهندس المشرف.
A8: 1-4 | B8: Cement plastering: Provision of materials, labour and equipment and all other activities that are required for plastering exterior and interior walls, partitions, ceilings and parapets using ordinary cement produced in Iraq (same specifications as Portland Cement) and sand (ratio of 1:3). Plaster finishing should result in straight and smooth surfaces, with clear and straight edges and corners. Plastering will be done by skilled workmanship using an alluminium hollow tube tool and reference strips placed at no more than 1 m distance on large surfaces. The works unit price will also include the removal and disposal of any loose plaster and dust, reparing any cracks and damaged parts of walls and ceilings prior to plastering. Walls will be sprayed with water to help the new plaster to adhere to the old wall. The contractor will complete the job as per the instructions of UN-Habitat supervising engineer. | C8: M2 | D8: 150 | E8: أعمال اللبخ الاسمنتي: توفير المواد و الايدي العاملة و المعدات اللازمة لإنجاز أعمال اللبخ الاسمنتي للجدران الخارجية و الداخلية و الأسقف و سور السطح ( ستارة), باستخدام الاسمنت و الرمل بنسبة خلط (1:3), يجب أن يكون السطح النهائي ناعماً و مستوياً, و الزوايا يجب ان تكون حادة و مستقيمة, في حال وجود مساحات كبيرة يجب استخدام دليل استقامة شاقولي بتباعد أقصى 1 م, يشمل العمل ازالة اللبخ المتضرر و إصلاح الجدران المتضررة, و إتمام العمل بشكل كامل وفق توجيهات المهندس المشرف.
A9: 1-5 | B9: Gypsum Plastering: Provision of materials, labour and equipment and all other necessary activities that are required for plastering the interior walls and ceilings with gypsum sourced in Iraq. Large plastering areas will be divided into smaller more manageable segments by using traditional plaster 'guides' created every 70- 80 cm. Plastered surfaces shall be smooth and all edges straight and levelled. The contractor shall perform all other activities that are required to make the job complete in every aspect and detailed, as per the instructions of UN-Habitat supervising engineer.The works unit price will also include the removal and disposal of any loose plaster and dust, reparing any cracks and damaged parts of walls and ceilings prior to plastering. | C9: M2 | D9: 90 | E9: أعمال اللبخ الجصي: توفير المواد و الايدي العاملة و المعدات اللازمة لإنجاز أعمال اللبخ الجصي للجدران الداخلية , باستخدام اللبخ الجصي, يجب أن يكون السطح النهائي ناعماً و مستوياً, و الزوايا يجب ان تكون حادة و مستقيمة, في حال وجود مساحات كبيرة يجب استخدام دليل استقامة شاقولي بتباعد أقصى 80 سم, يشمل العمل ازالة اللبخ المتضرر و إصلاح الجدران المتضررة, و إتمام العمل بشكل كامل وفق توجيهات المهندس المشرف.
A10: 1-6 | B10: Roof Maintenance: Remove existing damaged concrete roofing tiles, old mastic, underlying sand bed and accumulated dirt. Supply materials and labour to lay hot poured bitumen, after cleaning the roof surfaces, laying polyehylene s, styrofoam s and clean river sand to form slopes, followed by the laying of a new concrete roofing tiles (80 x 80 x 4cm) with adequate slopes towards the roof drains, filling the joints with an approved roofing mastic treated by heat. All works must be done according to the instructions of the UN-Habitat supervising engineer. | C10: M2 | E10: أعمال صيانة الأسطح: توفير المواد و الايدي العاملة و المعدات اللازمة لإزالة طبقات التسطيح الموجودة والمتضررة حسب تقييم المهندس المشرف، الماستك، البلاطات الكونكريتية (شتايكَر)، الرمل النهري و استبدالها بطبقة من الماستك الساخن بعد تنظيف السطح جيداً وفرش طبقة من البولي اثيلين و طبقة من الستايروفوم و من ثم وضع طبقة رمل نهري و تسليطه بالاتجاه المناسب و بعد ذلك وضع البلاطات الكونكريتية (الشتايكَر) بقياس (80x80x4 سم) و تسليطها بالميل المناسب بإتجاه التصريف وبعدها يتم ملئ المفاصل الطولية و العرضية بالماستك الساخن. جميع الأعمال يجب ان تتم بموافقة المهندس المشرف.
A11: 1-7 | B11: Traditional "mosaic"floor tiles: Remove the existing tiles, old mortar and bed, supply materials and lay new polished Kashi ("mosaic" - Venetian style) floor tiles (30cm x 30cm) using cement mortar (1:3). The price includes the removal and safe disposal of all construction debris and waste in a landfill site located outside of the municipality boundary, approved by the Municipality and the UN-Habitat supervising Engineer, in an environmentally friendly manner and in line with the Mosul Municipality standards. | C11: M2 | D11: 40 | E11: بلاط موازييك: توفير المواد و الايدي العاملة و المعدات اللازمة لإزالة البلاط الموزاييك القديم و إستبداله ببلاط جديد محلي (30x30 سم) بإستخدام مونة السمنت والرمل بنسبة خلط (1:3) و يشمل السعر ازالة الانقاض و رميها في المكان المخصص من قبل البلدية تحت اشراف البلدية والمهندس المشرف بطريقة صديقة للبيئة وبما يتماشى مع معايير بلدية الموصل.
A12: 1-8 | B12: Install new wooden door: Provision of materials, labour and equipment and all other necessary activities that are required for the installation of wooden hinged doors (approx. 2.1x1 m) produced in Iraq, with its frame. The price includes supplying and fixing the frame, all required locks, hinges etc, and also repairs of any damages that may occur to the wall or finishing due to the replacement process or refixing. Price includes two (2) coats of good quality semigloss oil paint produced in Iraq. All gaps between walls and door frames will be filled with a polyurethane (PU) joint sealant to ensure an air tight joint. The price includes the removal and disposal of the old damaged doors and/or frames. All works should be done according to instructions of UN-Habitat supervising engineer. | C12: No. | D12: 2 | E12: الأبواب الخشبية: توفير المواد والايدي العاملة و المعدات اللازمة لتركيب باب خشبي مع إطار, متضمنة كافة الاكسسوارات و الايديات و مفاصل الحركة و الأقفال, يتم صبغ الباب و الاطار بطبقتين من الصبغ الدهني, يجب صقل الاصطح و الحواف,إصلاح الأضرار ضمن الجدران الناتجة عن التركيب, يتم ملء الفراغات بين الباب و الجدران بواسطة بوليوريتان ماستيك. يجب إتمام العمل بشكل كامل و جاهز للتشغيل و يجب ازالة الابواب القديمة و رميها في المكان المحدد من قبل البلدية وفق توجيهات المهندس المشرف.
A13: 1-9 | B13: Install new steel door: Provision of materials, labour and equipment and all other necessary activities that are required for the installation of steel hinged doors (approx. 2.1x1 m), produced in Iraq, with their frame and accessories.the door consist of 2 layers of steel ss and filled with Styrofoam in between. The price includes supplying and fixing the frame, all required locks, hinges,and also the repair of any damages that may occur to the wall or finishing due to the replacement and/or refixing process. All gaps between walls and door frames will be filled with a polyurethane (PU) joint sealant to ensure an air tight joint. Price also includes the painting of two (2) coats of red oxide anti-rust primer produced in Iraq, followed by two (2) coats of good quality semigloss oil paint. All works should be done according to instructions of UN-Habitat supervising engineer. | C13: No. | D13: 2 | E13: الأبواب المعدنية الداخلية: توفير المواد والايدي العاملة و المعدات اللازمة لتركيب باب معدني من انتاج عراقي مع إطار, متضمنة كافة الاكسسوارات و الايديات و مفاصل الحركة و الأقفال, يتم صبغ الباب و الاطار بطبقتين من الصبغ المانع للصدأ ومن ثم طبقتين من الصبغ الدهني, يجب صقل الاصطح و الحواف,إصلاح الأضرار ضمن الجدران الناتجة عن التركيب, يتم ملء الفراغات بين الباب و الجدران بواسطة بوليوريتان ماستيك. يجب إتمام العمل بشكل كامل و جاهز للتشغيل و يجب ازالة الابواب القديمة و رميها في المكان المحدد من قبل البلدية وفق توجيهات المهندس المشرف.
A14: 1-10 | B14: Install new external steel door: Provision of materials, labor, equipment and all other necessary activities that are required for removing existing damaged exterior steel doors and supplying and installing new steel doors, produced in Iraq, with frames and all required handles, hinges, locks, etc, the door consist of 2 layers of steel ss and filled with Styrofoam in between . Price also includes painting with two (2) coats of red oxide anti-rust primer produced in Iraq, followed by two (2) coats of good quality semigloss oil paint produced in Iraq. Price also includes repairing and straightening the edges of the wall receiving the new door. All gaps between walls and steel door frames will be filled with a polyurethane (PU) joint sealant. The price includes the disposal of the old damaged steel doors and/or frames. All works should be done according to instructions of UN-Habitat supervising engineer. | C14: M2 | D14: 7 | E14: باب الرئيسي الحديدي: توفير المواد والايدي العاملة و المعدات اللازمة لتركيب باب معدني جديد من انتاج عراقي مع إطار, متضمنة كافة الاكسسوارات و الايديات و مفاصل الحركة و الأقفال, يتم صبغ الباب و الاطار بطبقتين من الصبغ المانع للصدأ ومن ثم طبقتين من الصبغ الدهني, يجب صقل الاصطح و الحواف,إصلاح الأضرار ضمن الجدران الناتجة عن التركيب, يتم ملء الفراغات بين الباب و الجدران بواسطة بوليوريتان ماستيك. يجب إتمام العمل بشكل كامل و جاهز للتشغيل و يجب ازالة الابواب القديمة و رميها في المكان المحدد من قبل البلدية وفق توجيهات المهندس المشرف.
A15: 1-11 | B15: Installing new steel windows with protection bars: Provision materials, labor, equipment and all other necessities and requirements for installing new steel windows on openings on the street, with steel protection bars and antifly mesh. The works also include supply of handles, hinges and all required accessories for completing the work, as well painting of all steel work with two (2) coats of red oxide primer paint produced in Iraq, followed by two (2) coats of good quality semigloss oil paint produced in Iraq. Price shall also includes repairing, straightening and modifying the edges of the wall. All gaps between walls and door frames will be filled with a polyurethane (PU) joint sealant to ensure an air tight joint. The price includes the removal and disposal of the old damaged windows. All works to be done according to instructions of UN-Habitat supervising engineer. | C15: M2 | D15: 6 | E15: تجهيز و تثبيت نافذة معدنية مع قضبان حماية معدنية (كتيبة) : توفير المواد و الايدي العاملة و المعدات اللازمة لتركيب نافذة من الحديد مع قضبان حماية حديدة (كتيبه) وكذلك شبك حماية من الحشرات, متضمنة كافة الاكسسوارات و الايديات و مفاصل الحركة, الزجاج شفاف سمك 4 ملم, يجب ان يكون خال من الخدوش و الأضرار و التموجات, يتم تثبيته على الهيكل المعدني بواسطة المعجون بشكل محكم. يتم صبغ الباب و الاطار بطبقتين من الصبغ المانع للصدأ ومن ثم طبقتين من الصبغ الدهني حتى التستسير, يجب صقل الاصطح و الحواف. يجب إصلاح الأضرار ضمن الجدران الناتجة عن التركيب,يتم ملء الفراغات بين النافذة و الجدران بواسطة بوليوريتان ماستيك. وفق توجيهات المهندس المشرف.
A16: 1-12 | B16: Windows Glass: Provision of materials, labour and supply materials to install and fix 4mm clear glass for existing windows wherever needed/ The glass shall not have any scratches, cracks, splinters or waves and all glazing works shall be done according to instructions of UN-Habitat supervising Engineer. | C16: M2 | D16: 25 | E16: زجاج النوافذ: توفير المواد و الايدي العاملة و المعدات اللازمة لتركيب زجاج شفاف للنوافذ سمك 4 ملم, للنوافذ المتضررة. يجب ان يكون الزجاج خال من الخدوش و الأضرار و التموجات, يجب إتمام العمل بشكل كامل وفق توجيهات المهندس المشرف.
A17: 1-13 | B17: Oil-based painting: Provision of materials, labour, equipment and all other necessary activities that are required for painting walls and any other places defined by the UN-Habitat engineer with oil-based paint, subject to approval of UN-Habitat supervision engineer. A layer of primer paint must be applied before two (2) layers of good quality semmigloss oil-based paint, produced in Iraq (quality equivalent to to Yakoot, Merjan or Alahliya) to be approved by UN-Habitat supervisor engineer. The price includes any preparatory works required prior to the painting, such as filling and repairing all holes and cracks, removal of nails and flaking old paint, scraping away any lose plaster, etc. All works should be done according to instructions of the UN-Habitat supervision engineer. | C17: M2 | D17: 170 | E17: أعمال الطلاء بالصبغ الدهني: توفير المواد و الايدي العاملة و المعدات اللازمة للطلاء باستخدام طلاء دهني على الجدران المحددة من قبل المهندس المشرف, بجودة تعادل طلاء جوتن أو بيتيك حسب موافقة المهندس المشرف.يتم تنظيف الأسطح قبل الطلاء و تجهيزها و ملئ التجاويف و إزالة المسامير. و من ثم يتم تنفيذ طبقة من الأساس و طبقتين من الطلاء, جميع الأعمال يجب ان تتم بموافقة المهندس المشرف.
A19: 2 | B19: Sanitary and plumbing works - General Notes Provision of materials, works and equipment to implement the items described below. The responsibility of the contractor covers all what is required to complete the job in every part and as detailed as per the instruction of the UN-Habitat supervision engineer. The price also includes removal and repairing of any damages that may occur to walls or finishing due to replacements, finishing and/or refixing. All samples of materials must be approved by the UN-Habitat Engineer prior to their purchase and/or delivery at site the work includes the opening of sewers and pipes blocked when needed. All works should be done according to instructions of the UN-Habitat supervising engineer. | D19: الأعمال الصحية-ملاحظات عامة: توفير المواد والاعمال والمعدات اللازمة لتنفيذ البنود المبينة أدناه. وتغطي مسؤوليه المتعهد كل ما هو مطلوب لإنجاز العمل في كل جزء وعلي النحو المفصل وفقا لتعليمات المهندس المشرف للهابيتات. ويشمل السعر أيضا أزاله وإصلاح اي اضرار قد تحدث إلى الجدران أو التشطيب بسبب استبدال, التشطيب و/أو أعاده تثبيت. ويجب ان يوافق مهندس موئل الأمم المتحدة علي جميع عينات المواد قبل شرائها و/أو تسليمها في الموقع. وينبغي القيام بجميع الاعمال وفقا لتعليمات المهندس المشرف للهابيتات.
A20: 2-1 | B20: Sitting toilet installation for elderly and disabled: Provide materials and required labour to install a new western-style sitting dual-flush toilet bowl with pedestal of the best brand available made in Iraq (if not available: Turkish or Iranian can be used), equipped with integrated water spray rinser. All gaps will be air sealed. The price includes supply and fixing of a new connection sewage pipe where necessary, a 1/2" chrome tap in the vicinity of the toilet at 40 cm from the floor, the fitting of a suitably-dimensioned toilet seat cover in plastic and a non-slip support stainless steel handrail (40-50 cm long) fixed diagonally to the wall beside the toilet. All works must be conducted according to the instructions of UN-Habitat supervising engineer. | C20: No. | D20: 0 | E20: تواليت (مرحاض) غربي لكبار السن و لذوي الاحتياجات الخاصة: توفير المواد والايدي العاملة و المعدات اللازمة لتثبيت مرحاض غربي مع قاعدة لأفضل علامة تجارية صنع في العراق (إن لم تكن متوفرة: يمكن استخدام التركية أو الإيرانية) ، مزودة بمزود بخاخات الماء المتكاملة. يشمل السعر توفير وتركيب أنبوب صرف صحي جديد للتوصيل عند الضرورة ، وحنفية كروم 1/2 "بالقرب من المرحاض على بعد 40 سم من الأرضية ، وتركيب غطاء مقعد المرحاض ذي أبعاد مناسبة من البلاستيك ، و يشمل العمل توفير دعامة مسكة (محجر) من الحديد غير القابل للصدأ (طوله 40-50 سم) مثبتة بصورة افقية على الحائط بجانب المرحاض. يتم تنفيذ جميع الاعمال حسب توجيهات المهندس المشرف.
A22: 3 | B22: Electrical works Note: Molded Case Circuit Breaker (MCCB), Main Distribution Board (MDBs), Distribution Board (DBs) wiring must be re-arranged in suitable, safe and free of hazards way whenever need. The works inlcude provision of materials, works, equipment and any other requirements and necessities to implement the items described below. All types of wiring, trenching, etc. and all that is required to make the job complete in every part and details as per the instruction of UN-Habitat supervising engineer is included in the unit rates. The sample of all items must be approved by the UN-Habitat engineer prior to its purchase and or delivery at site. The price includes removing the old and repairing of any damages that may occur to the wall or finishing due to the replacement process or finishing and refixing, all work done according to instructions of the supervisor engineer. | D22: الأعمال الكهربائية-ملاحظات عامة: ملاحظه: يجب أن يتم اعادة ترتيب قواطع الدوائر الكهربائية والبورد الرئيسي وبوردات التوزيع بطريقة مناسبه وأمنه وخاليه من المخاطر حسب الحاجة. تعمل الشركة علي توفير المواد والاعمال والمعدات وغيرها من المتطلبات والضروريات لتنفيذ البنود الموصوفة أدناه. جميع أنواع الأسلاك ، والتراي كيبل ، وما إلى ذلك ، وكل ما هو مطلوب لجعل هذه المهمة كامله في كل جزء والتفاصيل وفقا لتعليمات المهندس المشرف للهابيتات. ويجب ان يوافق المهندسالمشرف للهابيتات على جميع العينات و من جميع الأصناف قبل شرائها أو تسليمها في الموقع. ويشمل السعر أزاله الأسلاك والمواد القديمة وإصلاح اي اضرار قد تحدث في الجدران أو التشطيب بسبب عمليه الاستبدال وأعاده التثبيت ، كل العمل المنجز وفقا لتعليمات المهندس المشرف للهابيتات.
A23: 3-1 | B23: LED Tube lighting and connections (120 cm): Supply materials and labour to install and operate a surface type, single LED tube light fixture 120cm long, and all required accessories, mounted on wall or ceiling, with all wiring system (2x1.5 mm2 copper wire) fixed on the wall, and any other relevant requirements to complete the job in every aspect. The commissioning (start up) of the electrical system will include visual and mechanical inspection to verify that (i) equipment is in compliance with purchase specifications and design intent and that no damage occurred during shipment; (ii) relays and breakers are functioning correctly. All the works must be completed according to the specifications and instructions of the UN-Habitat supervising engineer. | C23: No. | D23: 3 | E23: شمعة ليد إنارة (120 سم) مع قاعدة مع التمديدات: تجهيز و تثبيت شمعة ليد إنارة نيون مفرد بطول (120 سم) مع قاعدة, مع كافة التوصيلات و الاكسسوارات الازمة للتشغيل حسب توجيهات المهندس المشرف.
A24: 3-2 | B24: New wall socket (15 Amp) with new wiring: Supply materials and labour to install and fix new good quality 2 gang 6 pin UK (type G) or universal type wall sockets with their boxes (15 Amp) of good quality with all required wiring, at 45 cm height from the floor. The work includes all requirements with surface type wiring (2x2.5mm2 copper wire) from the main switch board to the point. The sockets will be carefully levelled. Any damages to the wall will be repaired and gaps replastered. For satefy purposes, all switches and sockets in wet areas (kitchen and bathrooms) are to be installed at a min. distance of 60 cm from any water source. All the works and testing must be completed according to the specifications and instructions of the UN-Habitat supervising engineer. | C24: No. | D24: 1 | E24: مأخذ كهربائي مع تمديد اسلاك (A15): تجهيز و تثبيت مأخذ كهربائي (15A) من النوعية الجيدة مع تمديد الكبلات النحاسية 2*2.5 ملم., موافق عليها من قبل المهندس المشرف. يجب تركيب المآخذ و المفاتيح ضمن الأماكن الرطبة بمسافة تبعد 60 سم عن أقرب مصدر مائي. يجب تثبيتها بصورة افقية منتظمة. يجب تصليح اي اضرار بالحائط الناتجة عن العمل. كل العمل يكون حسب توجيهات المهندس المشرف
A25: 3-3 | B25: Replacement of wall socket (15 Amp) without wiring: Supply materials and labour to remove old socket and install and fix new good quality 2 gang 6 pin good quality UK (type G) or universal type wall socket (15 Amp) only, without new wiring. The switches will be carefully levelled. Any damages to the wall will be repaired and gaps replastered.All the works and testing must be completed according to the specifications and instructions of the UN-Habitat supervising engineer. | C25: No. | D25: 1 | E25: تبديل مأخذ كهربائي (15 A) بدون تمديد اسلاك: تجهيز و تثبيت مأخذ كهربائي (A15 ) بدون امداد وايرات حسب توجيهات المهندس المشرف. يجب تركيب المآخذ و المفاتيح ضمن الأماكن الرطبة بمسافة تبعد 60 سم عن أقرب مصدر مائي. يجب تثبيتها بصورة افقية منتظمة. يجب تصليح اي اضرار بالحائط الناتجة عن العمل. كل العمل يكون حسب توجيهات المهندس المشرف
A26: 3-4 | B26: New wall socket (13 Amp) with new wiring: Supply materials and labour to install and fix new good quality 2 gang 6 pin UK (type G) or universal type wall sockets with their boxes (13 Amp) of good quality with all required wiring, at 45 cm height from the floor. The work includes all requirements with surface type wiring (2x2.5mm2 copper wire) from the main switch board to the point. The sockets will be carefully levelled. Any damages to the wall will be repaired and gaps replastered. For satefy purposes, all switches and sockets in wet areas (kitchen and bathrooms) are to be installed at a min. distance of 60 cm from any water source. All the works and testing must be completed according to the specifications and instructions of the UN-Habitat supervising engineer. | C26: No. | D26: 4 | E26: مأخذ كهربائي مع تمديد اسلاك (A13) : تجهيز و تثبيت مأخذ كهربائي (13A) من النوعية الجيدة مع تمديد الكبلات النحاسية 2*2.5 ملم., موافق عليها من قبل المهندس المشرف. يجب تركيب المآخذ و المفاتيح ضمن الأماكن الرطبة بمسافة تبعد 60 سم عن أقرب مصدر مائي. يجب تثبيتها بصورة افقية منتظمة. يجب تصليح اي اضرار بالحائط الناتجة عن العمل. كل العمل يكون حسب توجيهات المهندس المشرف
A27: 3-5 | B27: Replacement of wall socket (13 Amp) without wiring: Supply materials and labour to remove old socket and install and fix new good quality 2 gang 6 pin good quality UK (type G) or universal type wall socket (13 Amp) only, without new wiring. The switches will be carefully levelled. Any damages to the wall will be repaired and gaps replastered.All the works and testing must be completed according to the specifications and instructions of the UN-Habitat supervising engineer. | C27: No. | D27: 2 | E27: تبديل مأخذ كهربائي (13 A) بدون تمديد اسلاك: تجهيز و تثبيت مأخذ كهربائي (A13 ) بدون امداد وايرات حسب توجيهات المهندس المشرف. يجب تركيب المآخذ و المفاتيح ضمن الأماكن الرطبة بمسافة تبعد 60 سم عن أقرب مصدر مائي. يجب تثبيتها بصورة افقية منتظمة. يجب تصليح اي اضرار بالحائط الناتجة عن العمل. كل العمل يكون حسب توجيهات المهندس المشرف
A28: 3-6 | B28: Electrical wall switch replacement without wiring: Supply materials and labour to remove old switch and install and fix 1 or 2 gang one way wall switch (one, two or three lines) only, without wiring, as per the instructions of UN-Habitat supervisor engineer. The switches will be carefully levelled. Any damages to the wall will be repaired and gaps replastered. For satefy purposes, all switches and sockets in wet areas (kitchen and bathrooms) are to be installed at a min. distance of 60 cm from any water source. All the works and testing must be completed according to the specifications and instructions of the UN-Habitat supervising engineer. | C28: No. | D28: 3 | E28: تبديل المفاتيح الكهربائية بدون تمديد اسلاك: تجهيز و تثبيت المفاتيح الكهربائية (مفرد-مزدوج-ثلاثي ) بدون التوصيلات و التمديدات الكهربائية حسب توجيهات المهندس المشرف. يجب تركيب المآخذ و المفاتيح ضمن الأماكن الرطبة بمسافة تبعد 60 سم عن أقرب مصدر مائي. يجب تثبيتها بصورة افقية منتظمة. يجب تصليح اي اضرار بالحائط الناتجة عن العمل. كل العمل يكون حسب توجيهات المهندس المشرف
A29: 3-7 | B29: Ceiling fan: Supply materials and labour to install good quality electrical ceiling fans for interiors ("shami" type or equivalent), according to the instructions of UN-Habitat supervisor engineer. | C29: No. | D29: 1 | E29: المروحة السقفية : تجهيز و تركيب مروحة كهربائية سقفية, مع التوصيل و التشغيل. حسب توجيهات المهندس المشرف .

Sheet A03
A1: Bill of Quantities (BoQ) for the Rehabilitation of 8 Damaged Houses in Al-Moutanazah Zone, Al-Baker Neighborhood, Heet District, Anbar Governorate
B2: This is the detailed BoQs for 1 house (code indicated in the sheet label)الكشف لمنزل واحد (رمز المنزل مؤشر كعنوان للورقة ادناه)
A3: # | B3: Item Description | C3: Unit | D3: Qty.
A4: 1 | B4: Civil Works - General Notes: The contractor's responsibility includes conducting all necessary tests and providing all samples. The samples must be approved by the UN-Habitat Engineer. In cases where necessary works are not mentioned in the BoQ, the contractor should add this item to the BoQ before starting the works, otherwise the contractor should execute this work for no extra cost and does not have any right to ask for any variations orders. The prices include painting all iron materials (pipes, angles, frames, etc) with two (2) layers of antirust paint and two layers of good quality oil paint, both produced in Iraq. | D4: الأعمال المدنية - ملاحظات عامة: توفير المواد والعمالة والمعدات اللازمة لتنفيذ البنود الموضحة أدناه ، وجميع تلك الأنشطة المطلوبة لإنجاز المهمة في كل جانب وتفاصيل حسب تعليمات المهندس المشرف للهابيتات. يجب أن تكون جميع الأعمال والمواد التي يقدمها المقاول مطابقة للمواصفات القياسية العراقية ذات الصلة وشروط ومواصفات المناقصة ووفقًا لتعليمات المهندس المشرف للهابيتات. يجب أن تشمل الأسعار توفير وتوريد وتركيب جميع المواد والمعدات اللازمة لإكمال البنود وفقًا لجداول الكميات والرسومات الفنية إن وجدت. تتضمن مسؤولية المقاول أيضًا القيام بكل الاختبارات اللازمة. في الحالات التي لم يتم فيها ذكر بعض الأعمال في جداول الكميات وتم ذكرها في الرسومات الفنية ، يجب على المقاول إضافة هذا البند إلى جداول الكميات قبل البدء في الأعمال ، وإلا يجب على المقاول تنفيذ هذا العمل دون أي تكلفة إضافية وليس له أي حق في طلب أي أوامر الاختلافات. تشمل الأسعار طلاء جميع المواد الحديدية (الأنابيب والزوايا والإطارات وغيرها) بطبقتين (2) من الطلاء المضاد للصدأ وطبقتين من الطلاء الزيتي ذي النوعية الجيدة ، وكلاهما منتج في العراق. سيتجنب المقاول إغلاق الشوارع وخلق مخاطر مرورية وإزعاج للجيران بوضع كميات كبيرة من مواد البناء والمعدات - عدا على أساس مؤقت للتحميل والتنزيل.
A5: 1-1 | B5: Reinforced Concrete: Provision of materials, labour and equipment and all requirements for casting reinforced concrete (1:2:4), for foundations, roof, beams, columns, slab, stairs and concrete parapets, including form works and steel reinforcement. Slopes of flat surfaces should be directed towards the outside. The Contractor should ensure the highest standards of workmanship by skilled or appropriately trained workmen. The Contractor will use ordinary cement produced in Iraq (same specifications as Portland Cement) and best quality aggregates, mixed with fresh and clear water. Vibrators or other suitable equipment will be used to ensure that the cement pour is free from air bubbles and voids within the cement mixture. The concrete will be cured appropriately to increase durability. All works should be done according to the instructions of UN-Habitat supervising Engineer. | C5: M3 | E5: أعمال الكونكريت المسلح: توفير المواد والايدي العاملة و المعدات اللازمة لتنفيذ أعمال الكونكريت المسلح (1:2:4) للأسس , الأسقف, الجسور, الأدراج و المظلات. السعر يشمل أعمال القالب الخشبي و حديد التسليح و كل ما يلزم لإأنجاز العمل. يجب مراعاة اوزان الصب و توفير ميلان في الصب عند الحاجة حسب توجيهات المهندس المشرف يجب أن يتم تنفيذ العمل بأفضل المواصفات الفنية و عن طريق تعوفير ايدي عاملة ماهرة. يجب استخدام السمنت المصنوع في العراق بنفس مواصفات السمنت البورتلاندي ونوعية عالية الجودة من الحصى و الرمل و تخلط بالماء النظيف و يجب كذلك استعمال الهزازات لضمان عدم وجود فجوات هوائية داخل الصب و حسب المواصفات العراقية يجب ان تتم جميع الأعمال حسب توجيهات المهندس المشرف.
A6: 1-2 | B6: Concrete masonry wall : Provision of materials and labour to build external and internal walls above or below Damp Proof Course (DPC) in hollow concrete blocks (20x20x40cm) or (20x15x40cm) produced by Iraqi factories. Each course will be bound by an ordinary cement mortar (1:3) joint. Cement mortar will fill any voids and gaps. Blocks will be flush and level. In correspondence of the openings (windows and doors), workers will use a half block with the smooth side facing outwards. Workers will avoid using damaged/broken blocks. A mason's line will be used as a vertical guide. Excess mortar will be removed before it hardens. The price will include the installation of 2 levelled angle steel sections (size 2.5"x2.5"x4 mm), as lintels above the doors and windows, extending at least 25cm on each side of the openings, welded together by min. 3 iron bars corresponding to the width of the wall and covered by iron mesh. The steel sections will be painted with an anti-rust coat primer produce in Iraq, in accordance to the instructions of the UN-Habitat supervising Engineer. | C6: M3 | D6: 6 | E6: أعمال بناء البلوك الاسمنتي: تجهيز المواد و الايدي العاملة و المعدات اللازمة لتنفيذ أعمال بناء البلوك الاسمنتي المجوف , لبناء القواطع الداخلية و الجدران الخارجية و سور السطح و عتبات النوافذ. باستخدام البلوك الاسمنتي المجوف قياس (20*40*20 سم ) أو (20*15*40 سم) و مونة اسمنتية 1:3 . و يشمل العمل تثبيت النوافذ و الأبواب. في حال وجود فتحات يجب تثبيت هيكل معدني من زوايا الحديد (50*50*4 ملم) بشكل أفقي في أعلى الفتحة, يتداخل 25 سم مع الجدران الجانبية من كل جهة يتم صبغ الهيكل المعدني بمواد مضادة للصدأ. و كل ما يلزم لإأنجاز العمل. جمييع الأعمال يجب أن تكون حسب توجيهات المهندس المشرف.
A7: 1-3 | B7: Stone masonry: Stone walls and parapets will be built using stone quarried locally using traditional building techniques. Provision of materials, labour and equipment to build external and internal walls above or below (DPC), fence and parapet by using 30 cm-wide stone with ordinary cement mortar (1:3), including fixing the windows and doors. The stones must be properly cleaned from all forms of dirt (dust, mud, or organic materials). Cracked stone shall not be used. Stones should be wetted before being placed on the mortar. Every stone is carefully fitted to the adjacent stone so as to form neat and close joints. All spaces between two stones must be filled with mortar (no stone shall touch each other directly). The price includes installing 2 precisely levelled angle steel sections (size 2.5"x2.5"x4 mm), as lintels above the doors and windows, extending at least 25cm on each side of the openings, welded together by min. 2 iron bars corresponding to the width of the wall and covered by iron mesh. The steel sections will be painted with an anti-rust coat (as mentioned in the above instructions) and in accordance to the instructions of the UN-Habitat supervising Engineer. | C7: M3 | D7: 7 | E7: أعمال البناء بالحجر: تجهيز المواد و الايدي العاملة و المعدات اللازمة لتنفيذ أعمال بناء بالحجر, لبناء القواطع الداخلية و الجدران الخارجية و سور السطح و عتبات النوافذ. باستخدام الحجر المحلي الصنع بعرض من 30 الى 40 سم حسب توجيه المهندس المشرف. يجب تنظيف الأحجار بشكل صحيح من جميع أشكال الأوساخ (الغبار أو الطين أو المواد العضوية). لا يجوز استخدام الحجر المشقق. يجب ترطيب الأحجار قبل وضع المونة. يجب تركيب الحجر بعناية بالحجر المجاور حتى يتم تشكيل مفاصل أنيقة وإغلاقها بإستخدام مونة اسمنتية 1:3 على ان يتم ملئ الفواصل الجانبية بين البلوك بالمونة. يشمل العمل تثبيت النوافذ و الأبواب. في حال وجود فتحات يجب تثبيت هيكل معدني من زوايا الحديد (50*50*4 ملم) بشكل أفقي في أعلى الفتحة, يتداخل 25 سم مع الجدران الجانبية من كل جهة يتم صبغ الهيكل المعدني بمواد مضادة للصدأ. و كل ما يلزم لإنجاز العمل. جمييع الأعمال يجب أن تكون حسب توجيهات المهندس المشرف.
A8: 1-4 | B8: Cement plastering: Provision of materials, labour and equipment and all other activities that are required for plastering exterior and interior walls, partitions, ceilings and parapets using ordinary cement produced in Iraq (same specifications as Portland Cement) and sand (ratio of 1:3). Plaster finishing should result in straight and smooth surfaces, with clear and straight edges and corners. Plastering will be done by skilled workmanship using an alluminium hollow tube tool and reference strips placed at no more than 1 m distance on large surfaces. The works unit price will also include the removal and disposal of any loose plaster and dust, reparing any cracks and damaged parts of walls and ceilings prior to plastering. Walls will be sprayed with water to help the new plaster to adhere to the old wall. The contractor will complete the job as per the instructions of UN-Habitat supervising engineer. | C8: M2 | D8: 80 | E8: أعمال اللبخ الاسمنتي: توفير المواد و الايدي العاملة و المعدات اللازمة لإنجاز أعمال اللبخ الاسمنتي للجدران الخارجية و الداخلية و الأسقف و سور السطح ( ستارة), باستخدام الاسمنت و الرمل بنسبة خلط (1:3), يجب أن يكون السطح النهائي ناعماً و مستوياً, و الزوايا يجب ان تكون حادة و مستقيمة, في حال وجود مساحات كبيرة يجب استخدام دليل استقامة شاقولي بتباعد أقصى 1 م, يشمل العمل ازالة اللبخ المتضرر و إصلاح الجدران المتضررة, و إتمام العمل بشكل كامل وفق توجيهات المهندس المشرف.
A9: 1-5 | B9: Gypsum Plastering: Provision of materials, labour and equipment and all other necessary activities that are required for plastering the interior walls and ceilings with gypsum sourced in Iraq. Large plastering areas will be divided into smaller more manageable segments by using traditional plaster 'guides' created every 70- 80 cm. Plastered surfaces shall be smooth and all edges straight and levelled. The contractor shall perform all other activities that are required to make the job complete in every aspect and detailed, as per the instructions of UN-Habitat supervising engineer.The works unit price will also include the removal and disposal of any loose plaster and dust, reparing any cracks and damaged parts of walls and ceilings prior to plastering. | C9: M2 | D9: 100 | E9: أعمال اللبخ الجصي: توفير المواد و الايدي العاملة و المعدات اللازمة لإنجاز أعمال اللبخ الجصي للجدران الداخلية , باستخدام اللبخ الجصي, يجب أن يكون السطح النهائي ناعماً و مستوياً, و الزوايا يجب ان تكون حادة و مستقيمة, في حال وجود مساحات كبيرة يجب استخدام دليل استقامة شاقولي بتباعد أقصى 80 سم, يشمل العمل ازالة اللبخ المتضرر و إصلاح الجدران المتضررة, و إتمام العمل بشكل كامل وفق توجيهات المهندس المشرف.
A10: 1-6 | B10: Roof Maintenance: Remove existing damaged concrete roofing tiles, old mastic, underlying sand bed and accumulated dirt. Supply materials and labour to lay hot poured bitumen, after cleaning the roof surfaces, laying polyehylene s, styrofoam s and clean river sand to form slopes, followed by the laying of a new concrete roofing tiles (80 x 80 x 4cm) with adequate slopes towards the roof drains, filling the joints with an approved roofing mastic treated by heat. All works must be done according to the instructions of the UN-Habitat supervising engineer. | C10: M2 | E10: أعمال صيانة الأسطح: توفير المواد و الايدي العاملة و المعدات اللازمة لإزالة طبقات التسطيح الموجودة والمتضررة حسب تقييم المهندس المشرف، الماستك، البلاطات الكونكريتية (شتايكَر)، الرمل النهري و استبدالها بطبقة من الماستك الساخن بعد تنظيف السطح جيداً وفرش طبقة من البولي اثيلين و طبقة من الستايروفوم و من ثم وضع طبقة رمل نهري و تسليطه بالاتجاه المناسب و بعد ذلك وضع البلاطات الكونكريتية (الشتايكَر) بقياس (80x80x4 سم) و تسليطها بالميل المناسب بإتجاه التصريف وبعدها يتم ملئ المفاصل الطولية و العرضية بالماستك الساخن. جميع الأعمال يجب ان تتم بموافقة المهندس المشرف.
A11: 1-7 | B11: Traditional "mosaic"floor tiles: Remove the existing tiles, old mortar and bed, supply materials and lay new polished Kashi ("mosaic" - Venetian style) floor tiles (30cm x 30cm) using cement mortar (1:3). The price includes the removal and safe disposal of all construction debris and waste in a landfill site located outside of the municipality boundary, approved by the Municipality and the UN-Habitat supervising Engineer, in an environmentally friendly manner and in line with the Mosul Municipality standards. | C11: M2 | D11: 40 | E11: بلاط موازييك: توفير المواد و الايدي العاملة و المعدات اللازمة لإزالة البلاط الموزاييك القديم و إستبداله ببلاط جديد محلي (30x30 سم) بإستخدام مونة السمنت والرمل بنسبة خلط (1:3) و يشمل السعر ازالة الانقاض و رميها في المكان المخصص من قبل البلدية تحت اشراف البلدية والمهندس المشرف بطريقة صديقة للبيئة وبما يتماشى مع معايير بلدية الموصل.
A12: 1-8 | B12: Install new wooden door: Provision of materials, labour and equipment and all other necessary activities that are required for the installation of wooden hinged doors (approx. 2.1x1 m) produced in Iraq, with its frame. The price includes supplying and fixing the frame, all required locks, hinges etc, and also repairs of any damages that may occur to the wall or finishing due to the replacement process or refixing. Price includes two (2) coats of good quality semigloss oil paint produced in Iraq. All gaps between walls and door frames will be filled with a polyurethane (PU) joint sealant to ensure an air tight joint. The price includes the removal and disposal of the old damaged doors and/or frames. All works should be done according to instructions of UN-Habitat supervising engineer. | C12: No. | D12: 2 | E12: الأبواب الخشبية: توفير المواد والايدي العاملة و المعدات اللازمة لتركيب باب خشبي مع إطار, متضمنة كافة الاكسسوارات و الايديات و مفاصل الحركة و الأقفال, يتم صبغ الباب و الاطار بطبقتين من الصبغ الدهني, يجب صقل الاصطح و الحواف,إصلاح الأضرار ضمن الجدران الناتجة عن التركيب, يتم ملء الفراغات بين الباب و الجدران بواسطة بوليوريتان ماستيك. يجب إتمام العمل بشكل كامل و جاهز للتشغيل و يجب ازالة الابواب القديمة و رميها في المكان المحدد من قبل البلدية وفق توجيهات المهندس المشرف.
A13: 1-9 | B13: Install new steel door: Provision of materials, labour and equipment and all other necessary activities that are required for the installation of steel hinged doors (approx. 2.1x1 m), produced in Iraq, with their frame and accessories.the door consist of 2 layers of steel ss and filled with Styrofoam in between. The price includes supplying and fixing the frame, all required locks, hinges,and also the repair of any damages that may occur to the wall or finishing due to the replacement and/or refixing process. All gaps between walls and door frames will be filled with a polyurethane (PU) joint sealant to ensure an air tight joint. Price also includes the painting of two (2) coats of red oxide anti-rust primer produced in Iraq, followed by two (2) coats of good quality semigloss oil paint. All works should be done according to instructions of UN-Habitat supervising engineer. | C13: No. | D13: 2 | E13: الأبواب المعدنية الداخلية: توفير المواد والايدي العاملة و المعدات اللازمة لتركيب باب معدني من انتاج عراقي مع إطار, متضمنة كافة الاكسسوارات و الايديات و مفاصل الحركة و الأقفال, يتم صبغ الباب و الاطار بطبقتين من الصبغ المانع للصدأ ومن ثم طبقتين من الصبغ الدهني, يجب صقل الاصطح و الحواف,إصلاح الأضرار ضمن الجدران الناتجة عن التركيب, يتم ملء الفراغات بين الباب و الجدران بواسطة بوليوريتان ماستيك. يجب إتمام العمل بشكل كامل و جاهز للتشغيل و يجب ازالة الابواب القديمة و رميها في المكان المحدد من قبل البلدية وفق توجيهات المهندس المشرف.
A14: 1-10 | B14: Install new external steel door: Provision of materials, labor, equipment and all other necessary activities that are required for removing existing damaged exterior steel doors and supplying and installing new steel doors, produced in Iraq, with frames and all required handles, hinges, locks, etc, the door consist of 2 layers of steel ss and filled with Styrofoam in between . Price also includes painting with two (2) coats of red oxide anti-rust primer produced in Iraq, followed by two (2) coats of good quality semigloss oil paint produced in Iraq. Price also includes repairing and straightening the edges of the wall receiving the new door. All gaps between walls and steel door frames will be filled with a polyurethane (PU) joint sealant. The price includes the disposal of the old damaged steel doors and/or frames. All works should be done according to instructions of UN-Habitat supervising engineer. | C14: M2 | D14: 7 | E14: باب الرئيسي الحديدي: توفير المواد والايدي العاملة و المعدات اللازمة لتركيب باب معدني جديد من انتاج عراقي مع إطار, متضمنة كافة الاكسسوارات و الايديات و مفاصل الحركة و الأقفال, يتم صبغ الباب و الاطار بطبقتين من الصبغ المانع للصدأ ومن ثم طبقتين من الصبغ الدهني, يجب صقل الاصطح و الحواف,إصلاح الأضرار ضمن الجدران الناتجة عن التركيب, يتم ملء الفراغات بين الباب و الجدران بواسطة بوليوريتان ماستيك. يجب إتمام العمل بشكل كامل و جاهز للتشغيل و يجب ازالة الابواب القديمة و رميها في المكان المحدد من قبل البلدية وفق توجيهات المهندس المشرف.
A15: 1-11 | B15: Installing new steel windows with protection bars: Provision materials, labor, equipment and all other necessities and requirements for installing new steel windows on openings on the street, with steel protection bars and antifly mesh. The works also include supply of handles, hinges and all required accessories for completing the work, as well painting of all steel work with two (2) coats of red oxide primer paint produced in Iraq, followed by two (2) coats of good quality semigloss oil paint produced in Iraq. Price shall also includes repairing, straightening and modifying the edges of the wall. All gaps between walls and door frames will be filled with a polyurethane (PU) joint sealant to ensure an air tight joint. The price includes the removal and disposal of the old damaged windows. All works to be done according to instructions of UN-Habitat supervising engineer. | C15: M2 | D15: 6 | E15: تجهيز و تثبيت نافذة معدنية مع قضبان حماية معدنية (كتيبة) : توفير المواد و الايدي العاملة و المعدات اللازمة لتركيب نافذة من الحديد مع قضبان حماية حديدة (كتيبه) وكذلك شبك حماية من الحشرات, متضمنة كافة الاكسسوارات و الايديات و مفاصل الحركة, الزجاج شفاف سمك 4 ملم, يجب ان يكون خال من الخدوش و الأضرار و التموجات, يتم تثبيته على الهيكل المعدني بواسطة المعجون بشكل محكم. يتم صبغ الباب و الاطار بطبقتين من الصبغ المانع للصدأ ومن ثم طبقتين من الصبغ الدهني حتى التستسير, يجب صقل الاصطح و الحواف. يجب إصلاح الأضرار ضمن الجدران الناتجة عن التركيب,يتم ملء الفراغات بين النافذة و الجدران بواسطة بوليوريتان ماستيك. وفق توجيهات المهندس المشرف.
A16: 1-12 | B16: Windows Glass: Provision of materials, labour and supply materials to install and fix 4mm clear glass for existing windows wherever needed/ The glass shall not have any scratches, cracks, splinters or waves and all glazing works shall be done according to instructions of UN-Habitat supervising Engineer. | C16: M2 | E16: زجاج النوافذ: توفير المواد و الايدي العاملة و المعدات اللازمة لتركيب زجاج شفاف للنوافذ سمك 4 ملم, للنوافذ المتضررة. يجب ان يكون الزجاج خال من الخدوش و الأضرار و التموجات, يجب إتمام العمل بشكل كامل وفق توجيهات المهندس المشرف.
A17: 1-13 | B17: Oil-based painting: Provision of materials, labour, equipment and all other necessary activities that are required for painting walls and any other places defined by the UN-Habitat engineer with oil-based paint, subject to approval of UN-Habitat supervision engineer. A layer of primer paint must be applied before two (2) layers of good quality semmigloss oil-based paint, produced in Iraq (quality equivalent to to Yakoot, Merjan or Alahliya) to be approved by UN-Habitat supervisor engineer. The price includes any preparatory works required prior to the painting, such as filling and repairing all holes and cracks, removal of nails and flaking old paint, scraping away any lose plaster, etc. All works should be done according to instructions of the UN-Habitat supervision engineer. | C17: M2 | E17: أعمال الطلاء بالصبغ الدهني: توفير المواد و الايدي العاملة و المعدات اللازمة للطلاء باستخدام طلاء دهني على الجدران المحددة من قبل المهندس المشرف, بجودة تعادل طلاء جوتن أو بيتيك حسب موافقة المهندس المشرف.يتم تنظيف الأسطح قبل الطلاء و تجهيزها و ملئ التجاويف و إزالة المسامير. و من ثم يتم تنفيذ طبقة من الأساس و طبقتين من الطلاء, جميع الأعمال يجب ان تتم بموافقة المهندس المشرف.
A19: 2 | B19: Sanitary and plumbing works - General Notes Provision of materials, works and equipment to implement the items described below. The responsibility of the contractor covers all what is required to complete the job in every part and as detailed as per the instruction of the UN-Habitat supervision engineer. The price also includes removal and repairing of any damages that may occur to walls or finishing due to replacements, finishing and/or refixing. All samples of materials must be approved by the UN-Habitat Engineer prior to their purchase and/or delivery at site the work includes the opening of sewers and pipes blocked when needed. All works should be done according to instructions of the UN-Habitat supervising engineer. | D19: الأعمال الصحية-ملاحظات عامة: توفير المواد والاعمال والمعدات اللازمة لتنفيذ البنود المبينة أدناه. وتغطي مسؤوليه المتعهد كل ما هو مطلوب لإنجاز العمل في كل جزء وعلي النحو المفصل وفقا لتعليمات المهندس المشرف للهابيتات. ويشمل السعر أيضا أزاله وإصلاح اي اضرار قد تحدث إلى الجدران أو التشطيب بسبب استبدال, التشطيب و/أو أعاده تثبيت. ويجب ان يوافق مهندس موئل الأمم المتحدة علي جميع عينات المواد قبل شرائها و/أو تسليمها في الموقع. وينبغي القيام بجميع الاعمال وفقا لتعليمات المهندس المشرف للهابيتات.
A20: 2-1 | B20: Sitting toilet installation for elderly and disabled: Provide materials and required labour to install a new western-style sitting dual-flush toilet bowl with pedestal of the best brand available made in Iraq (if not available: Turkish or Iranian can be used), equipped with integrated water spray rinser. All gaps will be air sealed. The price includes supply and fixing of a new connection sewage pipe where necessary, a 1/2" chrome tap in the vicinity of the toilet at 40 cm from the floor, the fitting of a suitably-dimensioned toilet seat cover in plastic and a non-slip support stainless steel handrail (40-50 cm long) fixed diagonally to the wall beside the toilet. All works must be conducted according to the instructions of UN-Habitat supervising engineer. | C20: No. | D20: 0 | E20: تواليت (مرحاض) غربي لكبار السن و لذوي الاحتياجات الخاصة: توفير المواد والايدي العاملة و المعدات اللازمة لتثبيت مرحاض غربي مع قاعدة لأفضل علامة تجارية صنع في العراق (إن لم تكن متوفرة: يمكن استخدام التركية أو الإيرانية) ، مزودة بمزود بخاخات الماء المتكاملة. يشمل السعر توفير وتركيب أنبوب صرف صحي جديد للتوصيل عند الضرورة ، وحنفية كروم 1/2 "بالقرب من المرحاض على بعد 40 سم من الأرضية ، وتركيب غطاء مقعد المرحاض ذي أبعاد مناسبة من البلاستيك ، و يشمل العمل توفير دعامة مسكة (محجر) من الحديد غير القابل للصدأ (طوله 40-50 سم) مثبتة بصورة افقية على الحائط بجانب المرحاض. يتم تنفيذ جميع الاعمال حسب توجيهات المهندس المشرف.
A22: 3 | B22: Electrical works Note: Molded Case Circuit Breaker (MCCB), Main Distribution Board (MDBs), Distribution Board (DBs) wiring must be re-arranged in suitable, safe and free of hazards way whenever need. The works inlcude provision of materials, works, equipment and any other requirements and necessities to implement the items described below. All types of wiring, trenching, etc. and all that is required to make the job complete in every part and details as per the instruction of UN-Habitat supervising engineer is included in the unit rates. The sample of all items must be approved by the UN-Habitat engineer prior to its purchase and or delivery at site. The price includes removing the old and repairing of any damages that may occur to the wall or finishing due to the replacement process or finishing and refixing, all work done according to instructions of the supervisor engineer. | D22: الأعمال الكهربائية-ملاحظات عامة: ملاحظه: يجب أن يتم اعادة ترتيب قواطع الدوائر الكهربائية والبورد الرئيسي وبوردات التوزيع بطريقة مناسبه وأمنه وخاليه من المخاطر حسب الحاجة. تعمل الشركة علي توفير المواد والاعمال والمعدات وغيرها من المتطلبات والضروريات لتنفيذ البنود الموصوفة أدناه. جميع أنواع الأسلاك ، والتراي كيبل ، وما إلى ذلك ، وكل ما هو مطلوب لجعل هذه المهمة كامله في كل جزء والتفاصيل وفقا لتعليمات المهندس المشرف للهابيتات. ويجب ان يوافق المهندسالمشرف للهابيتات على جميع العينات و من جميع الأصناف قبل شرائها أو تسليمها في الموقع. ويشمل السعر أزاله الأسلاك والمواد القديمة وإصلاح اي اضرار قد تحدث في الجدران أو التشطيب بسبب عمليه الاستبدال وأعاده التثبيت ، كل العمل المنجز وفقا لتعليمات المهندس المشرف للهابيتات.
A23: 3-1 | B23: LED Tube lighting and connections (120 cm): Supply materials and labour to install and operate a surface type, single LED tube light fixture 120cm long, and all required accessories, mounted on wall or ceiling, with all wiring system (2x1.5 mm2 copper wire) fixed on the wall, and any other relevant requirements to complete the job in every aspect. The commissioning (start up) of the electrical system will include visual and mechanical inspection to verify that (i) equipment is in compliance with purchase specifications and design intent and that no damage occurred during shipment; (ii) relays and breakers are functioning correctly. All the works must be completed according to the specifications and instructions of the UN-Habitat supervising engineer. | C23: No. | D23: 3 | E23: شمعة ليد إنارة (120 سم) مع قاعدة مع التمديدات: تجهيز و تثبيت شمعة ليد إنارة نيون مفرد بطول (120 سم) مع قاعدة, مع كافة التوصيلات و الاكسسوارات الازمة للتشغيل حسب توجيهات المهندس المشرف.
A24: 3-2 | B24: New wall socket (15 Amp) with new wiring: Supply materials and labour to install and fix new good quality 2 gang 6 pin UK (type G) or universal type wall sockets with their boxes (15 Amp) of good quality with all required wiring, at 45 cm height from the floor. The work includes all requirements with surface type wiring (2x2.5mm2 copper wire) from the main switch board to the point. The sockets will be carefully levelled. Any damages to the wall will be repaired and gaps replastered. For satefy purposes, all switches and sockets in wet areas (kitchen and bathrooms) are to be installed at a min. distance of 60 cm from any water source. All the works and testing must be completed according to the specifications and instructions of the UN-Habitat supervising engineer. | C24: No. | D24: 1 | E24: مأخذ كهربائي مع تمديد اسلاك (A15): تجهيز و تثبيت مأخذ كهربائي (15A) من النوعية الجيدة مع تمديد الكبلات النحاسية 2*2.5 ملم., موافق عليها من قبل المهندس المشرف. يجب تركيب المآخذ و المفاتيح ضمن الأماكن الرطبة بمسافة تبعد 60 سم عن أقرب مصدر مائي. يجب تثبيتها بصورة افقية منتظمة. يجب تصليح اي اضرار بالحائط الناتجة عن العمل. كل العمل يكون حسب توجيهات المهندس المشرف
A25: 3-3 | B25: Replacement of wall socket (15 Amp) without wiring: Supply materials and labour to remove old socket and install and fix new good quality 2 gang 6 pin good quality UK (type G) or universal type wall socket (15 Amp) only, without new wiring. The switches will be carefully levelled. Any damages to the wall will be repaired and gaps replastered.All the works and testing must be completed according to the specifications and instructions of the UN-Habitat supervising engineer. | C25: No. | D25: 1 | E25: تبديل مأخذ كهربائي (15 A) بدون تمديد اسلاك: تجهيز و تثبيت مأخذ كهربائي (A15 ) بدون امداد وايرات حسب توجيهات المهندس المشرف. يجب تركيب المآخذ و المفاتيح ضمن الأماكن الرطبة بمسافة تبعد 60 سم عن أقرب مصدر مائي. يجب تثبيتها بصورة افقية منتظمة. يجب تصليح اي اضرار بالحائط الناتجة عن العمل. كل العمل يكون حسب توجيهات المهندس المشرف
A26: 3-4 | B26: New wall socket (13 Amp) with new wiring: Supply materials and labour to install and fix new good quality 2 gang 6 pin UK (type G) or universal type wall sockets with their boxes (13 Amp) of good quality with all required wiring, at 45 cm height from the floor. The work includes all requirements with surface type wiring (2x2.5mm2 copper wire) from the main switch board to the point. The sockets will be carefully levelled. Any damages to the wall will be repaired and gaps replastered. For satefy purposes, all switches and sockets in wet areas (kitchen and bathrooms) are to be installed at a min. distance of 60 cm from any water source. All the works and testing must be completed according to the specifications and instructions of the UN-Habitat supervising engineer. | C26: No. | D26: 4 | E26: مأخذ كهربائي مع تمديد اسلاك (A13) : تجهيز و تثبيت مأخذ كهربائي (13A) من النوعية الجيدة مع تمديد الكبلات النحاسية 2*2.5 ملم., موافق عليها من قبل المهندس المشرف. يجب تركيب المآخذ و المفاتيح ضمن الأماكن الرطبة بمسافة تبعد 60 سم عن أقرب مصدر مائي. يجب تثبيتها بصورة افقية منتظمة. يجب تصليح اي اضرار بالحائط الناتجة عن العمل. كل العمل يكون حسب توجيهات المهندس المشرف
A27: 3-5 | B27: Replacement of wall socket (13 Amp) without wiring: Supply materials and labour to remove old socket and install and fix new good quality 2 gang 6 pin good quality UK (type G) or universal type wall socket (13 Amp) only, without new wiring. The switches will be carefully levelled. Any damages to the wall will be repaired and gaps replastered.All the works and testing must be completed according to the specifications and instructions of the UN-Habitat supervising engineer. | C27: No. | D27: 2 | E27: تبديل مأخذ كهربائي (13 A) بدون تمديد اسلاك: تجهيز و تثبيت مأخذ كهربائي (A13 ) بدون امداد وايرات حسب توجيهات المهندس المشرف. يجب تركيب المآخذ و المفاتيح ضمن الأماكن الرطبة بمسافة تبعد 60 سم عن أقرب مصدر مائي. يجب تثبيتها بصورة افقية منتظمة. يجب تصليح اي اضرار بالحائط الناتجة عن العمل. كل العمل يكون حسب توجيهات المهندس المشرف
A28: 3-6 | B28: Electrical wall switch replacement without wiring: Supply materials and labour to remove old switch and install and fix 1 or 2 gang one way wall switch (one, two or three lines) only, without wiring, as per the instructions of UN-Habitat supervisor engineer. The switches will be carefully levelled. Any damages to the wall will be repaired and gaps replastered. For satefy purposes, all switches and sockets in wet areas (kitchen and bathrooms) are to be installed at a min. distance of 60 cm from any water source. All the works and testing must be completed according to the specifications and instructions of the UN-Habitat supervising engineer. | C28: No. | D28: 3 | E28: تبديل المفاتيح الكهربائية بدون تمديد اسلاك: تجهيز و تثبيت المفاتيح الكهربائية (مفرد-مزدوج-ثلاثي ) بدون التوصيلات و التمديدات الكهربائية حسب توجيهات المهندس المشرف. يجب تركيب المآخذ و المفاتيح ضمن الأماكن الرطبة بمسافة تبعد 60 سم عن أقرب مصدر مائي. يجب تثبيتها بصورة افقية منتظمة. يجب تصليح اي اضرار بالحائط الناتجة عن العمل. كل العمل يكون حسب توجيهات المهندس المشرف
A29: 3-7 | B29: Ceiling fan: Supply materials and labour to install good quality electrical ceiling fans for interiors ("shami" type or equivalent), according to the instructions of UN-Habitat supervisor engineer. | C29: No. | D29: 1 | E29: المروحة السقفية : تجهيز و تركيب مروحة كهربائية سقفية, مع التوصيل و التشغيل. حسب توجيهات المهندس المشرف .

Sheet A26
A1: Bill of Quantities (BoQ) for the Rehabilitation of 9 Damaged Houses in Al-Bakir Neighborhood, Heet District, Anbar Governorate
B2: This is the detailed BoQs for 1 house (code indicated in the sheet label)الكشف لمنزل واحد (رمز المنزل مؤشر كعنوان للورقة ادناه)
A3: # | B3: Item Description | C3: Unit | D3: Qty.
A4: 1 | B4: Civil Works - General Notes: The contractor's responsibility includes conducting all necessary tests and providing all samples. The samples must be approved by the UN-Habitat Engineer. In cases where necessary works are not mentioned in the BoQ, the contractor should add this item to the BoQ before starting the works, otherwise the contractor should execute this work for no extra cost and does not have any right to ask for any variations orders. The prices include painting all iron materials (pipes, angles, frames, etc) with two (2) layers of antirust paint and two layers of good quality oil paint, both produced in Iraq. | D4: الأعمال المدنية - ملاحظات عامة: توفير المواد والعمالة والمعدات اللازمة لتنفيذ البنود الموضحة أدناه ، وجميع تلك الأنشطة المطلوبة لإنجاز المهمة في كل جانب وتفاصيل حسب تعليمات المهندس المشرف للهابيتات. يجب أن تكون جميع الأعمال والمواد التي يقدمها المقاول مطابقة للمواصفات القياسية العراقية ذات الصلة وشروط ومواصفات المناقصة ووفقًا لتعليمات المهندس المشرف للهابيتات. يجب أن تشمل الأسعار توفير وتوريد وتركيب جميع المواد والمعدات اللازمة لإكمال البنود وفقًا لجداول الكميات والرسومات الفنية إن وجدت. تتضمن مسؤولية المقاول أيضًا القيام بكل الاختبارات اللازمة. في الحالات التي لم يتم فيها ذكر بعض الأعمال في جداول الكميات وتم ذكرها في الرسومات الفنية ، يجب على المقاول إضافة هذا البند إلى جداول الكميات قبل البدء في الأعمال ، وإلا يجب على المقاول تنفيذ هذا العمل دون أي تكلفة إضافية وليس له أي حق في طلب أي أوامر الاختلافات. تشمل الأسعار طلاء جميع المواد الحديدية (الأنابيب والزوايا والإطارات وغيرها) بطبقتين (2) من الطلاء المضاد للصدأ وطبقتين من الطلاء الزيتي ذي النوعية الجيدة ، وكلاهما منتج في العراق. سيتجنب المقاول إغلاق الشوارع وخلق مخاطر مرورية وإزعاج للجيران بوضع كميات كبيرة من مواد البناء والمعدات - عدا على أساس مؤقت للتحميل والتنزيل.
A5: 1-1 | B5: Reinforced Concrete: Provision of materials, labour and equipment and all requirements for casting reinforced concrete (1:2:4), for foundations, roof, beams, columns, slab, stairs and concrete parapets, including form works and steel reinforcement. Slopes of flat surfaces should be directed towards the outside. The Contractor should ensure the highest standards of workmanship by skilled or appropriately trained workmen. The Contractor will use ordinary cement produced in Iraq (same specifications as Portland Cement) and best quality aggregates, mixed with fresh and clear water. Vibrators or other suitable equipment will be used to ensure that the cement pour is free from air bubbles and voids within the cement mixture. The concrete will be cured appropriately to increase durability. All works should be done according to the instructions of UN-Habitat supervising Engineer. | C5: M3 | D5: 5 | E5: أعمال الكونكريت المسلح: توفير المواد والايدي العاملة و المعدات اللازمة لتنفيذ أعمال الكونكريت المسلح (1:2:4) للأسس , الأسقف, الجسور, الأدراج و المظلات. السعر يشمل أعمال القالب الخشبي و حديد التسليح و كل ما يلزم لإأنجاز العمل. يجب مراعاة اوزان الصب و توفير ميلان في الصب عند الحاجة حسب توجيهات المهندس المشرف يجب أن يتم تنفيذ العمل بأفضل المواصفات الفنية و عن طريق تعوفير ايدي عاملة ماهرة. يجب استخدام السمنت المصنوع في العراق بنفس مواصفات السمنت البورتلاندي ونوعية عالية الجودة من الحصى و الرمل و تخلط بالماء النظيف و يجب كذلك استعمال الهزازات لضمان عدم وجود فجوات هوائية داخل الصب و حسب المواصفات العراقية يجب ان تتم جميع الأعمال حسب توجيهات المهندس المشرف.
A6: 1-2 | B6: Concrete masonry wall : Provision of materials and labour to build external and internal walls above or below Damp Proof Course (DPC) in hollow concrete blocks (20x20x40cm) or (20x15x40cm) produced by Iraqi factories. Each course will be bound by an ordinary cement mortar (1:3) joint. Cement mortar will fill any voids and gaps. Blocks will be flush and level. In correspondence of the openings (windows and doors), workers will use a half block with the smooth side facing outwards. Workers will avoid using damaged/broken blocks. A mason's line will be used as a vertical guide. Excess mortar will be removed before it hardens. The price will include the installation of 2 levelled angle steel sections (size 2.5"x2.5"x4 mm), as lintels above the doors and windows, extending at least 25cm on each side of the openings, welded together by min. 3 iron bars corresponding to the width of the wall and covered by iron mesh. The steel sections will be painted with an anti-rust coat primer produce in Iraq, in accordance to the instructions of the UN-Habitat supervising Engineer. | C6: M2 | D6: 8 | E6: أعمال بناء البلوك الاسمنتي: تجهيز المواد و الايدي العاملة و المعدات اللازمة لتنفيذ أعمال بناء البلوك الاسمنتي المجوف , لبناء القواطع الداخلية و الجدران الخارجية و سور السطح و عتبات النوافذ. باستخدام البلوك الاسمنتي المجوف قياس (20*40*20 سم ) أو (20*15*40 سم) و مونة اسمنتية 1:3 . و يشمل العمل تثبيت النوافذ و الأبواب. في حال وجود فتحات يجب تثبيت هيكل معدني من زوايا الحديد (50*50*4 ملم) بشكل أفقي في أعلى الفتحة, يتداخل 25 سم مع الجدران الجانبية من كل جهة يتم صبغ الهيكل المعدني بمواد مضادة للصدأ. و كل ما يلزم لإأنجاز العمل. جمييع الأعمال يجب أن تكون حسب توجيهات المهندس المشرف.
A7: 1-3 | B7: Stone masonry: Stone walls and parapets will be built using stone quarried locally using traditional building techniques. Provision of materials, labour and equipment to build external and internal walls above or below (DPC), fence and parapet by using 30 cm-wide stone with ordinary cement mortar (1:3), including fixing the windows and doors. The stones must be properly cleaned from all forms of dirt (dust, mud, or organic materials). Cracked stone shall not be used. Stones should be wetted before being placed on the mortar. Every stone is carefully fitted to the adjacent stone so as to form neat and close joints. All spaces between two stones must be filled with mortar (no stone shall touch each other directly). The price includes installing 2 precisely levelled angle steel sections (size 2.5"x2.5"x4 mm), as lintels above the doors and windows, extending at least 25cm on each side of the openings, welded together by min. 2 iron bars corresponding to the width of the wall and covered by iron mesh. The steel sections will be painted with an anti-rust coat (as mentioned in the above instructions) and in accordance to the instructions of the UN-Habitat supervising Engineer. | C7: M2 | D7: 6 | E7: أعمال البناء بالحجر: تجهيز المواد و الايدي العاملة و المعدات اللازمة لتنفيذ أعمال بناء بالحجر, لبناء القواطع الداخلية و الجدران الخارجية و سور السطح و عتبات النوافذ. باستخدام الحجر المحلي الصنع بعرض من 30 الى 40 سم حسب توجيه المهندس المشرف. يجب تنظيف الأحجار بشكل صحيح من جميع أشكال الأوساخ (الغبار أو الطين أو المواد العضوية). لا يجوز استخدام الحجر المشقق. يجب ترطيب الأحجار قبل وضع المونة. يجب تركيب الحجر بعناية بالحجر المجاور حتى يتم تشكيل مفاصل أنيقة وإغلاقها بإستخدام مونة اسمنتية 1:3 على ان يتم ملئ الفواصل الجانبية بين البلوك بالمونة. يشمل العمل تثبيت النوافذ و الأبواب. في حال وجود فتحات يجب تثبيت هيكل معدني من زوايا الحديد (50*50*4 ملم) بشكل أفقي في أعلى الفتحة, يتداخل 25 سم مع الجدران الجانبية من كل جهة يتم صبغ الهيكل المعدني بمواد مضادة للصدأ. و كل ما يلزم لإنجاز العمل. جمييع الأعمال يجب أن تكون حسب توجيهات المهندس المشرف.
A8: 1-4 | B8: Cement plastering: Provision of materials, labour and equipment and all other activities that are required for plastering exterior and interior walls, partitions, ceilings and parapets using ordinary cement produced in Iraq (same specifications as Portland Cement) and sand (ratio of 1:3). Plaster finishing should result in straight and smooth surfaces, with clear and straight edges and corners. Plastering will be done by skilled workmanship using an alluminium hollow tube tool and reference strips placed at no more than 1 m distance on large surfaces. The works unit price will also include the removal and disposal of any loose plaster and dust, reparing any cracks and damaged parts of walls and ceilings prior to plastering. Walls will be sprayed with water to help the new plaster to adhere to the old wall. The contractor will complete the job as per the instructions of UN-Habitat supervising engineer. | C8: M2 | D8: 100 | E8: أعمال اللبخ الاسمنتي: توفير المواد و الايدي العاملة و المعدات اللازمة لإنجاز أعمال اللبخ الاسمنتي للجدران الخارجية و الداخلية و الأسقف و سور السطح ( ستارة), باستخدام الاسمنت و الرمل بنسبة خلط (1:3), يجب أن يكون السطح النهائي ناعماً و مستوياً, و الزوايا يجب ان تكون حادة و مستقيمة, في حال وجود مساحات كبيرة يجب استخدام دليل استقامة شاقولي بتباعد أقصى 1 م, يشمل العمل ازالة اللبخ المتضرر و إصلاح الجدران المتضررة, و إتمام العمل بشكل كامل وفق توجيهات المهندس المشرف.
A9: 1-5 | B9: Gypsum Plastering: Provision of materials, labour and equipment and all other necessary activities that are required for plastering the interior walls and ceilings with gypsum sourced in Iraq. Large plastering areas will be divided into smaller more manageable segments by using traditional plaster 'guides' created every 70- 80 cm. Plastered surfaces shall be smooth and all edges straight and levelled. The contractor shall perform all other activities that are required to make the job complete in every aspect and detailed, as per the instructions of UN-Habitat supervising engineer.The works unit price will also include the removal and disposal of any loose plaster and dust, reparing any cracks and damaged parts of walls and ceilings prior to plastering. | C9: M2 | D9: 100 | E9: أعمال اللبخ الجصي: توفير المواد و الايدي العاملة و المعدات اللازمة لإنجاز أعمال اللبخ الجصي للجدران الداخلية , باستخدام اللبخ الجصي, يجب أن يكون السطح النهائي ناعماً و مستوياً, و الزوايا يجب ان تكون حادة و مستقيمة, في حال وجود مساحات كبيرة يجب استخدام دليل استقامة شاقولي بتباعد أقصى 80 سم, يشمل العمل ازالة اللبخ المتضرر و إصلاح الجدران المتضررة, و إتمام العمل بشكل كامل وفق توجيهات المهندس المشرف.
A10: 1-6 | B10: Roof Maintenance: Remove existing damaged concrete roofing tiles, old mastic, underlying sand bed and accumulated dirt. Supply materials and labour to lay hot poured bitumen, after cleaning the roof surfaces, laying polyehylene s, styrofoam s and clean river sand to form slopes, followed by the laying of a new concrete roofing tiles (80 x 80 x 4cm) with adequate slopes towards the roof drains, filling the joints with an approved roofing mastic treated by heat. All works must be done according to the instructions of the UN-Habitat supervising engineer. | C10: M2 | E10: أعمال صيانة الأسطح: توفير المواد و الايدي العاملة و المعدات اللازمة لإزالة طبقات التسطيح الموجودة والمتضررة حسب تقييم المهندس المشرف، الماستك، البلاطات الكونكريتية (شتايكَر)، الرمل النهري و استبدالها بطبقة من الماستك الساخن بعد تنظيف السطح جيداً وفرش طبقة من البولي اثيلين و طبقة من الستايروفوم و من ثم وضع طبقة رمل نهري و تسليطه بالاتجاه المناسب و بعد ذلك وضع البلاطات الكونكريتية (الشتايكَر) بقياس (80x80x4 سم) و تسليطها بالميل المناسب بإتجاه التصريف وبعدها يتم ملئ المفاصل الطولية و العرضية بالماستك الساخن. جميع الأعمال يجب ان تتم بموافقة المهندس المشرف.
A11: 1-7 | B11: Traditional "mosaic"floor tiles: Remove the existing tiles, old mortar and bed, supply materials and lay new polished Kashi ("mosaic" - Venetian style) floor tiles (30cm x 30cm) using cement mortar (1:3). The price includes the removal and safe disposal of all construction debris and waste in a landfill site located outside of the municipality boundary, approved by the Municipality and the UN-Habitat supervising Engineer, in an environmentally friendly manner and in line with the Mosul Municipality standards. | C11: M2 | E11: بلاط موازييك: توفير المواد و الايدي العاملة و المعدات اللازمة لإزالة البلاط الموزاييك القديم و إستبداله ببلاط جديد محلي (30x30 سم) بإستخدام مونة السمنت والرمل بنسبة خلط (1:3) و يشمل السعر ازالة الانقاض و رميها في المكان المخصص من قبل البلدية تحت اشراف البلدية والمهندس المشرف بطريقة صديقة للبيئة وبما يتماشى مع معايير بلدية الموصل.
A12: 1-8 | B12: Install new wooden door: Provision of materials, labour and equipment and all other necessary activities that are required for the installation of wooden hinged doors (approx. 2.1x1 m) produced in Iraq, with its frame. The price includes supplying and fixing the frame, all required locks, hinges etc, and also repairs of any damages that may occur to the wall or finishing due to the replacement process or refixing. Price includes two (2) coats of good quality semigloss oil paint produced in Iraq. All gaps between walls and door frames will be filled with a polyurethane (PU) joint sealant to ensure an air tight joint. The price includes the removal and disposal of the old damaged doors and/or frames. All works should be done according to instructions of UN-Habitat supervising engineer. | C12: No. | D12: 1 | E12: الأبواب الخشبية: توفير المواد والايدي العاملة و المعدات اللازمة لتركيب باب خشبي مع إطار, متضمنة كافة الاكسسوارات و الايديات و مفاصل الحركة و الأقفال, يتم صبغ الباب و الاطار بطبقتين من الصبغ الدهني, يجب صقل الاصطح و الحواف,إصلاح الأضرار ضمن الجدران الناتجة عن التركيب, يتم ملء الفراغات بين الباب و الجدران بواسطة بوليوريتان ماستيك. يجب إتمام العمل بشكل كامل و جاهز للتشغيل و يجب ازالة الابواب القديمة و رميها في المكان المحدد من قبل البلدية وفق توجيهات المهندس المشرف.
A13: 1-9 | B13: Install new steel door: Provision of materials, labour and equipment and all other necessary activities that are required for the installation of steel hinged doors (approx. 2.1x1 m), produced in Iraq, with their frame and accessories.the door consist of 2 layers of steel ss and filled with Styrofoam in between. The price includes supplying and fixing the frame, all required locks, hinges,and also the repair of any damages that may occur to the wall or finishing due to the replacement and/or refixing process. All gaps between walls and door frames will be filled with a polyurethane (PU) joint sealant to ensure an air tight joint. Price also includes the painting of two (2) coats of red oxide anti-rust primer produced in Iraq, followed by two (2) coats of good quality semigloss oil paint. All works should be done according to instructions of UN-Habitat supervising engineer. | C13: No. | D13: 1 | E13: الأبواب المعدنية الداخلية: توفير المواد والايدي العاملة و المعدات اللازمة لتركيب باب معدني من انتاج عراقي مع إطار, متضمنة كافة الاكسسوارات و الايديات و مفاصل الحركة و الأقفال, يتم صبغ الباب و الاطار بطبقتين من الصبغ المانع للصدأ ومن ثم طبقتين من الصبغ الدهني, يجب صقل الاصطح و الحواف,إصلاح الأضرار ضمن الجدران الناتجة عن التركيب, يتم ملء الفراغات بين الباب و الجدران بواسطة بوليوريتان ماستيك. يجب إتمام العمل بشكل كامل و جاهز للتشغيل و يجب ازالة الابواب القديمة و رميها في المكان المحدد من قبل البلدية وفق توجيهات المهندس المشرف.
A14: 1-10 | B14: Install new external steel door: Provision of materials, labor, equipment and all other necessary activities that are required for removing existing damaged exterior steel doors and supplying and installing new steel doors, produced in Iraq, with frames and all required handles, hinges, locks, etc, the door consist of 2 layers of steel ss and filled with Styrofoam in between . Price also includes painting with two (2) coats of red oxide anti-rust primer produced in Iraq, followed by two (2) coats of good quality semigloss oil paint produced in Iraq. Price also includes repairing and straightening the edges of the wall receiving the new door. All gaps between walls and steel door frames will be filled with a polyurethane (PU) joint sealant. The price includes the disposal of the old damaged steel doors and/or frames. All works should be done according to instructions of UN-Habitat supervising engineer. | C14: M2 | E14: باب الرئيسي الحديدي: توفير المواد والايدي العاملة و المعدات اللازمة لتركيب باب معدني جديد من انتاج عراقي مع إطار, متضمنة كافة الاكسسوارات و الايديات و مفاصل الحركة و الأقفال, يتم صبغ الباب و الاطار بطبقتين من الصبغ المانع للصدأ ومن ثم طبقتين من الصبغ الدهني, يجب صقل الاصطح و الحواف,إصلاح الأضرار ضمن الجدران الناتجة عن التركيب, يتم ملء الفراغات بين الباب و الجدران بواسطة بوليوريتان ماستيك. يجب إتمام العمل بشكل كامل و جاهز للتشغيل و يجب ازالة الابواب القديمة و رميها في المكان المحدد من قبل البلدية وفق توجيهات المهندس المشرف.
A15: 1-11 | B15: Installing new steel windows with protection bars: Provision materials, labor, equipment and all other necessities and requirements for installing new steel windows on openings on the street, with steel protection bars and antifly mesh. The works also include supply of handles, hinges and all required accessories for completing the work, as well painting of all steel work with two (2) coats of red oxide primer paint produced in Iraq, followed by two (2) coats of good quality semigloss oil paint produced in Iraq. Price shall also includes repairing, straightening and modifying the edges of the wall. All gaps between walls and door frames will be filled with a polyurethane (PU) joint sealant to ensure an air tight joint. The price includes the removal and disposal of the old damaged windows. All works to be done according to instructions of UN-Habitat supervising engineer. | C15: M2 | D15: 3 | E15: تجهيز و تثبيت نافذة معدنية مع قضبان حماية معدنية (كتيبة) : توفير المواد و الايدي العاملة و المعدات اللازمة لتركيب نافذة من الحديد مع قضبان حماية حديدة (كتيبه) وكذلك شبك حماية من الحشرات, متضمنة كافة الاكسسوارات و الايديات و مفاصل الحركة, الزجاج شفاف سمك 4 ملم, يجب ان يكون خال من الخدوش و الأضرار و التموجات, يتم تثبيته على الهيكل المعدني بواسطة المعجون بشكل محكم. يتم صبغ الباب و الاطار بطبقتين من الصبغ المانع للصدأ ومن ثم طبقتين من الصبغ الدهني حتى التستسير, يجب صقل الاصطح و الحواف. يجب إصلاح الأضرار ضمن الجدران الناتجة عن التركيب,يتم ملء الفراغات بين النافذة و الجدران بواسطة بوليوريتان ماستيك. وفق توجيهات المهندس المشرف.
A16: 1-12 | B16: Windows Glass: Provision of materials, labour and supply materials to install and fix 4mm clear glass for existing windows wherever needed/ The glass shall not have any scratches, cracks, splinters or waves and all glazing works shall be done according to instructions of UN-Habitat supervising Engineer. | C16: M2 | E16: زجاج النوافذ: توفير المواد و الايدي العاملة و المعدات اللازمة لتركيب زجاج شفاف للنوافذ سمك 4 ملم, للنوافذ المتضررة. يجب ان يكون الزجاج خال من الخدوش و الأضرار و التموجات, يجب إتمام العمل بشكل كامل وفق توجيهات المهندس المشرف.
A17: 1-13 | B17: Oil-based painting: Provision of materials, labour, equipment and all other necessary activities that are required for painting walls and any other places defined by the UN-Habitat engineer with oil-based paint, subject to approval of UN-Habitat supervision engineer. A layer of primer paint must be applied before two (2) layers of good quality semmigloss oil-based paint, produced in Iraq (quality equivalent to to Yakoot, Merjan or Alahliya) to be approved by UN-Habitat supervisor engineer. The price includes any preparatory works required prior to the painting, such as filling and repairing all holes and cracks, removal of nails and flaking old paint, scraping away any lose plaster, etc. All works should be done according to instructions of the UN-Habitat supervision engineer. | C17: M2 | E17: أعمال الطلاء بالصبغ الدهني: توفير المواد و الايدي العاملة و المعدات اللازمة للطلاء باستخدام طلاء دهني على الجدران المحددة من قبل المهندس المشرف, بجودة تعادل طلاء جوتن أو بيتيك حسب موافقة المهندس المشرف.يتم تنظيف الأسطح قبل الطلاء و تجهيزها و ملئ التجاويف و إزالة المسامير. و من ثم يتم تنفيذ طبقة من الأساس و طبقتين من الطلاء, جميع الأعمال يجب ان تتم بموافقة المهندس المشرف.
A18: 1-14 | B18: Concrete ramp for disabled: Provision of materials, labour and equipment to build an external wheelchair ramp in concrete, in a location identified by the UN-Habitat supervision Engineer, to provide access to the main door of the house (where possible with a slope between 1:10-1:12). The surfacce finishing of the ramp will be slightly coarse (i.e. not slippery), in accordance to the instructions of the UN-Habitat supervising Engineer. | C18: LS | E18: مدخل منحدر مائل خاص بذوي الاحتياجات الخاصة: توفير المواد والايدي العاملة والمعدات اللازمة لبناء منحدر خرساني خارجي خاص بالكراسي المتحركة، في موقع يتم تحديده من قبل المهندس المشرف، لتوفير الوصول إلى الباب الرئيسي للمنزل (عند الإمكان ، مع ميل 1:10 او 1:12). وسيتم تجهيز المنحدر بواسطة محجر من الحديد المقاوم للصدأ بقوة ، مثبتة على الحائط. على ان يكون انهاء سطح الطريق المنحدر خشنًا قليلاً (أي ليس زلقًا) ، يكون العمل وفقا لتوجيهات المهندس المشرف.
A19: 1-15 | B19: External railing for disabled: Provision of materials, labour and equipment to install a stainless steel railing on the steps leading to the front door of the house, fixed to the wall, in accordance to the instructions of the UN-Habitat supervising Engineer. | C19: LM | E19: مسند خارجي لذوي الاحتياجات الخاصة: توفير المواد و الايدي العاملة و المعدات اللازمة لتثبيت مسند من الحديد غير القابل للصدأ يثبت على الحائط المؤدي الى مدخل المنزل، وفقًا لتوجيهات المهندس المشرف.
A21: 2 | B21: Sanitary and plumbing works - General Notes Provision of materials, works and equipment to implement the items described below. The responsibility of the contractor covers all what is required to complete the job in every part and as detailed as per the instruction of the UN-Habitat supervision engineer. The price also includes removal and repairing of any damages that may occur to walls or finishing due to replacements, finishing and/or refixing. All samples of materials must be approved by the UN-Habitat Engineer prior to their purchase and/or delivery at site the work includes the opening of sewers and pipes blocked when needed. All works should be done according to instructions of the UN-Habitat supervising engineer. | D21: الأعمال الصحية-ملاحظات عامة: توفير المواد والاعمال والمعدات اللازمة لتنفيذ البنود المبينة أدناه. وتغطي مسؤوليه المتعهد كل ما هو مطلوب لإنجاز العمل في كل جزء وعلي النحو المفصل وفقا لتعليمات المهندس المشرف للهابيتات. ويشمل السعر أيضا أزاله وإصلاح اي اضرار قد تحدث إلى الجدران أو التشطيب بسبب استبدال, التشطيب و/أو أعاده تثبيت. ويجب ان يوافق مهندس موئل الأمم المتحدة علي جميع عينات المواد قبل شرائها و/أو تسليمها في الموقع. وينبغي القيام بجميع الاعمال وفقا لتعليمات المهندس المشرف للهابيتات.
A22: 2-1 | B22: Water storage tank: Supply materials and labour to install a water storage tank, capacity of one (1) cubic meter at a level and place that will be decided by UN-Habitat supervisor engineer, on a solid base constituted by a row of concrete blocks that will elevate it from the ground. The tank shall be made of a new galvanized s, gauge level 18, complete with a high float valve 3/4, drain, all connecting parts between the tanks, control gate valve and a washing tap of 1" diametre. The price includes: high pressure Polypropylene (PPR) pipe 3/4'' in diameter, elbow, etc, to connect the water source to the water tank and all water points (including any new constructed toilets) and all other required works to finish the connection. All works must be done in accordance to the instructions of UN-Habitat supervising Engineer. | C22: No. | D22: 0 | E22: خزان مياه: تجهيز وتثبيت خزان من حديد المغلفن عيار 18, سعة 1 م3, مع طوافة, مع التمديدات من ال PPR قطر 3/4", و الاكسسوارات و الأقفال و التوصيل لشبكة خطوط المياه الحلوة, يتم تثبيت الخزان على قواعد من البلوك الكونكريتي المفرغ, العمل يشمل تركيب حنفية كروم, حسب توصية المهندس المشرف.. جميع الأعمال يجب ان تتم بموافقة المهندس المشرف.
A24: 3 | B24: Electrical works Note: Molded Case Circuit Breaker (MCCB), Main Distribution Board (MDBs), Distribution Board (DBs) wiring must be re-arranged in suitable, safe and free of hazards way whenever need. The works inlcude provision of materials, works, equipment and any other requirements and necessities to implement the items described below. All types of wiring, trenching, etc. and all that is required to make the job complete in every part and details as per the instruction of UN-Habitat supervising engineer is included in the unit rates. The sample of all items must be approved by the UN-Habitat engineer prior to its purchase and or delivery at site. The price includes removing the old and repairing of any damages that may occur to the wall or finishing due to the replacement process or finishing and refixing, all work done according to instructions of the supervisor engineer. | D24: الأعمال الكهربائية-ملاحظات عامة: ملاحظه: يجب أن يتم اعادة ترتيب قواطع الدوائر الكهربائية والبورد الرئيسي وبوردات التوزيع بطريقة مناسبه وأمنه وخاليه من المخاطر حسب الحاجة. تعمل الشركة علي توفير المواد والاعمال والمعدات وغيرها من المتطلبات والضروريات لتنفيذ البنود الموصوفة أدناه. جميع أنواع الأسلاك ، والتراي كيبل ، وما إلى ذلك ، وكل ما هو مطلوب لجعل هذه المهمة كامله في كل جزء والتفاصيل وفقا لتعليمات المهندس المشرف للهابيتات. ويجب ان يوافق المهندسالمشرف للهابيتات على جميع العينات و من جميع الأصناف قبل شرائها أو تسليمها في الموقع. ويشمل السعر أزاله الأسلاك والمواد القديمة وإصلاح اي اضرار قد تحدث في الجدران أو التشطيب بسبب عمليه الاستبدال وأعاده التثبيت ، كل العمل المنجز وفقا لتعليمات المهندس المشرف للهابيتات.
A25: 3-1 | B25: LED Tube lighting and connections (120 cm): Supply materials and labour to install and operate a surface type, single LED tube light fixture 120cm long, and all required accessories, mounted on wall or ceiling, with all wiring system (2x1.5 mm2 copper wire) fixed on the wall, and any other relevant requirements to complete the job in every aspect. The commissioning (start up) of the electrical system will include visual and mechanical inspection to verify that (i) equipment is in compliance with purchase specifications and design intent and that no damage occurred during shipment; (ii) relays and breakers are functioning correctly. All the works must be completed according to the specifications and instructions of the UN-Habitat supervising engineer. | C25: No. | D25: 4 | E25: شمعة ليد إنارة (120 سم) مع قاعدة مع التمديدات: تجهيز و تثبيت شمعة ليد إنارة نيون مفرد بطول (120 سم) مع قاعدة, مع كافة التوصيلات و الاكسسوارات الازمة للتشغيل حسب توجيهات المهندس المشرف.
A26: 3-2 | B26: New wall socket (15 Amp) with new wiring: Supply materials and labour to install and fix new good quality 2 gang 6 pin UK (type G) or universal type wall sockets with their boxes (15 Amp) of good quality with all required wiring, at 45 cm height from the floor. The work includes all requirements with surface type wiring (2x2.5mm2 copper wire) from the main switch board to the point. The sockets will be carefully levelled. Any damages to the wall will be repaired and gaps replastered. For satefy purposes, all switches and sockets in wet areas (kitchen and bathrooms) are to be installed at a min. distance of 60 cm from any water source. All the works and testing must be completed according to the specifications and instructions of the UN-Habitat supervising engineer. | C26: No. | D26: 0 | E26: مأخذ كهربائي مع تمديد اسلاك (A15): تجهيز و تثبيت مأخذ كهربائي (15A) من النوعية الجيدة مع تمديد الكبلات النحاسية 2*2.5 ملم., موافق عليها من قبل المهندس المشرف. يجب تركيب المآخذ و المفاتيح ضمن الأماكن الرطبة بمسافة تبعد 60 سم عن أقرب مصدر مائي. يجب تثبيتها بصورة افقية منتظمة. يجب تصليح اي اضرار بالحائط الناتجة عن العمل. كل العمل يكون حسب توجيهات المهندس المشرف
A27: 3-3 | B27: Replacement of wall socket (15 Amp) without wiring: Supply materials and labour to remove old socket and install and fix new good quality 2 gang 6 pin good quality UK (type G) or universal type wall socket (15 Amp) only, without new wiring. The switches will be carefully levelled. Any damages to the wall will be repaired and gaps replastered.All the works and testing must be completed according to the specifications and instructions of the UN-Habitat supervising engineer. | C27: No. | D27: 2 | E27: تبديل مأخذ كهربائي (15 A) بدون تمديد اسلاك: تجهيز و تثبيت مأخذ كهربائي (A15 ) بدون امداد وايرات حسب توجيهات المهندس المشرف. يجب تركيب المآخذ و المفاتيح ضمن الأماكن الرطبة بمسافة تبعد 60 سم عن أقرب مصدر مائي. يجب تثبيتها بصورة افقية منتظمة. يجب تصليح اي اضرار بالحائط الناتجة عن العمل. كل العمل يكون حسب توجيهات المهندس المشرف
A28: 3-4 | B28: New wall socket (13 Amp) with new wiring: Supply materials and labour to install and fix new good quality 2 gang 6 pin UK (type G) or universal type wall sockets with their boxes (13 Amp) of good quality with all required wiring, at 45 cm height from the floor. The work includes all requirements with surface type wiring (2x2.5mm2 copper wire) from the main switch board to the point. The sockets will be carefully levelled. Any damages to the wall will be repaired and gaps replastered. For satefy purposes, all switches and sockets in wet areas (kitchen and bathrooms) are to be installed at a min. distance of 60 cm from any water source. All the works and testing must be completed according to the specifications and instructions of the UN-Habitat supervising engineer. | C28: No. | D28: 4 | E28: مأخذ كهربائي مع تمديد اسلاك (A13) : تجهيز و تثبيت مأخذ كهربائي (13A) من النوعية الجيدة مع تمديد الكبلات النحاسية 2*2.5 ملم., موافق عليها من قبل المهندس المشرف. يجب تركيب المآخذ و المفاتيح ضمن الأماكن الرطبة بمسافة تبعد 60 سم عن أقرب مصدر مائي. يجب تثبيتها بصورة افقية منتظمة. يجب تصليح اي اضرار بالحائط الناتجة عن العمل. كل العمل يكون حسب توجيهات المهندس المشرف
A29: 3-5 | B29: Replacement of wall socket (13 Amp) without wiring: Supply materials and labour to remove old socket and install and fix new good quality 2 gang 6 pin good quality UK (type G) or universal type wall socket (13 Amp) only, without new wiring. The switches will be carefully levelled. Any damages to the wall will be repaired and gaps replastered.All the works and testing must be completed according to the specifications and instructions of the UN-Habitat supervising engineer. | C29: No. | D29: 2 | E29: تبديل مأخذ كهربائي (13 A) بدون تمديد اسلاك: تجهيز و تثبيت مأخذ كهربائي (A13 ) بدون امداد وايرات حسب توجيهات المهندس المشرف. يجب تركيب المآخذ و المفاتيح ضمن الأماكن الرطبة بمسافة تبعد 60 سم عن أقرب مصدر مائي. يجب تثبيتها بصورة افقية منتظمة. يجب تصليح اي اضرار بالحائط الناتجة عن العمل. كل العمل يكون حسب توجيهات المهندس المشرف
A30: 3-6 | B30: Electrical wall switch replacement without wiring: Supply materials and labour to remove old switch and install and fix 1 or 2 gang one way wall switch (one, two or three lines) only, without wiring, as per the instructions of UN-Habitat supervisor engineer. The switches will be carefully levelled. Any damages to the wall will be repaired and gaps replastered. For satefy purposes, all switches and sockets in wet areas (kitchen and bathrooms) are to be installed at a min. distance of 60 cm from any water source. All the works and testing must be completed according to the specifications and instructions of the UN-Habitat supervising engineer. | C30: No. | D30: 4 | E30: تبديل المفاتيح الكهربائية بدون تمديد اسلاك: تجهيز و تثبيت المفاتيح الكهربائية (مفرد-مزدوج-ثلاثي ) بدون التوصيلات و التمديدات الكهربائية حسب توجيهات المهندس المشرف. يجب تركيب المآخذ و المفاتيح ضمن الأماكن الرطبة بمسافة تبعد 60 سم عن أقرب مصدر مائي. يجب تثبيتها بصورة افقية منتظمة. يجب تصليح اي اضرار بالحائط الناتجة عن العمل. كل العمل يكون حسب توجيهات المهندس المشرف
A31: 3-7 | B31: Ceiling fan: Supply materials and labour to install good quality electrical ceiling fans for interiors ("shami" type or equivalent), according to the instructions of UN-Habitat supervisor engineer. | C31: No. | D31: 2 | E31: المروحة السقفية : تجهيز و تركيب مروحة كهربائية سقفية, مع التوصيل و التشغيل. حسب توجيهات المهندس المشرف .

Sheet A54
A1: Bill of Quantities (BoQ) for the Rehabilitation of 9 Damaged Houses in Al-Bakir Neighborhood, Heet District, Anbar Governorate
B2: This is the detailed BoQs for 1 house (code indicated in the sheet label)الكشف لمنزل واحد (رمز المنزل مؤشر كعنوان للورقة ادناه)
A3: # | B3: Item Description | C3: Unit | D3: Qty.
A4: 1 | B4: Civil Works - General Notes: The contractor's responsibility includes conducting all necessary tests and providing all samples. The samples must be approved by the UN-Habitat Engineer. In cases where necessary works are not mentioned in the BoQ, the contractor should add this item to the BoQ before starting the works, otherwise the contractor should execute this work for no extra cost and does not have any right to ask for any variations orders. The prices include painting all iron materials (pipes, angles, frames, etc) with two (2) layers of antirust paint and two layers of good quality oil paint, both produced in Iraq. | D4: الأعمال المدنية - ملاحظات عامة: توفير المواد والعمالة والمعدات اللازمة لتنفيذ البنود الموضحة أدناه ، وجميع تلك الأنشطة المطلوبة لإنجاز المهمة في كل جانب وتفاصيل حسب تعليمات المهندس المشرف للهابيتات. يجب أن تكون جميع الأعمال والمواد التي يقدمها المقاول مطابقة للمواصفات القياسية العراقية ذات الصلة وشروط ومواصفات المناقصة ووفقًا لتعليمات المهندس المشرف للهابيتات. يجب أن تشمل الأسعار توفير وتوريد وتركيب جميع المواد والمعدات اللازمة لإكمال البنود وفقًا لجداول الكميات والرسومات الفنية إن وجدت. تتضمن مسؤولية المقاول أيضًا القيام بكل الاختبارات اللازمة. في الحالات التي لم يتم فيها ذكر بعض الأعمال في جداول الكميات وتم ذكرها في الرسومات الفنية ، يجب على المقاول إضافة هذا البند إلى جداول الكميات قبل البدء في الأعمال ، وإلا يجب على المقاول تنفيذ هذا العمل دون أي تكلفة إضافية وليس له أي حق في طلب أي أوامر الاختلافات. تشمل الأسعار طلاء جميع المواد الحديدية (الأنابيب والزوايا والإطارات وغيرها) بطبقتين (2) من الطلاء المضاد للصدأ وطبقتين من الطلاء الزيتي ذي النوعية الجيدة ، وكلاهما منتج في العراق. سيتجنب المقاول إغلاق الشوارع وخلق مخاطر مرورية وإزعاج للجيران بوضع كميات كبيرة من مواد البناء والمعدات - عدا على أساس مؤقت للتحميل والتنزيل.
A5: 1-1 | B5: Reinforced Concrete: Provision of materials, labour and equipment and all requirements for casting reinforced concrete (1:2:4), for foundations, roof, beams, columns, slab, stairs and concrete parapets, including form works and steel reinforcement. Slopes of flat surfaces should be directed towards the outside. The Contractor should ensure the highest standards of workmanship by skilled or appropriately trained workmen. The Contractor will use ordinary cement produced in Iraq (same specifications as Portland Cement) and best quality aggregates, mixed with fresh and clear water. Vibrators or other suitable equipment will be used to ensure that the cement pour is free from air bubbles and voids within the cement mixture. The concrete will be cured appropriately to increase durability. All works should be done according to the instructions of UN-Habitat supervising Engineer. | C5: M3 | D5: 2 | E5: أعمال الكونكريت المسلح: توفير المواد والايدي العاملة و المعدات اللازمة لتنفيذ أعمال الكونكريت المسلح (1:2:4) للأسس , الأسقف, الجسور, الأدراج و المظلات. السعر يشمل أعمال القالب الخشبي و حديد التسليح و كل ما يلزم لإأنجاز العمل. يجب مراعاة اوزان الصب و توفير ميلان في الصب عند الحاجة حسب توجيهات المهندس المشرف يجب أن يتم تنفيذ العمل بأفضل المواصفات الفنية و عن طريق تعوفير ايدي عاملة ماهرة. يجب استخدام السمنت المصنوع في العراق بنفس مواصفات السمنت البورتلاندي ونوعية عالية الجودة من الحصى و الرمل و تخلط بالماء النظيف و يجب كذلك استعمال الهزازات لضمان عدم وجود فجوات هوائية داخل الصب و حسب المواصفات العراقية يجب ان تتم جميع الأعمال حسب توجيهات المهندس المشرف.
A6: 1-2 | B6: Concrete masonry wall : Provision of materials and labour to build external and internal walls above or below Damp Proof Course (DPC) in hollow concrete blocks (20x20x40cm) or (20x15x40cm) produced by Iraqi factories. Each course will be bound by an ordinary cement mortar (1:3) joint. Cement mortar will fill any voids and gaps. Blocks will be flush and level. In correspondence of the openings (windows and doors), workers will use a half block with the smooth side facing outwards. Workers will avoid using damaged/broken blocks. A mason's line will be used as a vertical guide. Excess mortar will be removed before it hardens. The price will include the installation of 2 levelled angle steel sections (size 2.5"x2.5"x4 mm), as lintels above the doors and windows, extending at least 25cm on each side of the openings, welded together by min. 3 iron bars corresponding to the width of the wall and covered by iron mesh. The steel sections will be painted with an anti-rust coat primer produce in Iraq, in accordance to the instructions of the UN-Habitat supervising Engineer. | C6: M2 | D6: 5 | E6: أعمال بناء البلوك الاسمنتي: تجهيز المواد و الايدي العاملة و المعدات اللازمة لتنفيذ أعمال بناء البلوك الاسمنتي المجوف , لبناء القواطع الداخلية و الجدران الخارجية و سور السطح و عتبات النوافذ. باستخدام البلوك الاسمنتي المجوف قياس (20*40*20 سم ) أو (20*15*40 سم) و مونة اسمنتية 1:3 . و يشمل العمل تثبيت النوافذ و الأبواب. في حال وجود فتحات يجب تثبيت هيكل معدني من زوايا الحديد (50*50*4 ملم) بشكل أفقي في أعلى الفتحة, يتداخل 25 سم مع الجدران الجانبية من كل جهة يتم صبغ الهيكل المعدني بمواد مضادة للصدأ. و كل ما يلزم لإأنجاز العمل. جمييع الأعمال يجب أن تكون حسب توجيهات المهندس المشرف.
A7: 1-3 | B7: Stone masonry: Stone walls and parapets will be built using stone quarried locally using traditional building techniques. Provision of materials, labour and equipment to build external and internal walls above or below (DPC), fence and parapet by using 30 cm-wide stone with ordinary cement mortar (1:3), including fixing the windows and doors. The stones must be properly cleaned from all forms of dirt (dust, mud, or organic materials). Cracked stone shall not be used. Stones should be wetted before being placed on the mortar. Every stone is carefully fitted to the adjacent stone so as to form neat and close joints. All spaces between two stones must be filled with mortar (no stone shall touch each other directly). The price includes installing 2 precisely levelled angle steel sections (size 2.5"x2.5"x4 mm), as lintels above the doors and windows, extending at least 25cm on each side of the openings, welded together by min. 2 iron bars corresponding to the width of the wall and covered by iron mesh. The steel sections will be painted with an anti-rust coat (as mentioned in the above instructions) and in accordance to the instructions of the UN-Habitat supervising Engineer. | C7: M2 | E7: أعمال البناء بالحجر: تجهيز المواد و الايدي العاملة و المعدات اللازمة لتنفيذ أعمال بناء بالحجر, لبناء القواطع الداخلية و الجدران الخارجية و سور السطح و عتبات النوافذ. باستخدام الحجر المحلي الصنع بعرض من 30 الى 40 سم حسب توجيه المهندس المشرف. يجب تنظيف الأحجار بشكل صحيح من جميع أشكال الأوساخ (الغبار أو الطين أو المواد العضوية). لا يجوز استخدام الحجر المشقق. يجب ترطيب الأحجار قبل وضع المونة. يجب تركيب الحجر بعناية بالحجر المجاور حتى يتم تشكيل مفاصل أنيقة وإغلاقها بإستخدام مونة اسمنتية 1:3 على ان يتم ملئ الفواصل الجانبية بين البلوك بالمونة. يشمل العمل تثبيت النوافذ و الأبواب. في حال وجود فتحات يجب تثبيت هيكل معدني من زوايا الحديد (50*50*4 ملم) بشكل أفقي في أعلى الفتحة, يتداخل 25 سم مع الجدران الجانبية من كل جهة يتم صبغ الهيكل المعدني بمواد مضادة للصدأ. و كل ما يلزم لإنجاز العمل. جمييع الأعمال يجب أن تكون حسب توجيهات المهندس المشرف.
A8: 1-4 | B8: Cement plastering: Provision of materials, labour and equipment and all other activities that are required for plastering exterior and interior walls, partitions, ceilings and parapets using ordinary cement produced in Iraq (same specifications as Portland Cement) and sand (ratio of 1:3). Plaster finishing should result in straight and smooth surfaces, with clear and straight edges and corners. Plastering will be done by skilled workmanship using an alluminium hollow tube tool and reference strips placed at no more than 1 m distance on large surfaces. The works unit price will also include the removal and disposal of any loose plaster and dust, reparing any cracks and damaged parts of walls and ceilings prior to plastering. Walls will be sprayed with water to help the new plaster to adhere to the old wall. The contractor will complete the job as per the instructions of UN-Habitat supervising engineer. | C8: M2 | D8: 100 | E8: أعمال اللبخ الاسمنتي: توفير المواد و الايدي العاملة و المعدات اللازمة لإنجاز أعمال اللبخ الاسمنتي للجدران الخارجية و الداخلية و الأسقف و سور السطح ( ستارة), باستخدام الاسمنت و الرمل بنسبة خلط (1:3), يجب أن يكون السطح النهائي ناعماً و مستوياً, و الزوايا يجب ان تكون حادة و مستقيمة, في حال وجود مساحات كبيرة يجب استخدام دليل استقامة شاقولي بتباعد أقصى 1 م, يشمل العمل ازالة اللبخ المتضرر و إصلاح الجدران المتضررة, و إتمام العمل بشكل كامل وفق توجيهات المهندس المشرف.
A9: 1-5 | B9: Gypsum Plastering: Provision of materials, labour and equipment and all other necessary activities that are required for plastering the interior walls and ceilings with gypsum sourced in Iraq. Large plastering areas will be divided into smaller more manageable segments by using traditional plaster 'guides' created every 70- 80 cm. Plastered surfaces shall be smooth and all edges straight and levelled. The contractor shall perform all other activities that are required to make the job complete in every aspect and detailed, as per the instructions of UN-Habitat supervising engineer.The works unit price will also include the removal and disposal of any loose plaster and dust, reparing any cracks and damaged parts of walls and ceilings prior to plastering. | C9: M2 | D9: 80 | E9: أعمال اللبخ الجصي: توفير المواد و الايدي العاملة و المعدات اللازمة لإنجاز أعمال اللبخ الجصي للجدران الداخلية , باستخدام اللبخ الجصي, يجب أن يكون السطح النهائي ناعماً و مستوياً, و الزوايا يجب ان تكون حادة و مستقيمة, في حال وجود مساحات كبيرة يجب استخدام دليل استقامة شاقولي بتباعد أقصى 80 سم, يشمل العمل ازالة اللبخ المتضرر و إصلاح الجدران المتضررة, و إتمام العمل بشكل كامل وفق توجيهات المهندس المشرف.
A10: 1-6 | B10: Roof Maintenance: Remove existing damaged concrete roofing tiles, old mastic, underlying sand bed and accumulated dirt. Supply materials and labour to lay hot poured bitumen, after cleaning the roof surfaces, laying polyehylene s, styrofoam s and clean river sand to form slopes, followed by the laying of a new concrete roofing tiles (80 x 80 x 4cm) with adequate slopes towards the roof drains, filling the joints with an approved roofing mastic treated by heat. All works must be done according to the instructions of the UN-Habitat supervising engineer. | C10: M2 | E10: أعمال صيانة الأسطح: توفير المواد و الايدي العاملة و المعدات اللازمة لإزالة طبقات التسطيح الموجودة والمتضررة حسب تقييم المهندس المشرف، الماستك، البلاطات الكونكريتية (شتايكَر)، الرمل النهري و استبدالها بطبقة من الماستك الساخن بعد تنظيف السطح جيداً وفرش طبقة من البولي اثيلين و طبقة من الستايروفوم و من ثم وضع طبقة رمل نهري و تسليطه بالاتجاه المناسب و بعد ذلك وضع البلاطات الكونكريتية (الشتايكَر) بقياس (80x80x4 سم) و تسليطها بالميل المناسب بإتجاه التصريف وبعدها يتم ملئ المفاصل الطولية و العرضية بالماستك الساخن. جميع الأعمال يجب ان تتم بموافقة المهندس المشرف.
A11: 1-7 | B11: Traditional "mosaic"floor tiles: Remove the existing tiles, old mortar and bed, supply materials and lay new polished Kashi ("mosaic" - Venetian style) floor tiles (30cm x 30cm) using cement mortar (1:3). The price includes the removal and safe disposal of all construction debris and waste in a landfill site located outside of the municipality boundary, approved by the Municipality and the UN-Habitat supervising Engineer, in an environmentally friendly manner and in line with the Mosul Municipality standards. | C11: M2 | D11: 28 | E11: بلاط موازييك: توفير المواد و الايدي العاملة و المعدات اللازمة لإزالة البلاط الموزاييك القديم و إستبداله ببلاط جديد محلي (30x30 سم) بإستخدام مونة السمنت والرمل بنسبة خلط (1:3) و يشمل السعر ازالة الانقاض و رميها في المكان المخصص من قبل البلدية تحت اشراف البلدية والمهندس المشرف بطريقة صديقة للبيئة وبما يتماشى مع معايير بلدية الموصل.
A12: 1-8 | B12: Install new wooden door: Provision of materials, labour and equipment and all other necessary activities that are required for the installation of wooden hinged doors (approx. 2.1x1 m) produced in Iraq, with its frame. The price includes supplying and fixing the frame, all required locks, hinges etc, and also repairs of any damages that may occur to the wall or finishing due to the replacement process or refixing. Price includes two (2) coats of good quality semigloss oil paint produced in Iraq. All gaps between walls and door frames will be filled with a polyurethane (PU) joint sealant to ensure an air tight joint. The price includes the removal and disposal of the old damaged doors and/or frames. All works should be done according to instructions of UN-Habitat supervising engineer. | C12: No. | D12: 2 | E12: الأبواب الخشبية: توفير المواد والايدي العاملة و المعدات اللازمة لتركيب باب خشبي مع إطار, متضمنة كافة الاكسسوارات و الايديات و مفاصل الحركة و الأقفال, يتم صبغ الباب و الاطار بطبقتين من الصبغ الدهني, يجب صقل الاصطح و الحواف,إصلاح الأضرار ضمن الجدران الناتجة عن التركيب, يتم ملء الفراغات بين الباب و الجدران بواسطة بوليوريتان ماستيك. يجب إتمام العمل بشكل كامل و جاهز للتشغيل و يجب ازالة الابواب القديمة و رميها في المكان المحدد من قبل البلدية وفق توجيهات المهندس المشرف.
A13: 1-9 | B13: Install new steel door: Provision of materials, labour and equipment and all other necessary activities that are required for the installation of steel hinged doors (approx. 2.1x1 m), produced in Iraq, with their frame and accessories.the door consist of 2 layers of steel ss and filled with Styrofoam in between. The price includes supplying and fixing the frame, all required locks, hinges,and also the repair of any damages that may occur to the wall or finishing due to the replacement and/or refixing process. All gaps between walls and door frames will be filled with a polyurethane (PU) joint sealant to ensure an air tight joint. Price also includes the painting of two (2) coats of red oxide anti-rust primer produced in Iraq, followed by two (2) coats of good quality semigloss oil paint. All works should be done according to instructions of UN-Habitat supervising engineer. | C13: No. | D13: 2 | E13: الأبواب المعدنية الداخلية: توفير المواد والايدي العاملة و المعدات اللازمة لتركيب باب معدني من انتاج عراقي مع إطار, متضمنة كافة الاكسسوارات و الايديات و مفاصل الحركة و الأقفال, يتم صبغ الباب و الاطار بطبقتين من الصبغ المانع للصدأ ومن ثم طبقتين من الصبغ الدهني, يجب صقل الاصطح و الحواف,إصلاح الأضرار ضمن الجدران الناتجة عن التركيب, يتم ملء الفراغات بين الباب و الجدران بواسطة بوليوريتان ماستيك. يجب إتمام العمل بشكل كامل و جاهز للتشغيل و يجب ازالة الابواب القديمة و رميها في المكان المحدد من قبل البلدية وفق توجيهات المهندس المشرف.
A14: 1-10 | B14: Install new external steel door: Provision of materials, labor, equipment and all other necessary activities that are required for removing existing damaged exterior steel doors and supplying and installing new steel doors, produced in Iraq, with frames and all required handles, hinges, locks, etc, the door consist of 2 layers of steel ss and filled with Styrofoam in between . Price also includes painting with two (2) coats of red oxide anti-rust primer produced in Iraq, followed by two (2) coats of good quality semigloss oil paint produced in Iraq. Price also includes repairing and straightening the edges of the wall receiving the new door. All gaps between walls and steel door frames will be filled with a polyurethane (PU) joint sealant. The price includes the disposal of the old damaged steel doors and/or frames. All works should be done according to instructions of UN-Habitat supervising engineer. | C14: M2 | D14: 7 | E14: باب الرئيسي الحديدي: توفير المواد والايدي العاملة و المعدات اللازمة لتركيب باب معدني جديد من انتاج عراقي مع إطار, متضمنة كافة الاكسسوارات و الايديات و مفاصل الحركة و الأقفال, يتم صبغ الباب و الاطار بطبقتين من الصبغ المانع للصدأ ومن ثم طبقتين من الصبغ الدهني, يجب صقل الاصطح و الحواف,إصلاح الأضرار ضمن الجدران الناتجة عن التركيب, يتم ملء الفراغات بين الباب و الجدران بواسطة بوليوريتان ماستيك. يجب إتمام العمل بشكل كامل و جاهز للتشغيل و يجب ازالة الابواب القديمة و رميها في المكان المحدد من قبل البلدية وفق توجيهات المهندس المشرف.
A15: 1-11 | B15: Installing new steel windows with protection bars: Provision materials, labor, equipment and all other necessities and requirements for installing new steel windows on openings on the street, with steel protection bars and antifly mesh. The works also include supply of handles, hinges and all required accessories for completing the work, as well painting of all steel work with two (2) coats of red oxide primer paint produced in Iraq, followed by two (2) coats of good quality semigloss oil paint produced in Iraq. Price shall also includes repairing, straightening and modifying the edges of the wall. All gaps between walls and door frames will be filled with a polyurethane (PU) joint sealant to ensure an air tight joint. The price includes the removal and disposal of the old damaged windows. All works to be done according to instructions of UN-Habitat supervising engineer. | C15: M2 | D15: 6 | E15: تجهيز و تثبيت نافذة معدنية مع قضبان حماية معدنية (كتيبة) : توفير المواد و الايدي العاملة و المعدات اللازمة لتركيب نافذة من الحديد مع قضبان حماية حديدة (كتيبه) وكذلك شبك حماية من الحشرات, متضمنة كافة الاكسسوارات و الايديات و مفاصل الحركة, الزجاج شفاف سمك 4 ملم, يجب ان يكون خال من الخدوش و الأضرار و التموجات, يتم تثبيته على الهيكل المعدني بواسطة المعجون بشكل محكم. يتم صبغ الباب و الاطار بطبقتين من الصبغ المانع للصدأ ومن ثم طبقتين من الصبغ الدهني حتى التستسير, يجب صقل الاصطح و الحواف. يجب إصلاح الأضرار ضمن الجدران الناتجة عن التركيب,يتم ملء الفراغات بين النافذة و الجدران بواسطة بوليوريتان ماستيك. وفق توجيهات المهندس المشرف.
A16: 1-12 | B16: Windows Glass: Provision of materials, labour and supply materials to install and fix 4mm clear glass for existing windows wherever needed/ The glass shall not have any scratches, cracks, splinters or waves and all glazing works shall be done according to instructions of UN-Habitat supervising Engineer. | C16: M2 | D16: 20 | E16: زجاج النوافذ: توفير المواد و الايدي العاملة و المعدات اللازمة لتركيب زجاج شفاف للنوافذ سمك 4 ملم, للنوافذ المتضررة. يجب ان يكون الزجاج خال من الخدوش و الأضرار و التموجات, يجب إتمام العمل بشكل كامل وفق توجيهات المهندس المشرف.
A17: 1-13 | B17: Oil-based painting: Provision of materials, labour, equipment and all other necessary activities that are required for painting walls and any other places defined by the UN-Habitat engineer with oil-based paint, subject to approval of UN-Habitat supervision engineer. A layer of primer paint must be applied before two (2) layers of good quality semmigloss oil-based paint, produced in Iraq (quality equivalent to to Yakoot, Merjan or Alahliya) to be approved by UN-Habitat supervisor engineer. The price includes any preparatory works required prior to the painting, such as filling and repairing all holes and cracks, removal of nails and flaking old paint, scraping away any lose plaster, etc. All works should be done according to instructions of the UN-Habitat supervision engineer. | C17: M2 | E17: أعمال الطلاء بالصبغ الدهني: توفير المواد و الايدي العاملة و المعدات اللازمة للطلاء باستخدام طلاء دهني على الجدران المحددة من قبل المهندس المشرف, بجودة تعادل طلاء جوتن أو بيتيك حسب موافقة المهندس المشرف.يتم تنظيف الأسطح قبل الطلاء و تجهيزها و ملئ التجاويف و إزالة المسامير. و من ثم يتم تنفيذ طبقة من الأساس و طبقتين من الطلاء, جميع الأعمال يجب ان تتم بموافقة المهندس المشرف.
A18: 1-14 | B18: Concrete ramp for disabled: Provision of materials, labour and equipment to build an external wheelchair ramp in concrete, in a location identified by the UN-Habitat supervision Engineer, to provide access to the main door of the house (where possible with a slope between 1:10-1:12). The surfacce finishing of the ramp will be slightly coarse (i.e. not slippery), in accordance to the instructions of the UN-Habitat supervising Engineer. | C18: LS | E18: مدخل منحدر مائل خاص بذوي الاحتياجات الخاصة: توفير المواد والايدي العاملة والمعدات اللازمة لبناء منحدر خرساني خارجي خاص بالكراسي المتحركة، في موقع يتم تحديده من قبل المهندس المشرف، لتوفير الوصول إلى الباب الرئيسي للمنزل (عند الإمكان ، مع ميل 1:10 او 1:12). وسيتم تجهيز المنحدر بواسطة محجر من الحديد المقاوم للصدأ بقوة ، مثبتة على الحائط. على ان يكون انهاء سطح الطريق المنحدر خشنًا قليلاً (أي ليس زلقًا) ، يكون العمل وفقا لتوجيهات المهندس المشرف.
A19: 1-15 | B19: External railing for disabled: Provision of materials, labour and equipment to install a stainless steel railing on the steps leading to the front door of the house, fixed to the wall, in accordance to the instructions of the UN-Habitat supervising Engineer. | C19: LM | E19: مسند خارجي لذوي الاحتياجات الخاصة: توفير المواد و الايدي العاملة و المعدات اللازمة لتثبيت مسند من الحديد غير القابل للصدأ يثبت على الحائط المؤدي الى مدخل المنزل، وفقًا لتوجيهات المهندس المشرف.
A21: 2 | B21: Sanitary and plumbing works - General Notes Provision of materials, works and equipment to implement the items described below. The responsibility of the contractor covers all what is required to complete the job in every part and as detailed as per the instruction of the UN-Habitat supervision engineer. The price also includes removal and repairing of any damages that may occur to walls or finishing due to replacements, finishing and/or refixing. All samples of materials must be approved by the UN-Habitat Engineer prior to their purchase and/or delivery at site the work includes the opening of sewers and pipes blocked when needed. All works should be done according to instructions of the UN-Habitat supervising engineer. | D21: الأعمال الصحية-ملاحظات عامة: توفير المواد والاعمال والمعدات اللازمة لتنفيذ البنود المبينة أدناه. وتغطي مسؤوليه المتعهد كل ما هو مطلوب لإنجاز العمل في كل جزء وعلي النحو المفصل وفقا لتعليمات المهندس المشرف للهابيتات. ويشمل السعر أيضا أزاله وإصلاح اي اضرار قد تحدث إلى الجدران أو التشطيب بسبب استبدال, التشطيب و/أو أعاده تثبيت. ويجب ان يوافق مهندس موئل الأمم المتحدة علي جميع عينات المواد قبل شرائها و/أو تسليمها في الموقع. وينبغي القيام بجميع الاعمال وفقا لتعليمات المهندس المشرف للهابيتات.
A22: 2-1 | B22: Water storage tank: Supply materials and labour to install a water storage tank, capacity of one (1) cubic meter at a level and place that will be decided by UN-Habitat supervisor engineer, on a solid base constituted by a row of concrete blocks that will elevate it from the ground. The tank shall be made of a new galvanized s, gauge level 18, complete with a high float valve 3/4, drain, all connecting parts between the tanks, control gate valve and a washing tap of 1" diametre. The price includes: high pressure Polypropylene (PPR) pipe 3/4'' in diameter, elbow, etc, to connect the water source to the water tank and all water points (including any new constructed toilets) and all other required works to finish the connection. All works must be done in accordance to the instructions of UN-Habitat supervising Engineer. | C22: No. | D22: 0 | E22: خزان مياه: تجهيز وتثبيت خزان من حديد المغلفن عيار 18, سعة 1 م3, مع طوافة, مع التمديدات من ال PPR قطر 3/4", و الاكسسوارات و الأقفال و التوصيل لشبكة خطوط المياه الحلوة, يتم تثبيت الخزان على قواعد من البلوك الكونكريتي المفرغ, العمل يشمل تركيب حنفية كروم, حسب توصية المهندس المشرف.. جميع الأعمال يجب ان تتم بموافقة المهندس المشرف.
A24: 3 | B24: Electrical works Note: Molded Case Circuit Breaker (MCCB), Main Distribution Board (MDBs), Distribution Board (DBs) wiring must be re-arranged in suitable, safe and free of hazards way whenever need. The works inlcude provision of materials, works, equipment and any other requirements and necessities to implement the items described below. All types of wiring, trenching, etc. and all that is required to make the job complete in every part and details as per the instruction of UN-Habitat supervising engineer is included in the unit rates. The sample of all items must be approved by the UN-Habitat engineer prior to its purchase and or delivery at site. The price includes removing the old and repairing of any damages that may occur to the wall or finishing due to the replacement process or finishing and refixing, all work done according to instructions of the supervisor engineer. | D24: الأعمال الكهربائية-ملاحظات عامة: ملاحظه: يجب أن يتم اعادة ترتيب قواطع الدوائر الكهربائية والبورد الرئيسي وبوردات التوزيع بطريقة مناسبه وأمنه وخاليه من المخاطر حسب الحاجة. تعمل الشركة علي توفير المواد والاعمال والمعدات وغيرها من المتطلبات والضروريات لتنفيذ البنود الموصوفة أدناه. جميع أنواع الأسلاك ، والتراي كيبل ، وما إلى ذلك ، وكل ما هو مطلوب لجعل هذه المهمة كامله في كل جزء والتفاصيل وفقا لتعليمات المهندس المشرف للهابيتات. ويجب ان يوافق المهندسالمشرف للهابيتات على جميع العينات و من جميع الأصناف قبل شرائها أو تسليمها في الموقع. ويشمل السعر أزاله الأسلاك والمواد القديمة وإصلاح اي اضرار قد تحدث في الجدران أو التشطيب بسبب عمليه الاستبدال وأعاده التثبيت ، كل العمل المنجز وفقا لتعليمات المهندس المشرف للهابيتات.
A25: 3-1 | B25: LED Tube lighting and connections (120 cm): Supply materials and labour to install and operate a surface type, single LED tube light fixture 120cm long, and all required accessories, mounted on wall or ceiling, with all wiring system (2x1.5 mm2 copper wire) fixed on the wall, and any other relevant requirements to complete the job in every aspect. The commissioning (start up) of the electrical system will include visual and mechanical inspection to verify that (i) equipment is in compliance with purchase specifications and design intent and that no damage occurred during shipment; (ii) relays and breakers are functioning correctly. All the works must be completed according to the specifications and instructions of the UN-Habitat supervising engineer. | C25: No. | D25: 4 | E25: شمعة ليد إنارة (120 سم) مع قاعدة مع التمديدات: تجهيز و تثبيت شمعة ليد إنارة نيون مفرد بطول (120 سم) مع قاعدة, مع كافة التوصيلات و الاكسسوارات الازمة للتشغيل حسب توجيهات المهندس المشرف.
A26: 3-2 | B26: New wall socket (15 Amp) with new wiring: Supply materials and labour to install and fix new good quality 2 gang 6 pin UK (type G) or universal type wall sockets with their boxes (15 Amp) of good quality with all required wiring, at 45 cm height from the floor. The work includes all requirements with surface type wiring (2x2.5mm2 copper wire) from the main switch board to the point. The sockets will be carefully levelled. Any damages to the wall will be repaired and gaps replastered. For satefy purposes, all switches and sockets in wet areas (kitchen and bathrooms) are to be installed at a min. distance of 60 cm from any water source. All the works and testing must be completed according to the specifications and instructions of the UN-Habitat supervising engineer. | C26: No. | D26: 1 | E26: مأخذ كهربائي مع تمديد اسلاك (A15): تجهيز و تثبيت مأخذ كهربائي (15A) من النوعية الجيدة مع تمديد الكبلات النحاسية 2*2.5 ملم., موافق عليها من قبل المهندس المشرف. يجب تركيب المآخذ و المفاتيح ضمن الأماكن الرطبة بمسافة تبعد 60 سم عن أقرب مصدر مائي. يجب تثبيتها بصورة افقية منتظمة. يجب تصليح اي اضرار بالحائط الناتجة عن العمل. كل العمل يكون حسب توجيهات المهندس المشرف
A27: 3-3 | B27: Replacement of wall socket (15 Amp) without wiring: Supply materials and labour to remove old socket and install and fix new good quality 2 gang 6 pin good quality UK (type G) or universal type wall socket (15 Amp) only, without new wiring. The switches will be carefully levelled. Any damages to the wall will be repaired and gaps replastered.All the works and testing must be completed according to the specifications and instructions of the UN-Habitat supervising engineer. | C27: No. | D27: 1 | E27: تبديل مأخذ كهربائي (15 A) بدون تمديد اسلاك: تجهيز و تثبيت مأخذ كهربائي (A15 ) بدون امداد وايرات حسب توجيهات المهندس المشرف. يجب تركيب المآخذ و المفاتيح ضمن الأماكن الرطبة بمسافة تبعد 60 سم عن أقرب مصدر مائي. يجب تثبيتها بصورة افقية منتظمة. يجب تصليح اي اضرار بالحائط الناتجة عن العمل. كل العمل يكون حسب توجيهات المهندس المشرف
A28: 3-4 | B28: New wall socket (13 Amp) with new wiring: Supply materials and labour to install and fix new good quality 2 gang 6 pin UK (type G) or universal type wall sockets with their boxes (13 Amp) of good quality with all required wiring, at 45 cm height from the floor. The work includes all requirements with surface type wiring (2x2.5mm2 copper wire) from the main switch board to the point. The sockets will be carefully levelled. Any damages to the wall will be repaired and gaps replastered. For satefy purposes, all switches and sockets in wet areas (kitchen and bathrooms) are to be installed at a min. distance of 60 cm from any water source. All the works and testing must be completed according to the specifications and instructions of the UN-Habitat supervising engineer. | C28: No. | D28: 4 | E28: مأخذ كهربائي مع تمديد اسلاك (A13) : تجهيز و تثبيت مأخذ كهربائي (13A) من النوعية الجيدة مع تمديد الكبلات النحاسية 2*2.5 ملم., موافق عليها من قبل المهندس المشرف. يجب تركيب المآخذ و المفاتيح ضمن الأماكن الرطبة بمسافة تبعد 60 سم عن أقرب مصدر مائي. يجب تثبيتها بصورة افقية منتظمة. يجب تصليح اي اضرار بالحائط الناتجة عن العمل. كل العمل يكون حسب توجيهات المهندس المشرف
A29: 3-5 | B29: Replacement of wall socket (13 Amp) without wiring: Supply materials and labour to remove old socket and install and fix new good quality 2 gang 6 pin good quality UK (type G) or universal type wall socket (13 Amp) only, without new wiring. The switches will be carefully levelled. Any damages to the wall will be repaired and gaps replastered.All the works and testing must be completed according to the specifications and instructions of the UN-Habitat supervising engineer. | C29: No. | D29: 2 | E29: تبديل مأخذ كهربائي (13 A) بدون تمديد اسلاك: تجهيز و تثبيت مأخذ كهربائي (A13 ) بدون امداد وايرات حسب توجيهات المهندس المشرف. يجب تركيب المآخذ و المفاتيح ضمن الأماكن الرطبة بمسافة تبعد 60 سم عن أقرب مصدر مائي. يجب تثبيتها بصورة افقية منتظمة. يجب تصليح اي اضرار بالحائط الناتجة عن العمل. كل العمل يكون حسب توجيهات المهندس المشرف
A30: 3-6 | B30: Electrical wall switch replacement without wiring: Supply materials and labour to remove old switch and install and fix 1 or 2 gang one way wall switch (one, two or three lines) only, without wiring, as per the instructions of UN-Habitat supervisor engineer. The switches will be carefully levelled. Any damages to the wall will be repaired and gaps replastered. For satefy purposes, all switches and sockets in wet areas (kitchen and bathrooms) are to be installed at a min. distance of 60 cm from any water source. All the works and testing must be completed according to the specifications and instructions of the UN-Habitat supervising engineer. | C30: No. | D30: 4 | E30: تبديل المفاتيح الكهربائية بدون تمديد اسلاك: تجهيز و تثبيت المفاتيح الكهربائية (مفرد-مزدوج-ثلاثي ) بدون التوصيلات و التمديدات الكهربائية حسب توجيهات المهندس المشرف. يجب تركيب المآخذ و المفاتيح ضمن الأماكن الرطبة بمسافة تبعد 60 سم عن أقرب مصدر مائي. يجب تثبيتها بصورة افقية منتظمة. يجب تصليح اي اضرار بالحائط الناتجة عن العمل. كل العمل يكون حسب توجيهات المهندس المشرف
A31: 3-7 | B31: Ceiling fan: Supply materials and labour to install good quality electrical ceiling fans for interiors ("shami" type or equivalent), according to the instructions of UN-Habitat supervisor engineer. | C31: No. | D31: 2 | E31: المروحة السقفية : تجهيز و تركيب مروحة كهربائية سقفية, مع التوصيل و التشغيل. حسب توجيهات المهندس المشرف .

Sheet A61
A1: Bill of Quantities (BoQ) for the Rehabilitation of 9 Damaged Houses in Al-Bakir Neighborhood, Heet District, Anbar Governorate
B2: This is the detailed BoQs for 1 house (code indicated in the sheet label)الكشف لمنزل واحد (رمز المنزل مؤشر كعنوان للورقة ادناه)
A3: # | B3: Item Description | C3: Unit | D3: Qty.
A4: 1 | B4: Civil Works - General Notes: The contractor's responsibility includes conducting all necessary tests and providing all samples. The samples must be approved by the UN-Habitat Engineer. In cases where necessary works are not mentioned in the BoQ, the contractor should add this item to the BoQ before starting the works, otherwise the contractor should execute this work for no extra cost and does not have any right to ask for any variations orders. The prices include painting all iron materials (pipes, angles, frames, etc) with two (2) layers of antirust paint and two layers of good quality oil paint, both produced in Iraq. | D4: الأعمال المدنية - ملاحظات عامة: توفير المواد والعمالة والمعدات اللازمة لتنفيذ البنود الموضحة أدناه ، وجميع تلك الأنشطة المطلوبة لإنجاز المهمة في كل جانب وتفاصيل حسب تعليمات المهندس المشرف للهابيتات. يجب أن تكون جميع الأعمال والمواد التي يقدمها المقاول مطابقة للمواصفات القياسية العراقية ذات الصلة وشروط ومواصفات المناقصة ووفقًا لتعليمات المهندس المشرف للهابيتات. يجب أن تشمل الأسعار توفير وتوريد وتركيب جميع المواد والمعدات اللازمة لإكمال البنود وفقًا لجداول الكميات والرسومات الفنية إن وجدت. تتضمن مسؤولية المقاول أيضًا القيام بكل الاختبارات اللازمة. في الحالات التي لم يتم فيها ذكر بعض الأعمال في جداول الكميات وتم ذكرها في الرسومات الفنية ، يجب على المقاول إضافة هذا البند إلى جداول الكميات قبل البدء في الأعمال ، وإلا يجب على المقاول تنفيذ هذا العمل دون أي تكلفة إضافية وليس له أي حق في طلب أي أوامر الاختلافات. تشمل الأسعار طلاء جميع المواد الحديدية (الأنابيب والزوايا والإطارات وغيرها) بطبقتين (2) من الطلاء المضاد للصدأ وطبقتين من الطلاء الزيتي ذي النوعية الجيدة ، وكلاهما منتج في العراق. سيتجنب المقاول إغلاق الشوارع وخلق مخاطر مرورية وإزعاج للجيران بوضع كميات كبيرة من مواد البناء والمعدات - عدا على أساس مؤقت للتحميل والتنزيل.
A5: 1-1 | B5: Reinforced Concrete: Provision of materials, labour and equipment and all requirements for casting reinforced concrete (1:2:4), for foundations, roof, beams, columns, slab, stairs and concrete parapets, including form works and steel reinforcement. Slopes of flat surfaces should be directed towards the outside. The Contractor should ensure the highest standards of workmanship by skilled or appropriately trained workmen. The Contractor will use ordinary cement produced in Iraq (same specifications as Portland Cement) and best quality aggregates, mixed with fresh and clear water. Vibrators or other suitable equipment will be used to ensure that the cement pour is free from air bubbles and voids within the cement mixture. The concrete will be cured appropriately to increase durability. All works should be done according to the instructions of UN-Habitat supervising Engineer. | C5: M3 | D5: 8 | E5: أعمال الكونكريت المسلح: توفير المواد والايدي العاملة و المعدات اللازمة لتنفيذ أعمال الكونكريت المسلح (1:2:4) للأسس , الأسقف, الجسور, الأدراج و المظلات. السعر يشمل أعمال القالب الخشبي و حديد التسليح و كل ما يلزم لإأنجاز العمل. يجب مراعاة اوزان الصب و توفير ميلان في الصب عند الحاجة حسب توجيهات المهندس المشرف يجب أن يتم تنفيذ العمل بأفضل المواصفات الفنية و عن طريق تعوفير ايدي عاملة ماهرة. يجب استخدام السمنت المصنوع في العراق بنفس مواصفات السمنت البورتلاندي ونوعية عالية الجودة من الحصى و الرمل و تخلط بالماء النظيف و يجب كذلك استعمال الهزازات لضمان عدم وجود فجوات هوائية داخل الصب و حسب المواصفات العراقية يجب ان تتم جميع الأعمال حسب توجيهات المهندس المشرف.
A6: 1-2 | B6: Concrete masonry wall : Provision of materials and labour to build external and internal walls above or below Damp Proof Course (DPC) in hollow concrete blocks (20x20x40cm) or (20x15x40cm) produced by Iraqi factories. Each course will be bound by an ordinary cement mortar (1:3) joint. Cement mortar will fill any voids and gaps. Blocks will be flush and level. In correspondence of the openings (windows and doors), workers will use a half block with the smooth side facing outwards. Workers will avoid using damaged/broken blocks. A mason's line will be used as a vertical guide. Excess mortar will be removed before it hardens. The price will include the installation of 2 levelled angle steel sections (size 2.5"x2.5"x4 mm), as lintels above the doors and windows, extending at least 25cm on each side of the openings, welded together by min. 3 iron bars corresponding to the width of the wall and covered by iron mesh. The steel sections will be painted with an anti-rust coat primer produce in Iraq, in accordance to the instructions of the UN-Habitat supervising Engineer. | C6: M2 | D6: 6 | E6: أعمال بناء البلوك الاسمنتي: تجهيز المواد و الايدي العاملة و المعدات اللازمة لتنفيذ أعمال بناء البلوك الاسمنتي المجوف , لبناء القواطع الداخلية و الجدران الخارجية و سور السطح و عتبات النوافذ. باستخدام البلوك الاسمنتي المجوف قياس (20*40*20 سم ) أو (20*15*40 سم) و مونة اسمنتية 1:3 . و يشمل العمل تثبيت النوافذ و الأبواب. في حال وجود فتحات يجب تثبيت هيكل معدني من زوايا الحديد (50*50*4 ملم) بشكل أفقي في أعلى الفتحة, يتداخل 25 سم مع الجدران الجانبية من كل جهة يتم صبغ الهيكل المعدني بمواد مضادة للصدأ. و كل ما يلزم لإأنجاز العمل. جمييع الأعمال يجب أن تكون حسب توجيهات المهندس المشرف.
A7: 1-3 | B7: Stone masonry: Stone walls and parapets will be built using stone quarried locally using traditional building techniques. Provision of materials, labour and equipment to build external and internal walls above or below (DPC), fence and parapet by using 30 cm-wide stone with ordinary cement mortar (1:3), including fixing the windows and doors. The stones must be properly cleaned from all forms of dirt (dust, mud, or organic materials). Cracked stone shall not be used. Stones should be wetted before being placed on the mortar. Every stone is carefully fitted to the adjacent stone so as to form neat and close joints. All spaces between two stones must be filled with mortar (no stone shall touch each other directly). The price includes installing 2 precisely levelled angle steel sections (size 2.5"x2.5"x4 mm), as lintels above the doors and windows, extending at least 25cm on each side of the openings, welded together by min. 2 iron bars corresponding to the width of the wall and covered by iron mesh. The steel sections will be painted with an anti-rust coat (as mentioned in the above instructions) and in accordance to the instructions of the UN-Habitat supervising Engineer. | C7: M2 | D7: 90 | E7: أعمال البناء بالحجر: تجهيز المواد و الايدي العاملة و المعدات اللازمة لتنفيذ أعمال بناء بالحجر, لبناء القواطع الداخلية و الجدران الخارجية و سور السطح و عتبات النوافذ. باستخدام الحجر المحلي الصنع بعرض من 30 الى 40 سم حسب توجيه المهندس المشرف. يجب تنظيف الأحجار بشكل صحيح من جميع أشكال الأوساخ (الغبار أو الطين أو المواد العضوية). لا يجوز استخدام الحجر المشقق. يجب ترطيب الأحجار قبل وضع المونة. يجب تركيب الحجر بعناية بالحجر المجاور حتى يتم تشكيل مفاصل أنيقة وإغلاقها بإستخدام مونة اسمنتية 1:3 على ان يتم ملئ الفواصل الجانبية بين البلوك بالمونة. يشمل العمل تثبيت النوافذ و الأبواب. في حال وجود فتحات يجب تثبيت هيكل معدني من زوايا الحديد (50*50*4 ملم) بشكل أفقي في أعلى الفتحة, يتداخل 25 سم مع الجدران الجانبية من كل جهة يتم صبغ الهيكل المعدني بمواد مضادة للصدأ. و كل ما يلزم لإنجاز العمل. جمييع الأعمال يجب أن تكون حسب توجيهات المهندس المشرف.
