Workbook

Sheet L1 - Suse
B2: Lot 1: | C2: Suse Federal Prison
A4: Category: Personal Protective Equipement - PPE
A5: No | B5: Item Descriptions | C5: Item Detail | D5: Qyantity per Kit | E5: Total Quantity | F5: Unit Price (USD) | G5: Total Price (USD)
A6: 1 | B6: Hand Sanitizer, Gel | C6: 250 ml, 70% and above alcohol | D6: 1 | E6: 800 | G6: =E6*F6 -> 0
A7: 2 | B7: Disposable Face Mask | C7: Pack of 50 masks, standard surgical | D7: 1 | E7: 800 | G7: =E7*F7 -> 0
A8: 3 | B8: All items to be packed in a box/plastic bag with a sticker/logo(20*15cm) (see attached logo file) | C8: Fitting the kits' items | D8: 1 | E8: 800 | G8: =E8*F8 -> 0
B9: Total Kit to be prepared: | C9: =E8 -> 800 | F9: Total | G9: =SUM(G6:G8) -> 0

Sheet L2 - Erbil W&J
B2: Lot 2: | C2: Erbil Women Reformatory and Juvenile Centre
A4: Category: Personal Protective Equipement - PPE
A5: No | B5: Item Descriptions | C5: Item Detail | D5: Qyantity per Kit | E5: Total Quantity | F5: Unit Price (USD) | G5: Total Price (USD)
A6: 1 | B6: Hand Sanitizer, Gel | C6: 250 ml, 70% and above alcohol | D6: 1 | E6: 100 | G6: =E6*F6 -> 0
A7: 2 | B7: Disposable Face Mask | C7: Pack of 50 masks, standard surgical | D7: 1 | E7: 100 | G7: =E7*F7 -> 0
A8: 3 | B8: All items to be packed in a box/plastic bag with a sticker/logo(20*15cm) (see attached logo file) | C8: Fitting the kits' items | D8: 1 | E8: 100 | G8: =E8*F8 -> 0
B9: Total Kit to be prepared: | C9: =E8 -> 100 | F9: Total | G9: =SUM(G6:G8) -> 0

Sheet L3 - Erbil Adult
B2: Lot 3: | C2: Erbil Adult Reformatory Prison
A4: Category: Personal Protective Equipement - PPE
A5: No | B5: Item Descriptions | C5: Item Detail | D5: Qyantity per Kit | E5: Total Quantity | F5: Unit Price (USD) | G5: Total Price (USD)
A6: 1 | B6: Hand Sanitizer, Gel | C6: 250 ml, 70% and above alcohol | D6: 1 | E6: 360 | G6: =E6*F6 -> 0
A7: 2 | B7: Disposable Face Mask | C7: Pack of 50 masks, standard surgical | D7: 1 | E7: 360 | G7: =E7*F7 -> 0
A8: 3 | B8: All items to be packed in a box/plastic bag with a sticker/logo(20*15cm) (see attached logo file) | C8: Fitting the kits' items | D8: 1 | E8: 360 | G8: =E8*F8 -> 0
B9: Total Kit to be prepared: | C9: =E8 -> 360 | F9: Total | G9: =SUM(G6:G8) -> 0

Sheet L4 - Duhok W&J
B2: Lot 4: | C2: Duhok Women and Juvenile Center
A4: Category: Personal Protective Equipement - PPE
A5: No | B5: Item Descriptions | C5: Item Detail | D5: Qyantity per Kit | E5: Total Quantity | F5: Unit Price (USD) | G5: Total Price (USD)
A6: 1 | B6: Hand Sanitizer, Gel | C6: 250 ml, 70% and above alcohol | D6: 1 | E6: 50 | G6: =E6*F6 -> 0
A7: 2 | B7: Disposable Face Mask | C7: Pack of 50 masks, standard surgical | D7: 1 | E7: 50 | G7: =E7*F7 -> 0
A8: 3 | B8: All items to be packed in a box/plastic bag with a sticker/logo(20*15cm) (see attached logo file) | C8: Fitting the kits' items | D8: 1 | E8: 50 | G8: =E8*F8 -> 0
B9: Total Kit to be prepared: | C9: =E8 -> 50 | F9: Total | G9: =SUM(G6:G8) -> 0

Sheet L5 - Duhok Adult
B2: Lot 5: | C2: Duhok Adult Reformatory Prison
A4: Category: Personal Protective Equipement - PPE
A5: No | B5: Item Descriptions | C5: Item Detail | D5: Qyantity per Kit | E5: Total Quantity | F5: Unit Price (USD) | G5: Total Price (USD)
A6: 1 | B6: Hand Sanitizer, Gel | C6: 250 ml, 70% and above alcohol | D6: 1 | E6: 630 | G6: =E6*F6 -> 0
A7: 2 | B7: Disposable Face Mask | C7: Pack of 50 masks, standard surgical | D7: 1 | E7: 630 | G7: =E7*F7 -> 0
A8: 3 | B8: All items to be packed in a box/plastic bag with a sticker/logo(20*15cm) (see attached logo file) | C8: Fitting the kits' items | D8: 1 | E8: 630 | G8: =E8*F8 -> 0
B9: Total Kit to be prepared: | C9: =E8 -> 630 | F9: Total | G9: =SUM(G6:G8) -> 0

Sheet L6 - Akre DC
B2: Lot 6: | C2: Akre Detention Center
A4: Category: Personal Protective Equipement - PPE
A5: No | B5: Item Descriptions | C5: Item Detail | D5: Qyantity per Kit | E5: Total Quantity | F5: Unit Price (USD) | G5: Total Price (USD)
A6: 1 | B6: Hand Sanitizer, Gel | C6: 250 ml, 70% and above alcohol | D6: 1 | E6: 50 | G6: =E6*F6 -> 0
A7: 2 | B7: Disposable Face Mask | C7: Pack of 50 masks, standard surgical | D7: 1 | E7: 50 | G7: =E7*F7 -> 0
A8: 3 | B8: All items to be packed in a box/plastic bag with a sticker/logo(20*15cm) (see attached logo file) | C8: Fitting the kits' items | D8: 1 | E8: 50 | G8: =E8*F8 -> 0
B9: Total Kit to be prepared: | C9: =E8 -> 50 | F9: Total | G9: =SUM(G6:G8) -> 0

Sheet L7-Kirkuk J
B2: Lot 7: | C2: Kirkuk Juvenile Detention Center
A4: Category: Personal Protective Equipement - PPE
A5: No | B5: Item Descriptions | C5: Item Detail | D5: Qyantity per Kit | E5: Total Quantity | F5: Unit Price (USD) | G5: Total Price (USD)
A6: 1 | B6: Hand Sanitizer, Gel | C6: 250 ml, 70% and above alcohol | D6: 1 | E6: 30 | G6: =E6*F6 -> 0
A7: 2 | B7: Disposable Face Mask | C7: Pack of 50 masks, standard surgical | D7: 1 | E7: 30 | G7: =E7*F7 -> 0
A8: 3 | B8: All items to be packed in a box/plastic bag with a sticker/logo(20*15cm) (see attached logo file) | C8: Fitting the kits' items | D8: 1 | E8: 30 | G8: =E8*F8 -> 0
A9: 4 | B9: Latex Gloves | C9: Pack of 100 pieces, 50 pairs,latex, 70% L, 30% Xl | D9: Pack | E9: 30 | G9: =E9*F9 -> 0
B10: Total Kit to be prepared: | C10: =E8 -> 30 | F10: Total | G10: =SUM(G6:G9) -> 0

Sheet L8-Kirkuk Balda
B2: Lot 8: | C2: Kirkuk Balda Detention Center
A4: Category: Personal Protective Equipement - PPE
A5: No | B5: Item Descriptions | C5: Item Detail | D5: Qyantity per Kit | E5: Total Quantity | F5: Unit Price (USD) | G5: Total Price (USD)
A6: 1 | B6: Hand Sanitizer, Gel | C6: 250 ml, 70% and above alcohol | D6: 1 | E6: 80 | G6: =E6*F6 -> 0
A7: 2 | B7: Disposable Face Mask | C7: Pack of 50 masks, standard surgical | D7: 1 | E7: 80 | G7: =E7*F7 -> 0
A8: 3 | B8: All items to be packed in a box/plastic bag with a sticker/logo(20*15cm) (see attached logo file) | C8: Fitting the kits' items | D8: 1 | E8: 80 | G8: =E8*F8 -> 0
B9: Total Kit to be prepared: | C9: =E8 -> 80 | F9: Total | G9: =SUM(G6:G8) -> 0

Sheet L9 - Kirkuk Airport
B2: Lot 9: | C2: Kirkuk Airport Detention Center
A4: Category: Personal Protective Equipement - PPE
A5: No | B5: Item Descriptions | C5: Item Detail | D5: Qyantity per Kit | E5: Total Quantity | F5: Unit Price (USD) | G5: Total Price (USD)
A6: 1 | B6: Hand Sanitizer, Gel | C6: 250 ml, 70% and above alcohol | D6: 1 | E6: 100 | G6: =E6*F6 -> 0
A7: 2 | B7: Disposable Face Mask | C7: Pack of 50 masks, standard surgical | D7: 1 | E7: 100 | G7: =E7*F7 -> 0
A8: 3 | B8: All items to be packed in a box/plastic bag with a sticker/logo(20*15cm) (see attached logo file) | C8: Fitting the kits' items | D8: 1 | E8: 100 | G8: =E8*F8 -> 0
B9: Total Kit to be prepared: | C9: =E8 -> 100 | F9: Total | G9: =SUM(G6:G8) -> 0

Sheet L10-Tal Kayf
B2: Lot 10: | C2: Mosul - Tal Kayf Detention Center
A4: Category: Personal Protective Equipement - PPE
A5: No | B5: Item Descriptions | C5: Item Detail | D5: Qyantity per Kit | E5: Total Quantity | F5: Unit Price (USD) | G5: Total Price (USD)
A6: 1 | B6: Hand Sanitizer, Gel | C6: 250 ml, 70% and above alcohol | D6: 1 | E6: 120 | G6: =E6*F6 -> 0
A7: 2 | B7: Disposable Face Mask | C7: Pack of 50 masks, standard surgical | D7: 1 | E7: 120 | G7: =E7*F7 -> 0
A8: 3 | B8: All items to be packed in a box/plastic bag with a sticker/logo(20*15cm) (see attached logo file) | C8: Fitting the kits' items | D8: 1 | E8: 120 | G8: =E8*F8 -> 0
B9: Total Kit to be prepared: | C9: =E8 -> 120 | F9: Total | G9: =SUM(G6:G8) -> 0

Sheet Lot 11 - Hila Men
B2: Lot 11: | C2: Hila Men Prison
A4: Category: Personal Protective Equipement - PPE
A5: No | B5: Item Descriptions | C5: Item Detail | D5: Qyantity per Kit | E5: Total Quantity | F5: Unit Price (USD) | G5: Total Price (USD)
A6: 1 | B6: Hand Sanitizer, Gel | C6: 250 ml, 70% and above alcohol | D6: 1 | E6: 500 | G6: =E6*F6 -> 0
A7: 2 | B7: Disposable Face Mask | C7: Pack of 50 masks, standard surgical | D7: 1 | E7: 500 | G7: =E7*F7 -> 0
A8: 3 | B8: All items to be packed in a box/plastic bag with a sticker/logo(20*15cm) (see attached logo file) | C8: Fitting the kits' items | D8: 1 | E8: 500 | G8: =E8*F8 -> 0
B9: Total Kit to be prepared: | C9: =E8 -> 500 | F9: Total | G9: =SUM(G6:G8) -> 0

Sheet L12 - Hila Women
B2: Lot 12: | C2: Hila Women Prison
A4: Category: Personal Protective Equipement - PPE
A5: No | B5: Item Descriptions | C5: Item Detail | D5: Qyantity per Kit | E5: Total Quantity | F5: Unit Price (USD) | G5: Total Price (USD)
A6: 1 | B6: Hand Sanitizer, Gel | C6: 250 ml, 70% and above alcohol | D6: 1 | E6: 182 | G6: =E6*F6 -> 0
A7: 2 | B7: Disposable Face Mask | C7: Pack of 50 masks, standard surgical | D7: 1 | E7: 182 | G7: =E7*F7 -> 0
A8: 3 | B8: All items to be packed in a box/plastic bag with a sticker/logo(20*15cm) (see attached logo file) | C8: Fitting the kits' items | D8: 1 | E8: 182 | G8: =E8*F8 -> 0
B9: Total Kit to be prepared: | C9: =E8 -> 182 | F9: Total | G9: =SUM(G6:G8) -> 0

Sheet L13 Rasafa 6
B2: Lot 13: | C2: Rasafa Six Prison
A4: Category: Personal Protective Equipement - PPE
A5: No | B5: Item Descriptions | C5: Item Detail | D5: Qyantity per Kit | E5: Total Quantity | F5: Unit Price (USD) | G5: Total Price (USD)
A6: 1 | B6: Hand Sanitizer, Gel | C6: 250 ml, 70% and above alcohol | D6: 1 | E6: 190 | G6: =E6*F6 -> 0
A7: 2 | B7: Disposable Face Mask | C7: Pack of 50 masks, standard surgical | D7: 1 | E7: 190 | G7: =E7*F7 -> 0
A8: 3 | B8: All items to be packed in a box/plastic bag with a sticker/logo(20*15cm) (see attached logo file) | C8: Fitting the kits' items | D8: 1 | E8: 190 | G8: =E8*F8 -> 0
B9: Total Kit to be prepared: | C9: =E8 -> 190 | F9: Total | G9: =SUM(G6:G8) -> 0

Sheet L14 Karkh
B2: Lot 14: | C2: Karkh Central Prison (Kupar Prison)
A4: Category: Personal Protective Equipement - PPE
A5: No | B5: Item Descriptions | C5: Item Detail | D5: Qyantity per Kit | E5: Total Quantity | F5: Unit Price (USD) | G5: Total Price (USD)
A6: 1 | B6: Hand Sanitizer, Gel | C6: 250 ml, 70% and above alcohol | D6: 1 | E6: 980 | G6: =E6*F6 -> 0
A7: 2 | B7: Disposable Face Mask | C7: Pack of 50 masks, standard surgical | D7: 1 | E7: 980 | G7: =E7*F7 -> 0
A8: 3 | B8: All items to be packed in a box/plastic bag with a sticker/logo(20*15cm) (see attached logo file) | C8: Fitting the kits' items | D8: 1 | E8: 980 | G8: =E8*F8 -> 0
B9: Total Kit to be prepared: | C9: =E8 -> 980 | F9: Total | G9: =SUM(G6:G8) -> 0

Sheet L15 Taji
B2: Lot 15: | C2: Taji Prison
A4: Category: Personal Protective Equipement - PPE
A5: No | B5: Item Descriptions | C5: Item Detail | D5: Qyantity per Kit | E5: Total Quantity | F5: Unit Price (USD) | G5: Total Price (USD)
A6: 1 | B6: Hand Sanitizer, Gel | C6: 250 ml, 70% and above alcohol | D6: 1 | E6: 1240 | G6: =E6*F6 -> 0
A7: 2 | B7: Disposable Face Mask | C7: Pack of 50 masks, standard surgical | D7: 1 | E7: 1240 | G7: =E7*F7 -> 0
A8: 3 | B8: All items to be packed in a box/plastic bag with a sticker/logo(20*15cm) (see attached logo file) | C8: Fitting the kits' items | D8: 1 | E8: 1240 | G8: =E8*F8 -> 0
B9: Total Kit to be prepared: | C9: =E8 -> 1240 | F9: Total | G9: =SUM(G6:G8) -> 0

Sheet L16 - Nasriyah
B2: Lot 16: | C2: Nasiriya Central Prison
A4: Category: Personal Protective Equipement - PPE
A5: No | B5: Item Descriptions | C5: Item Detail | D5: Qyantity per Kit | E5: Total Quantity | F5: Unit Price (USD) | G5: Total Price (USD)
A6: 1 | B6: Hand Sanitizer, Gel | C6: 250 ml, 70% and above alcohol | D6: 1 | E6: 1390 | G6: =E6*F6 -> 0
A7: 2 | B7: Disposable Face Mask | C7: Pack of 50 masks, standard surgical | D7: 1 | E7: 1390 | G7: =E7*F7 -> 0
A8: 3 | B8: All items to be packed in a box/plastic bag with a sticker/logo(20*15cm) (see attached logo file) | C8: Fitting the kits' items | D8: 1 | E8: 1390 | G8: =E8*F8 -> 0
B9: Total Kit to be prepared: | C9: =E8 -> 1390 | F9: Total | G9: =SUM(G6:G8) -> 0

Sheet L17 - Basra
B2: Lot 17: | C2: Basra Central Prison
A4: Category: Personal Protective Equipement - PPE
A5: No | B5: Item Descriptions | C5: Item Detail | D5: Qyantity per Kit | E5: Total Quantity | F5: Unit Price (USD) | G5: Total Price (USD)
A6: 1 | B6: Hand Sanitizer, Gel | C6: 250 ml, 70% and above alcohol | D6: 1 | E6: 950 | G6: =E6*F6 -> 0
A7: 2 | B7: Disposable Face Mask | C7: Pack of 50 masks, standard surgical | D7: 1 | E7: 950 | G7: =E7*F7 -> 0
A8: 3 | B8: All items to be packed in a box/plastic bag with a sticker/logo(20*15cm) (see attached logo file) | C8: Fitting the kits' items | D8: 1 | E8: 950 | G8: =E8*F8 -> 0
B9: Total Kit to be prepared: | C9: =E8 -> 950 | F9: Total | G9: =SUM(G6:G8) -> 0

Sheet Total
A2: Provision of PPE for 17 prisons and Detention Centers in Iraq
A5: Lot No. | B5: Location | C5: Total Price per Lot. USD
A6: Lot No.1 | B6: ='L1 - Suse'!C2 -> Suse Federal Prison | C6: ='L1 - Suse'!G9 -> 0
A7: Lot No.2 | B7: ='L2 - Erbil W&J'!C2 -> Erbil Women Reformatory and Juvenile Centre | C7: ='L2 - Erbil W&J'!G9 -> 0
A8: Lot No.3 | B8: ='L3 - Erbil Adult'!C2 -> Erbil Adult Reformatory Prison | C8: ='L3 - Erbil Adult'!G9 -> 0
A9: Lot No.4 | B9: ='L4 - Duhok W&J'!C2 -> Duhok Women and Juvenile Center | C9: ='L4 - Duhok W&J'!G9 -> 0
A10: Lot No.5 | B10: ='L5 - Duhok Adult'!C2 -> Duhok Adult Reformatory Prison | C10: ='L5 - Duhok Adult'!G9 -> 0
A11: Lot No.6 | B11: ='L6 - Akre DC'!C2 -> Akre Detention Center | C11: ='L6 - Akre DC'!G9 -> 0
A12: Lot No.7 | B12: ='L7-Kirkuk J'!C2 -> Kirkuk Juvenile Detention Center | C12: ='L7-Kirkuk J'!G10 -> 0
A13: Lot No.8 | B13: ='L8-Kirkuk Balda'!C2 -> Kirkuk Balda Detention Center | C13: ='L8-Kirkuk Balda'!G9 -> 0
A14: Lot No.9 | B14: ='L9 - Kirkuk Airport'!C2 -> Kirkuk Airport Detention Center | C14: ='L9 - Kirkuk Airport'!G9 -> 0
A15: Lot No.10 | B15: ='L10-Tal Kayf'!C2 -> Mosul - Tal Kayf Detention Center | C15: ='L10-Tal Kayf'!G9 -> 0
A16: Lot No.11 | B16: ='Lot 11 - Hila Men'!C2 -> Hila Men Prison | C16: ='Lot 11 - Hila Men'!G9 -> 0
A17: Lot No.12 | B17: ='L12 - Hila Women'!C2 -> Hila Women Prison | C17: ='L12 - Hila Women'!G9 -> 0
A18: Lot No.13 | B18: ='L13 Rasafa 6'!C2 -> Rasafa Six Prison | C18: ='L13 Rasafa 6'!G9 -> 0
A19: Lot No.14 | B19: ='L14 Karkh'!C2 -> Karkh Central Prison (Kupar Prison) | C19: ='L14 Karkh'!G9 -> 0
A20: Lot No.15 | B20: ='L15 Taji'!C2 -> Taji Prison | C20: ='L15 Taji'!G9 -> 0
A21: Lot No.16 | B21: ='L16 - Nasriyah'!C2 -> Nasiriya Central Prison | C21: ='L16 - Nasriyah'!G9 -> 0
A22: Lot No.17 | B22: ='L17 - Basra'!C2 -> Basra Central Prison | C22: ='L17 - Basra'!G9 -> 0
B23: Total Price USD | C23: =SUM(C6:C22) -> 0
B26: Delivery Duration (Days): | C26: ( ) Days
B27: availability of offer: (Not less than Three Months) | C27: ( ) Months
