Workbook

Sheet L1 - Suse
B2: Lot 1: | C2: Suse Federal Prison
A4: Category: Hygiene kits
A5: No | B5: Item Descriptions | C5: Item Detail | D5: Quantity per Kit | E5: Total Quantity | F5: Unit Price (USD) | G5: Total Price (USD)
A6: 1 | B6: Liquid soap | C6: Liquid 1 liter with pressure bubble bottle | D6: 1 | E6: =2180*1 -> 2180 | G6: =E6*F6 -> 0
A7: 2 | B7: Laundry Detergent | C7: Powder, to Hand-Wash Cloth, 1 kg | D7: 1 | E7: 2180 | G7: =E7*F7 -> 0
A8: 3 | B8: Dishwashing Liquid | C8: 1 L | D8: 1 | E8: =E9/2 -> 1090 | G8: =E8*F8 -> 0
A9: 4 | B9: All items to be packed in a box with a sticker/logo (25cm *18cm) | C9: Fitting the kits' items for line (1, 2 and 3) | D9: 1 | E9: 2180 | G9: =E9*F9 -> 0
B10: Total Kit to be prepared: | C10: =E9 -> 2180 | F10: Total | G10: =SUM(G6:G9) -> 0

Sheet L2 - Erbil W&J
B2: Lot 2: | C2: Erbil Women Reformatory and Juvenile Centre
A4: Category: Hygiene kits
A5: No | B5: Item Descriptions | C5: Item Detail | D5: Quantity per Kit | E5: Total Quantity | F5: Unit Price (USD) | G5: Total Price (USD)
A6: 1 | B6: Solid soap bar | C6: 120gm, Set of 6 | D6: 1 | E6: 302 | G6: =E6*F6 -> 0
A7: 2 | B7: Laundry Detergent | C7: Powder, to Auto machines washing, 1 kg | D7: 1 | E7: 302 | G7: =E7*F7 -> 0
A8: 3 | B8: Dishwashing Liquid | C8: 1 L | D8: 1 | E8: =E9/2 -> 151 | G8: =E8*F8 -> 0
A9: 4 | B9: All items to be packed in a box with a sticker/logo (25cm *18cm) | C9: Fitting the kits' items for line (1, 2 and 3) | D9: 1 | E9: 302 | G9: =E9*F9 -> 0
B10: Total Kit to be prepared: | C10: =E9 -> 302 | F10: Total | G10: =SUM(G6:G9) -> 0

Sheet L3 - Duhok W&J
B2: Lot 3: | C2: Duhok Women and Juvenile Center
A4: Category: Hygiene kits
A5: No | B5: Item Descriptions | C5: Item Detail | D5: Quantity per Kit | E5: Total Quantity | F5: Unit Price (USD) | G5: Total Price (USD)
A6: 1 | B6: Solid soap bar | C6: ='L2 - Erbil W&J'!C6 -> 120gm, Set of 6 | D6: 1 | E6: 100 | G6: =E6*F6 -> 0
A7: 2 | B7: Laundry Detergent | C7: Powder, to Hand-Wash Cloth, 1 kg | D7: 1 | E7: 100 | G7: =E7*F7 -> 0
A8: 3 | B8: Dishwashing Liquid | C8: 1 L | D8: 1 | E8: =E9/2 -> 50 | G8: =E8*F8 -> 0
A9: 4 | B9: All items to be packed in a box with a sticker/logo (25cm *18cm) | C9: Fitting the kits' items for line (1, 2 and 3) | D9: 1 | E9: 100 | G9: =E9*F9 -> 0
B10: Total Kit to be prepared: | C10: =E9 -> 100 | F10: Total | G10: =SUM(G6:G9) -> 0

Sheet L4 - Duhok Adult
B2: Lot 4: | C2: Duhok Adult Reformatory Prison
A4: Category: Hygiene kits
A5: No | B5: Item Descriptions | C5: Item Detail | D5: Quantity per Kit | E5: Total Quantity | F5: Unit Price (USD) | G5: Total Price (USD)
A6: 1 | B6: Liquid soap with container | C6: Liquid 4 liter | D6: 1 | E6: =2560*1/4 -> 640 | G6: =E6*F6 -> 0
A7: 2 | B7: Laundry Detergent | C7: Powder, to Hand-Wash Cloth, 1 kg | D7: 1 | E7: 2560 | G7: =E7*F7 -> 0
A8: 3 | B8: Dishwashing Liquid | C8: 1 L | D8: 1 | E8: =E9/2 -> 1280 | G8: =E8*F8 -> 0
A9: 4 | B9: All items to be packed in a box with a sticker/logo (25cm *18cm) | C9: Fitting the kits' items for line (1, 2 and 3) | D9: 1 | E9: 2560 | G9: =E9*F9 -> 0
B10: Total Kit to be prepared: | C10: =E9 -> 2560 | F10: Total | G10: =SUM(G6:G9) -> 0

Sheet L5- Akre DC
B2: Lot 5: | C2: Akre Detention Center
A4: Category: Hygiene kits
A5: No | B5: Item Descriptions | C5: Item Detail | D5: Quantity per Kit | E5: Total Quantity | F5: Unit Price (USD) | G5: Total Price (USD)
A6: 1 | B6: Solid soap bar | C6: ='L2 - Erbil W&J'!C6 -> 120gm, Set of 6 | D6: 1 | E6: 250 | G6: =E6*F6 -> 0
A7: 2 | B7: Laundry Detergent | C7: Powder, to Hand-Wash Cloth, 1 kg | D7: 1 | E7: 250 | G7: =E7*F7 -> 0
A8: 3 | B8: Dishwashing Liquid | C8: 1 L | D8: 1 | E8: =E9/2 -> 125 | G8: =E8*F8 -> 0
A9: 4 | B9: All items to be packed in a box with a sticker/logo (25cm *18cm) | C9: Fitting the kits' items for line (1, 2 and 3) | D9: 1 | E9: 250 | G9: =E9*F9 -> 0
B10: Total Kit to be prepared: | C10: =E9 -> 250 | F10: Total | G10: =SUM(G6:G9) -> 0

Sheet L6-Kirkuk J
B2: Lot 6: | C2: Kirkuk Juvenile Detention Center
A4: Category: Hygiene kits
A5: No | B5: Item Descriptions | C5: Item Detail | D5: Quantity per Kit | E5: Total Quantity | F5: Unit Price (USD) | G5: Total Price (USD)
A6: 1 | B6: Solid soap bar | C6: ='L2 - Erbil W&J'!C6 -> 120gm, Set of 6 | D6: 1 | E6: 71 | G6: =E6*F6 -> 0
A7: 2 | B7: Laundry Detergent | C7: Powder, to Hand-Wash Cloth, 1 kg | D7: 1 | E7: 71 | G7: =E7*F7 -> 0
A8: 3 | B8: Dishwashing Liquid | C8: 1 L | D8: 1 | E8: =E9/2+0.5 -> 36 | G8: =E8*F8 -> 0
A9: 4 | B9: All items to be packed in a box with a sticker/logo (25cm *18cm) | C9: Fitting the kits' items for line (1, 2 and 3) | D9: 1 | E9: 71 | G9: =E9*F9 -> 0
B10: Total Kit to be prepared: | C10: =E9 -> 71 | F10: Total | G10: =SUM(G6:G9) -> 0

Sheet L7-Kirkuk Balda
B2: Lot 7: | C2: Kirkuk Balda Detention Center
A4: Category: Hygiene kits
A5: No | B5: Item Descriptions | C5: Item Detail | D5: Quantity per Kit | E5: Total Quantity | F5: Unit Price (USD) | G5: Total Price (USD)
A6: 1 | B6: Solid soap bar | C6: ='L2 - Erbil W&J'!C6 -> 120gm, Set of 6 | D6: 1 | E6: 356 | G6: =E6*F6 -> 0
A7: 2 | B7: Laundry Detergent | C7: Powder, to Hand-Wash Cloth, 1 kg | D7: 1 | E7: 356 | G7: =E7*F7 -> 0
A8: 3 | B8: Dishwashing Liquid | C8: 1 L | D8: 1 | E8: =E9/2 -> 178 | G8: =E8*F8 -> 0
A9: 4 | B9: All items to be packed in a box with a sticker/logo (25cm *18cm) | C9: Fitting the kits' items for line (1, 2 and 3) | D9: 1 | E9: 356 | G9: =E9*F9 -> 0
B10: Total Kit to be prepared: | C10: =E9 -> 356 | F10: Total | G10: =SUM(G6:G9) -> 0

Sheet L8 - Kirkuk Airport
B2: Lot 8: | C2: Kirkuk Airport Detention Center
A4: Category: Hygiene kits
A5: No | B5: Item Descriptions | C5: Item Detail | D5: Quantity per Kit | E5: Total Quantity | F5: Unit Price (USD) | G5: Total Price (USD)
A6: 1 | B6: Solid soap bar | C6: ='L2 - Erbil W&J'!C6 -> 120gm, Set of 6 | D6: 1 | E6: 746 | G6: =E6*F6 -> 0
A7: 2 | B7: Laundry Detergent | C7: Powder, to Hand-Wash Cloth, 1 kg | D7: 1 | E7: 746 | G7: =E7*F7 -> 0
A8: 3 | B8: Dishwashing Liquid | C8: 1 L | D8: 1 | E8: =E9/2 -> 373 | G8: =E8*F8 -> 0
A9: 4 | B9: All items to be packed in a box with a sticker/logo (25cm *18cm) | C9: Fitting the kits' items for line (1, 2 and 3) | D9: 1 | E9: 746 | G9: =E9*F9 -> 0
B10: Total Kit to be prepared: | C10: =E9 -> 746 | F10: Total | G10: =SUM(G6:G9) -> 0

Sheet Lot 9 - Hila Men
B2: Lot 9: | C2: Hila Men Prison
A4: Category: Hygiene kits
A5: No | B5: Item Descriptions | C5: Item Detail | D5: Quantity per Kit | E5: Total Quantity | F5: Unit Price (USD) | G5: Total Price (USD)
A6: 1 | B6: Solid soap bar | C6: ='L2 - Erbil W&J'!C6 -> 120gm, Set of 6 | D6: 1 | E6: 1370 | G6: =E6*F6 -> 0
A7: 2 | B7: Laundry Detergent | C7: Powder, to Hand-Wash Cloth, 1 kg | D7: 1 | E7: 1370 | G7: =E7*F7 -> 0
A8: 3 | B8: Dishwashing Liquid | C8: 1 L | D8: 1 | E8: =E9/2 -> 685 | G8: =E8*F8 -> 0
A9: 4 | B9: All items to be packed in a box with a sticker/logo (25cm *18cm) | C9: Fitting the kits' items for line (1, 2 and 3) | D9: 1 | E9: 1370 | G9: =E9*F9 -> 0
B10: Total Kit to be prepared: | C10: =E9 -> 1370 | F10: Total | G10: =SUM(G6:G9) -> 0

Sheet L10 - Hila Women
B2: Lot 10: | C2: Hila Women Prison
A4: Category: Hygiene kits
A5: No | B5: Item Descriptions | C5: Item Detail | D5: Quantity per Kit | E5: Total Quantity | F5: Unit Price (USD) | G5: Total Price (USD)
A6: 1 | B6: Solid soap bar | C6: ='L2 - Erbil W&J'!C6 -> 120gm, Set of 6 | D6: 1 | E6: 434 | G6: =E6*F6 -> 0
A7: 2 | B7: Laundry Detergent | C7: Powder, to Hand-Wash Cloth, 1 kg | D7: 1 | E7: 434 | G7: =E7*F7 -> 0
A8: 3 | B8: Dishwashing Liquid | C8: 1 L | D8: 1 | E8: =E9/2 -> 217 | G8: =E8*F8 -> 0
A9: 4 | B9: All items to be packed in a box with a sticker/logo (25cm *18cm) | C9: Fitting the kits' items for line (1, 2 and 3) | D9: 1 | E9: 434 | G9: =E9*F9 -> 0
B10: Total Kit to be prepared: | C10: =E9 -> 434 | F10: Total | G10: =SUM(G6:G9) -> 0

Sheet L11 Rasafa 6
B2: Lot 11: | C2: Rasafa Six Prison
A4: Category: Hygiene kits
A5: No | B5: Item Descriptions | C5: Item Detail | D5: Quantity per Kit | E5: Total Quantity | F5: Unit Price (USD) | G5: Total Price (USD)
A6: 1 | B6: Solid soap bar | C6: ='L2 - Erbil W&J'!C6 -> 120gm, Set of 6 | D6: 1 | E6: 766 | G6: =E6*F6 -> 0
A7: 2 | B7: Laundry Detergent | C7: Powder, to Hand-Wash Cloth, 1 kg | D7: 1 | E7: 766 | G7: =E7*F7 -> 0
A8: 3 | B8: Dishwashing Liquid | C8: 1 L | D8: 1 | E8: =E9/2 -> 383 | G8: =E8*F8 -> 0
A9: 4 | B9: All items to be packed in a box with a sticker/logo (25cm *18cm) | C9: Fitting the kits' items for line (1, 2 and 3) | D9: 1 | E9: 766 | G9: =E9*F9 -> 0
B10: Total Kit to be prepared: | C10: =E9 -> 766 | F10: Total | G10: =SUM(G6:G9) -> 0

Sheet L12 Karkh
B2: Lot 12: | C2: Karkh Central Prison (Kupar Prison)
A4: Category: Hygiene kits
A5: No | B5: Item Descriptions | C5: Item Detail | D5: Quantity per Kit | E5: Total Quantity | F5: Unit Price (USD) | G5: Total Price (USD)
A6: 1 | B6: Solid soap bar | C6: ='L2 - Erbil W&J'!C6 -> 120gm, Set of 6 | D6: 1 | E6: 5070 | G6: =E6*F6 -> 0
A7: 2 | B7: Laundry Detergent | C7: Powder, to Hand-Wash Cloth, 1 kg | D7: 1 | E7: 5070 | G7: =E7*F7 -> 0
A8: 3 | B8: Dishwashing Liquid | C8: 1 L | D8: 1 | E8: =E9/2 -> 2535 | G8: =E8*F8 -> 0
A9: 4 | B9: All items to be packed in a box with a sticker/logo (25cm *18cm) | C9: Fitting the kits' items for line (1, 2 and 3) | D9: 1 | E9: 5070 | G9: =E9*F9 -> 0
B10: Total Kit to be prepared: | C10: =E9 -> 5070 | F10: Total | G10: =SUM(G6:G9) -> 0

Sheet L13 Taji
B2: Lot 13: | C2: Taji Prison
A4: Category: Hygiene kits
A5: No | B5: Item Descriptions | C5: Item Detail | D5: Quantity per Kit | E5: Total Quantity | F5: Unit Price (USD) | G5: Total Price (USD)
A6: 1 | B6: Solid soap bar | C6: ='L2 - Erbil W&J'!C6 -> 120gm, Set of 6 | D6: 1 | E6: 8217 | G6: =E6*F6 -> 0
A7: 2 | B7: Laundry Detergent | C7: Powder, to Hand-Wash Cloth, 1 kg | D7: 1 | E7: 8217 | G7: =E7*F7 -> 0
A8: 3 | B8: Dishwashing Liquid | C8: 1 L | D8: 1 | E8: =E9/2+0.5 -> 4109 | G8: =E8*F8 -> 0
A9: 4 | B9: All items to be packed in a box with a sticker/logo (25cm *18cm) | C9: Fitting the kits' items for line (1, 2 and 3) | D9: 1 | E9: 8217 | G9: =E9*F9 -> 0
B10: Total Kit to be prepared: | C10: =E9 -> 8217 | F10: Total | G10: =SUM(G6:G9) -> 0

Sheet L14 - Nasriyah
B2: Lot 14: | C2: Nasiriya Central Prison
A4: Category: Hygiene kits
A5: No | B5: Item Descriptions | C5: Item Detail | D5: Quantity per Kit | E5: Total Quantity | F5: Unit Price (USD) | G5: Total Price (USD)
A6: 1 | B6: Solid soap bar | C6: ='L2 - Erbil W&J'!C6 -> 120gm, Set of 6 | D6: 1 | E6: 11233 | G6: =E6*F6 -> 0
A7: 2 | B7: Laundry Detergent | C7: Powder, to Hand-Wash Cloth, 1 kg | D7: 1 | E7: 11233 | G7: =E7*F7 -> 0
A8: 3 | B8: Dishwashing Liquid | C8: 1 L | D8: 1 | E8: =E9/2+0.5 -> 5617 | G8: =E8*F8 -> 0
A9: 4 | B9: All items to be packed in a box with a sticker/logo (25cm *18cm) | C9: Fitting the kits' items for line (1, 2 and 3) | D9: 1 | E9: 11233 | G9: =E9*F9 -> 0
B10: Total Kit to be prepared: | C10: =E9 -> 11233 | F10: Total | G10: =SUM(G6:G9) -> 0

Sheet L15 - Basra
B2: Lot 15: | C2: Basra Central Prison
A4: Category: Hygiene kits
A5: No | B5: Item Descriptions | C5: Item Detail | D5: Quantity per Kit | E5: Total Quantity | F5: Unit Price (USD) | G5: Total Price (USD)
A6: 1 | B6: Solid soap bar | C6: ='L2 - Erbil W&J'!C6 -> 120gm, Set of 6 | D6: 1 | E6: 4209 | G6: =E6*F6 -> 0
A7: 2 | B7: Laundry Detergent | C7: Powder, to Hand-Wash Cloth, 1 kg | D7: 1 | E7: 4209 | G7: =E7*F7 -> 0
A8: 3 | B8: Dishwashing Liquid | C8: 1 L | D8: 1 | E8: =E9/2+0.5 -> 2105 | G8: =E8*F8 -> 0
A9: 4 | B9: All items to be packed in a box with a sticker/logo (25cm *18cm) | C9: Fitting the kits' items for line (1, 2 and 3) | D9: 1 | E9: 4209 | G9: =E9*F9 -> 0
B10: Total Kit to be prepared: | C10: =E9 -> 4209 | F10: Total | G10: =SUM(G6:G9) -> 0

Sheet Total prices
A2: Provision of Hygiene kits for 15 prisons and Detention Centers in Iraq
A5: Lot No. | B5: Location | C5: Total Price per Lot. USD
A6: ='L1 - Suse'!B2 -> Lot 1: | B6: ='L1 - Suse'!C2 -> Suse Federal Prison | C6: ='L1 - Suse'!G10 -> 0
A7: ='L2 - Erbil W&J'!B2 -> Lot 2: | B7: ='L2 - Erbil W&J'!C2 -> Erbil Women Reformatory and Juvenile Centre | C7: ='L2 - Erbil W&J'!G10 -> 0
A8: ='L3 - Duhok W&J'!B2 -> Lot 3: | B8: ='L3 - Duhok W&J'!C2 -> Duhok Women and Juvenile Center | C8: ='L3 - Duhok W&J'!G10 -> 0
A9: ='L4 - Duhok Adult'!B2 -> Lot 4: | B9: ='L4 - Duhok Adult'!C2 -> Duhok Adult Reformatory Prison | C9: ='L4 - Duhok Adult'!G10 -> 0
A10: ='L5- Akre DC'!B2 -> Lot 5: | B10: ='L5- Akre DC'!C2 -> Akre Detention Center | C10: ='L5- Akre DC'!G10 -> 0
A11: ='L6-Kirkuk J'!B2 -> Lot 6: | B11: ='L6-Kirkuk J'!C2 -> Kirkuk Juvenile Detention Center | C11: ='L6-Kirkuk J'!G10 -> 0
A12: ='L7-Kirkuk Balda'!B2 -> Lot 7: | B12: ='L7-Kirkuk Balda'!C2 -> Kirkuk Balda Detention Center | C12: ='L7-Kirkuk Balda'!G10 -> 0
A13: ='L8 - Kirkuk Airport'!B2 -> Lot 8: | B13: ='L8 - Kirkuk Airport'!C2 -> Kirkuk Airport Detention Center | C13: ='L8 - Kirkuk Airport'!G10 -> 0
A14: ='Lot 9 - Hila Men'!B2 -> Lot 9: | B14: ='Lot 9 - Hila Men'!C2 -> Hila Men Prison | C14: ='Lot 9 - Hila Men'!G10 -> 0
A15: ='L10 - Hila Women'!B2 -> Lot 10: | B15: ='L10 - Hila Women'!C2 -> Hila Women Prison | C15: ='L10 - Hila Women'!G10 -> 0
A16: ='L11 Rasafa 6'!B2 -> Lot 11: | B16: ='L11 Rasafa 6'!C2 -> Rasafa Six Prison | C16: ='L11 Rasafa 6'!G10 -> 0
A17: ='L12 Karkh'!B2 -> Lot 12: | B17: ='L12 Karkh'!C2 -> Karkh Central Prison (Kupar Prison) | C17: ='L12 Karkh'!G10 -> 0
A18: ='L13 Taji'!B2 -> Lot 13: | B18: ='L13 Taji'!C2 -> Taji Prison | C18: ='L13 Taji'!G10 -> 0
A19: ='L14 - Nasriyah'!B2 -> Lot 14: | B19: ='L14 - Nasriyah'!C2 -> Nasiriya Central Prison | C19: ='L14 - Nasriyah'!G10 -> 0
A20: ='L15 - Basra'!B2 -> Lot 15: | B20: ='L15 - Basra'!C2 -> Basra Central Prison | C20: ='L15 - Basra'!G10 -> 0
B21: Total Price USD | C21: =SUM(C6:C20) -> 0
B24: Delivery Duration (Days): | C24: ( ) Days
B25: availability of offer: (Not less than Three Months) | C25: ( ) Months
