Workbook

Sheet Summary
A1: Pumps and channels for drainage and irrigation in Anbar
A2: No. | B2: Title | C2: Amount
A3: 1 | B3: Albo Aitha drainage station 4 | C3: ='Albo Aitha drainage station 4'!F27 -> 0
A4: 2 | B4: Amiriya drainage station | C4: ='Amiriya drainage station'!F22 -> 0
A5: 3 | B5: Saqlawiya field pumps | C5: ='Saqlawiya field pumps'!F22 -> 0
A6: 4 | B6: Irrigation canals Saqlawiya | C6: ='Irrigation canals Saqlawiya'!F4 -> 0
A7: 5 | B7: Irrigation canals Nuaimya&Husai | C7: ='Irrigation canals Nuaimya&Husai'!F4 -> 0
A8: 6 | B8: Drainage channels Saqlawiya | C8: ='Drainage channels Saqlawiya'!F4 -> 0
A9: Total Amount | C9: =SUM(C3:C8) -> 0
A12: Important notes and conditions | E12: ملاحظات و شروط مهمة
A13: 01- It is mandatory for the bidders to inspect the situation on site before submitting an offer. زيارة و تفقد الموقع الزامية على مقدمي العطاءات قبل تقديم العطاء 02- Access situation to the site premises has to be checked in advance. يجب التاكد من وضع الطريق و امكانية الدخول الى مناطق العمل مقدما 03- All the work items should be according to IRAQI General Technical Specifications (IGTS), all applicable Iraqi standards, Iraqi construction codes, Iraqi general conditions for the civil engineering works' contracts (part 1 & part 2), and the Iraqi general conditions for the electrical, mechanical, and chemical engineering works' contracts. جميع الاعمال يجب ان تكون وفق المواصفات العامة العراقية, جميع المواصفات القياسية العراقية النافذة, مدونة الانشاءات العراقية, الشروط العامة لمقاولات اعمال الهندسة المدنية بقسميها الاول و الثاني العراقية, و الشروط العامة لمقاولات اعمال الهندسة الكهربائية و الميكانيكية و الكيميائية العراقية. 04- All materials must be NEW from best type approved by supervisor. جميع المواد المستخدمة يجب ان تكون جديدة و من افضل نوعية و حسب موافقة المشرف 05-The unit prices include transportation and providing the materials mentioned in the BoQ. اسعار الفقرات تشمل النقل و توفير كافة المواد و المستلزمات كما في جدول الكميات 06-The contractor shall prepare a Time Schedule for the whole project. المقاول يجب ان يعد مخطط زمني للمشروع 07- The contractor must set up a project boards. على المقاول نصب لوحات دلالة للمشروع 08- All works in the Bill of Quantities will be done according to supplied design details, specifications, instructions and directions of supervisor. جميع الاعمال في جدول الكميات يجب ان تنفذ حسب التصاميم و المواصفات المذكورة و حسب توجيهات المشرف 09- The contract will be executed as "re-measurement contract" with exact values according to the Iraqi standards not to the common market measuring procedure. يتم تنفيذ المشروع بطريقة الذرعه الموقعية و بالذرعات الحقيقية حسب المواصفات الهندسية العراقية و ليس حسب الطرق الشائعه 10- Bidder MUST fill these excel sheets as soft copy and send them within the financial offer. يجب على مقدمي العطاءات ملئ جداول الاكسل المرفقة و تقديمها بصيغه اكسل مع العرض المالي 11- Bidder MUST print the pdf sheets, fill them by handwriting, sign and stamp every sheet, and scan and send them as a soft copy within the financial offer. يجب على مقدمي العطاءات طباعه جداول الكميات بصيغه (بي دي اف) ثم ملئها يدويا ثم تصويرها الكترونيا ثم ارسالها بملف بصيغة (بي دي اف) مع العرض المالي 12- Bidder MUST submit a work schedule timeline with a total duration NOT more than four months. يجب على مقدمي العطاءات تقديم مخطط زمني لجدول تقدم العمل بمدة عمل كلية لا تزيد عن اربعه اشهر 13- Works will be implemented in various locations according to data given in the tables in every sheet respectively. سيتم تنفيذ الاعمال في مواقع متعددة و حسب البيانات المذكورة في الجداول في كل صفحة 14- Submitting bid means that the bidder has read all these conditions and notes and accepts all the conditions. تقديم العطاء يعني قراءة هذه الشروط و الملاحظات و الموافقة عليها من قبل مقدمي العطاءات 15- Bidder MUST carefully read and follow A4_Bidding conditions document, failure to follow this document leads to exclusion of the offer. على مقدمي العطاءات قراءة مستند شروط التقديم بعناية و اتباع تعليماته, الفشل في اتباع هذا المستند يؤدي الى استبعاد العرض

Sheet Albo Aitha drainage station 4
A1: ECE for rehabilitation vertical pump in the fourth drainage station in Albo Aitha Ramadi | F1: جدول كميات تخميني لتاهيل المضخة العمودية لمحطة البزل الرابعه في البو عيثة / الرمادي
A2: item no. | B2: Description | C2: Unit | D2: Quantity | E2: Cost /Unit (USD) | F2: Total cost(USD) | G2: الكمية | H2: الوحدة | I2: التفاصيل
A3: 1 | B3: Rehabilitation of the Chinese vertical pump (pump 3) in the station. This work includes replacing the (2) pump shafts, replacing of (4)rubber bushings, replacing of (4) stainless steel bushings behind the back, replacing of (2) stainless steel bushing, replacing of cooling case bushings, replacing oil basin bushing, replacing the filling case, replacing the lower coupling for shafts, relacing the coupling that connect the engine with the suction casing with a suitable couplin rubber, replacing the torrents and bushing lock (check nuts) with new suitable screws and water leakage prevention washers, balancing the impeller by the turner machine, and replacing the impeller ballbearing. Providing grease and oil with filling, and cleaning the frames of the impeller with painting by red lead. A period of six months guarantee after operation with total load. Also, the price include all work requirements, dismantling, engine rehabilitation, installation, and transportation fees. | C3: Pcs | D3: 1 | F3: =D3*E3 -> 0 | G3: 1 | H3: عدد | I3: تاهيل المضخة العمودية الصينية (المضخه 3) في المحطة و يشمل العمل تبديل شفتات المضخة عدد 2 مع تبديل بوش ربر عدد 4 مع تبديل بوش ستنلس ستيل خلف الظهر عدد 4 مع تبديل بوش ستنلس ستيل عدد 2 مع تبديل بوش تبريد البكن مع تبديل بوش حوض التزييت مع تبديل كلان بكن مع تبديل كوبلن ربط الشفتات السفلي و تبديل كوبلن ربط المحرك بالخنزيرة مع الربل كوبلن المناسب مع تبديل السيالة و الجك نتات مع البراغي المناسبة جديدة مع واشرات منع تسرب المياه مع ضبط موازنة البشارة على التورنة مع تبديل البولبرن العائد للبشارة مع تجهيز مادة الشحم و السيؤيل مع البكن مع تنظيف الهياكل للبشارة و الصبغ بمادة الرادليت و كافة متطلبات العمل مع اجور صيانة المحرك و الفتح و التركيب و النقل مع فترة ضمان لمدة ستة اشهر و بالحمل الكامل
A4: 2 | B4: Generator rehabilitation nippon sharyo 990 KVA (16) as follows : | I4: تأهيل المولدة نوع نييبون شاريو يابانيه المنشأ سعة(990) كي في أي (16) و كما يلي :
B5: provide new engine front rubber oil seal | C5: Pcs | D5: 1 | F5: =D5*E5 -> 0 | G5: 1 | H5: عدد | I5: تجهيز جبنة محرك أمامية .
B6: provide new engine back rubber oil seal | C6: Pcs | D6: 1 | F6: =D6*E6 -> 0 | G6: 1 | H6: عدد | I6: تجهيز جبنة محرك خلفية
B7: provide new turbo charger (super engine) | C7: Pcs | D7: 4 | F7: =D7*E7 -> 0 | G7: 4 | H7: عدد | I7: تجهيز تربو جارجر جديد (سوبر محرك) .
B8: provide new oil filter | C8: Pcs | D8: 6 | F8: =D8*E8 -> 0 | G8: 6 | H8: عدد | I8: تجهيز فلاتر دهن .
B9: provide new gasoline filter | C9: Pcs | D9: 6 | F9: =D9*E9 -> 0 | G9: 6 | H9: عدد | I9: تجهيز فلاتر كاز .
B10: provide new air filter | C10: Pcs | D10: 4 | F10: =D10*E10 -> 0 | G10: 4 | H10: عدد | I10: تجهيز فلاتر هواء
B11: provide new joining pipes for water, according to the sizes and specifications of the old ones. | C11: Pcs | D11: 6 | F11: =D11*E11 -> 0 | G11: 6 | H11: عدد | I11: تجهيز جوينات ماء مختلفة الاحجام وحسب مواصفات وقياسات القديمه
B12: provide new washers for exhaust and engine induction | C12: Pcs | D12: 20 | F12: =D12*E12 -> 0 | G12: 20 | H12: عدد | I12: تجهيز واشرات الكزوز واشرات الدكشن الحار .
B13: opening generator nozzels for cleaning and re-installing them | C13: Pcs | D13: 16 | F13: =D13*E13 -> 0 | G13: 16 | H13: عدد | I13: فتح النوزلات العائدة للمولدة لغرض التنظيف مع أعادة التركيب
B14: cleaning the nozzles in the workshop with needles and cups with pressure test for each nozzle. | C14: Pcs | D14: 16 | F14: =D14*E14 -> 0 | G14: 16 | H14: عدد | I14: تنظيف النوزلات في الورشة ابر النوزلات مع تبديل الكبات العائدة للنوزلات مع فحص الضغط لكل نوزل .
B15: opening and flushing generator oil coolers | C15: Pcs | D15: 2 | F15: =D15*E15 -> 0 | G15: 2 | H15: عدد | I15: فتح وتشيش برادات الدهن العائدة للمولدة .
B16: hand work wages for the special mechanic to open the mechanical parts and re-installing with provision of any other required material, instruments, machinary, and tools. With a warranty period of 6 months or 1000 working hours starting from the date of approval and handover of rehabilitation works and with a warranty of no leakage from any part of the generator. | C16: Pcs | D16: 1 | F16: =D16*E16 -> 0 | G16: 1 | H16: عدد | I16: أجور عمل الفيتر المختص في فتح الاجزاء الميكانيكة مع أعادة التركيب وتجهيز المواد مع فترة ضمان لمدة ستة أشهر أو (1000) ساعة عمل من تاريخ أنجاز العمل ودخول المولدة الخدمة الفعلية مع ضمان عدم وجود رشح من أجزاء المولدة .
... B26: check the water pump of the generator and inspect the water cycle in general and replace the damaged parts of the system with running the system. | C26: Pcs | D26: 1 | F26: =D26*E26 -> 0 | G26: 1 | H26: عدد | I26: فحص الوتر بمب العائد للمولدة مع فحص دورة الماء في المولدة بصورة عامة مع تبديل الاجزاء المتضررة من الواتر البمب مع التشغيل .
A27: Total amount | F27: =SUM(F3:F26) -> 0 | G27: المجموع الكلي

Sheet Amiriya drainage station
A1: ECE for rehabilitation of 2 vertical electric pumps, gates rehabilitation, and construction of steel bridge in the drainage station in Amiria / Faluja | F1: جدول كميات تخميني لتاهيل المضخات الكهربائية العمودية عدد 2 مع تاهيل البوابات و عمل مجسر حديد لمحطة بزل العامرية / فلوجة
A2: item no. | B2: Description | C2: Unit | D2: Quantity | E2: Cost /Unit (USD) | F2: Total cost(USD) | G2: الكمية | H2: الوحدة | I2: التفاصيل
A3: 1 | B3: Replacing Stainless Steel shaft its external daimeter (120) mm and length (2.5) meters, (3) piece for each suction casing. | C3: Pcs | D3: 6 | F3: =E3*D3 -> 0 | G3: 6 | H3: عدد | I3: تبديل شفت ستل ستيل قطره الخارجي 120 ملم وطوله 2,5 مترعدد/ 3 لكل خنزيرة
A4: 2 | B4: Replacing Stainless Steel bushing its external daimeter (140) mm and internal daimeter (120) mm and length (30) cm, (5) piece for each suction casing. | C4: Pcs | D4: 10 | F4: =E4*D4 -> 0 | G4: 10 | H4: عدد | I4: تبديل بوش ستل ستيل قطرها الخارجي 140 ملم والداخلي 120 ملم وطول 30 سم عدد / 5 لكل خنزيرة
A5: 3 | B5: Replacing Brass bushings its external daimeter (160) mm and internal daimeter (140) mm and length (30) cm, (4) piece for each suction casing. | C5: Pcs | D5: 8 | F5: =E5*D5 -> 0 | G5: 8 | H5: عدد | I5: تبديل بوش براص قطرها الخارجي 160 ملم والداخلي 140 ملم وطول 30 سم عدد / 4 لكل خنزيرة
A6: 4 | B6: Replacing Cooling bushing its external daimeter (160) mm and inernal daimeter(140) mm and length (20) cm, (2) piece for each suction casing. | C6: Pcs | D6: 4 | F6: =E6*D6 -> 0 | G6: 4 | H6: عدد | I6: تبديل بوش تبريد قطرها الخارجي 160 ملم والداخلي 140 ملم وطول 20 سم عدد / 2 لكل خنزيرة
A7: 5 | B7: Replacing Filling case according to the model, (1) piece for each suction casing. | C7: Pcs | D7: 2 | F7: =E7*D7 -> 0 | G7: 2 | H7: عدد | I7: تبديل كلان بكن حسب النموذج عدد / 1 لكل خنزيرة
A8: 6 | B8: Replacing Couplin link the shafts according to the model, (1) piece for each suction casing. | C8: Pcs | D8: 2 | F8: =E8*D8 -> 0 | G8: 2 | H8: عدد | I8: تبديل كوبلن ربط الشفتات حسب النموذج عدد/1 لكل خنزيرة
A9: 7 | B9: Replacing Couplin center shafts according to the model, (1) piece for each suction casing. | C9: meter | D9: 2 | F9: =E9*D9 -> 0 | G9: 2 | H9: عدد | I9: تبديل كوبلن سنتر الشفتات حسب النموذج عدد/2 لكل خنزيرة
A10: 8 | B10: Balancing shaft with impeller. | C10: l.s | D10: 1 | F10: =E10*D10 -> 0 | G10: 1 | H10: جملة | I10: موازنة الشفت مع البشارة
A11: 9 | B11: Replacing Bushing lock (4) piece according to the model for each suction casing. | C11: Pcs | D11: 8 | F11: =E11*D11 -> 0 | G11: 8 | H11: عدد | I11: تبديل جك نت عدد/4 لكل خنزيرة
A12: 10 | B12: Opening (6) torrents for shaft and provide torrents according to the model for each suction casing. | C12: l.s | D12: 1 | F12: =E12*D12 -> 0 | G12: 1 | H12: جملة | I12: فتح سيل عدد/6 للشفتات مع تجهيز سيل حسب النموذج لكل خنزيرة
A13: 11 | B13: Removing electrical motor and dismantling suction casing and reconnecting after maintenance, and all work requirements for (2) piece of suction casing. | C13: Pcs | D13: 2 | F13: =E13*D13 -> 0 | G13: 2 | H13: عدد | I13: رفع المحرك الكهربائي وتفكيك الخنزيرة مع الربط بعد الصيانة وكل ما يتطلبه العمل لخنزيرات عدد/2
A14: 12 | B14: Providing main ballbearing for (2) piece of suction casing size (29332). | C14: Pcs | D14: 2 | F14: =E14*D14 -> 0 | G14: 2 | H14: عدد | I14: تجهيز بولبرن رئيسي للخنزيرة حجم 29332
... A21: 19 | B21: Providing a medium bridge crane to raise and lower the refineries, and building a railway along the bridge and all that it takes to complete the work. | C21: l.s | D21: 1 | F21: =E21*D21 -> 0 | G21: 1 | H21: جملة | I21: تجهيز كرين جسري متوسط لرفع وتنزيل المصافي مع عمل سكة حديد على طول المجسر وكل ما يتطلبه العمل
A22: TOTAL | F22: =SUM(F3:F21) -> 0 | G22: المجموع

Sheet Saqlawiya field pumps
A1: ECE for replacing damaged farmers' field pumps in Saqlawiya / Faluja | F1: جدول كميات تخميني لتبديل مضخات المزارعين الحقلية المتضررة في الصقلاوية / فلوجة
A2: item no. | B2: Description | C2: Unit | D2: Quantity | E2: Cost /Unit (USD) | F2: Total cost(USD) | G2: الكمية | H2: الوحدة | I2: التفاصيل
A3: 1 | B3: Supply and install star-delta type electric motor with horizontal surface centrifugal Pump end suction Brand Standart or equivalent with the following specifications: agricultural use, 6 inches inlet and 5 inches outlet, HP=30, Q=250 m3/h , h=10 m , 1000 rpm, 3ph, 22 KW , 380 V (to be implemented in locations 15, 10, and 24). | C3: Pcs | D3: 3 | F3: =E3*D3 -> 0 | G3: 3 | H3: عدد | I3: تجهيز و نصب مضخة ماء افقية دورانية ماصة بمحرك كهربائي من نوع ستار-دلتا. ماركة ستاندارت او ما يعادلها و بالمواصفات التالية: استخدام زراعي, 6 أنج للمدخل السحب, 5 أنج للمخرج الدفع , 30 حصان , تصريف 250 م3 في الساعه , ارتفاع الضخ 10 م, 1000 دورة \دقيقة , ثلاثي الطور , 22 كيلوواط, 380 فولط ( يتم تنفيذ هذه الفقرة للمواقع 15, 10, و 24)
A4: 2 | B4: Supply and install star-delta type electric motor with horizontal surface centrifugal Pump end suction Brand Standart or equivalent with the following specifications: agricultural use, 8 inches inlet and 6 inches outlet, HP=40, Q=400 m3/h , h=20 m , 1000 rpm, 3ph, 30 KW , 380 V (to be implemented in locations 1, 2, 5, 6, 7, 8, 9, 11, 12, and 13). | C4: Pcs | D4: 10 | F4: =E4*D4 -> 0 | G4: 10 | H4: عدد | I4: تجهيز و نصب مضخة ماء افقية دورانية ماصة بمحرك كهربائي من نوع ستار-دلتا. ماركة ستاندارت او ما يعادلها و بالمواصفات التالية: استخدام زراعي, 8 أنج للمدخل السحب, 6 أنج للمخرج الدفع , 40 حصان , تصريف 400 م3 في الساعه , ارتفاع الضخ 20 م, 1000 دورة \دقيقة , ثلاثي الطور , 30 كيلوواط, 380 فولط ( يتم تنفيذ هذه الفقرة للمواقع 1, 2, 5, 6, 7, 8, 9, 11, 12, و 13)
A5: 3 | B5: Supply and install horizontal end suction pump with diesel engine brand Usha, Topland, or equivalent with the following specifications: 30 HP, h=15 m 1500-1800 rpm, Q=250 m3/h, 6 inches inlet, and 6 inches outlet (to be implemented in locations 3, 4, 14, 16, 17, 18, 19, 20, 21, 22, and 23). | C5: Pcs | D5: 11 | F5: =E5*D5 -> 0 | G5: 11 | H5: عدد | I5: تجهيز و نصب مضخة ماء افقية ماصة بمحرك ديزل ماكة يوشا, توبلاند, او ما يعادلها و بالمواصفات التالية : 30 حصان, ارتفاع الضخ 15 م , 1500-1800 دورة\دقيقة , تصريف 250 م3\ساعه , 6 أنج للمدخل السحب , 6 أنج للمخرج الدفع . (يتم تنفيذ هذه افقرة للمواقع 3, 4, 14, 16, 17, 18, 19, 20, 21, 22, و 23).
A6: 4 | B6: Supply, connect, and test steel pipe of 5 inch diameter and 4 mm thick. Price includes painting with antirust and all required fiitings(t-section, elbows, adapters, washers, bolts, nuts, flanges, jonson couplings, union couplings, etc), tools, materials, equipments and machinary for dissembling, cutting, welding, and reconnecting of all parts. (to be implemented in various loacations according to the location's need) | C6: ml | D6: 18 | F6: =E6*D6 -> 0 | G6: 18 | H6: م ط | I6: تجهيز و ربط و فحص انبوب حديد قطر 5 أنج سمك 4 مم . يشمل السعر الصبغ بمانع الصدا و جميع الملحقات المطلوبة (تقسيم, عكس, تحويلة, براغي, نتات, فلنجات , يونيات , توصيلات ... الخ) و العدد و المواد و الاجهزة و المكائن المطلوبة لتفكيك و قطع و لحام و اعادة توصيل جميع الاجزاء. (يتم تنفيذ هذه الفقرة في مواقع متعددة و حسب احتياجات الموقع).
A7: 5 | B7: Supply, connect, and test steel pipe of 6 inch diameter and 4 mm thick. Price includes painting with antirust and all required fiitings(t-section, elbows, adapters, washers, bolts, nuts, flanges, jonson couplings, union couplings, etc), tools, materials, equipments and machinary for dissembling, cutting, welding, and reconnecting of all parts. (to be implemented in various loacations according to the location's need) | C7: ml | D7: 97 | F7: =E7*D7 -> 0 | G7: 97 | H7: م ط | I7: تجهيز و ربط و فحص انبوب حديد قطر 6 أنج سمك 4 مم . يشمل السعر الصبغ بمانع الصدا و جميع الملحقات المطلوبة (تقسيم, عكس, تحويلة, براغي, نتات, فلنجات , يونيات , توصيلات ... الخ) و العدد و المواد و الاجهزة و المكائن المطلوبة لتفكيك و قطع و لحام و اعادة توصيل جميع الاجزاء. (يتم تنفيذ هذه الفقرة في مواقع متعددة و حسب احتياجات الموقع).
A8: 6 | B8: Supply, connect, and test steel pipe of 8 inch diameter and 4 mm thick. Price includes painting with antirust and all required fiitings(t-section, elbows, adapters, washers, bolts, nuts, flanges, jonson couplings, union couplings, etc), tools, materials, equipments and machinary for dissembling, cutting, welding, and reconnecting of all parts. (to be implemented in various loacations according to the location's need) | C8: ml | D8: 120 | F8: =E8*D8 -> 0 | G8: 120 | H8: م ط | I8: تجهيز و ربط و فحص انبوب حديد قطر 8 أنج سمك 4 مم . يشمل السعر الصبغ بمانع الصدا و جميع الملحقات المطلوبة (تقسيم, عكس, تحويلة, براغي, نتات, فلنجات , يونيات , توصيلات ... الخ) و العدد و المواد و الاجهزة و المكائن المطلوبة لتفكيك و قطع و لحام و اعادة توصيل جميع الاجزاء. (يتم تنفيذ هذه الفقرة في مواقع متعددة و حسب احتياجات الموقع).
A9: 7 | B9: Supply and install raw water suction foot valve (example picture below) to prevent the water from dropping back to the water source after turning the pump off, it must also contain screen (filter) to protect pipes and pump from the entrance of obstacles. 6 inches diameter. Price includes all needed accessories and fittings. (to be implemented in various loacations according to the location's need). | C9: Pcs | D9: 14 | F9: =E9*D9 -> 0 | G9: 14 | H9: عدد | I9: تجهيز و نصب صمام سحب (ولف مانع رجوع)(صورة مثال توضيحي بالاسفل) لمنع الماء من الرجوع الى المصدر بعد اطفاء المضخة , كذلك يجب ان تحتوي على مصفاة لحماية الانابيب من دخول العوائق. قياس 6 انج. يشمل السعر جميع الملحقات و المكملات المطلوبة. (يتم تنفيذ هذه الفقرة في مواقع متعددة و حسب احتياجات الموقع).
A10: 8 | B10: Supply and install raw water suction foot valve (example picture below) to prevent the water from dropping back to the water source after turning the pump off, it must also contain screen (filter) to protect pipes and pump from the entrance of obstacles. 8 inches diameter. Price includes all needed accessories and fittings. (to be implemented in various loacations according to the location's need). | C10: Pcs | D10: 10 | F10: =E10*D10 -> 0 | G10: 10 | H10: عدد | I10: تجهيز و نصب صمام سحب (ولف مانع رجوع)(صورة مثال توضيحي بالاسفل) لمنع الماء من الرجوع الى المصدر بعد اطفاء المضخة , كذلك يجب ان تحتوي على مصفاة لحماية الانابيب من دخول العوائق. قياس 8 انج. يشمل السعر جميع الملحقات و المكملات المطلوبة. (يتم تنفيذ هذه الفقرة في مواقع متعددة و حسب احتياجات الموقع).
A11: 9 | B11: Supply, connect, and test flexible plastic pipe 8 inches diameter, Indian quality, heavy type. Price includes all needed fittings and accessories. (to be implemented in various loacations according to the location's need). | C11: ml | D11: 198 | F11: =E11*D11 -> 0 | G11: 198 | H11: م ط | I11: تجهيز و ربط و فحص انبوب بلاستك مرن (صوندة) قطر 8 أنج نوع هندي ثقيل. يشمل السعر جميع الملحقات و المكملات المطلوبة. (يتم تنفيذ هذه الفقرة في مواقع متعددة و حسب احتياجات الموقع).
A12: 10 | B12: Supply and install prefabricated (sandwich panel) room. Dimensions of the room from inner side (3*3)m and 2.6 m high. Price includes installing steel frame using steel angle sections (3*1.5) inches 3mm thick, 6 inches C-section for the piers (legs) attached to a base plate (30*30)cm 3mm thick for each leg, and painting with antirust paint for all steel works. A concrete base for each leg must be cast with dimensions (40*40*40)cm using 1:2:4 mix with sulphate resisting cement, legs must be connected to the base according to the instruction of the supervisor engineer, all concrete bases must be level and have an embeded height in the ground. Sandwich panel 5 cm thick should be used for the walls and roof, roof must be extended 20 cm towards outside from all sides, and silicon finishing for all joints and screws must be used. Room contains PVC door (1*2.1)m with pvc door lever and key lock, and a PVC window (0.4*0.4)m with insect mesh, 4mm glass, and a PVC hand lock, all PVC sections must be attached to the steel frame with no gaps between the steel frame and PVC, and finishing the joint with silicon. (to be implemented in various loacations according to the location's need). | C12: Pcs | D12: 24 | F12: =E12*D12 -> 0 | G12: 24 | H12: عدد | I12: تجهيز و نصب غرفة ساندويج بنل بابعاد (3*3)م و ارتفاع 2.6 م. يشمل السعر نصب هيكل حديد باستخدام حديد الزاوية (3*1.5) أنج سمك 3 مم , حديد الساقية (جنل) قياس 6 أنج للارجل تثبت الى بليت قاعدة (30*30) سم سمك 3 مم لكل رجل, مع الصبغ بالاصباغ المضادة للاكسدة لجميع الاجزاء الحديدية. يجب صب قاعدة كونكريتية لكل رجل بابعاد (40*40*40)سم باستخدام نسبة خلط 1:2:4 بالسمنت المقاوم للاملاح , يتم ربط الارجل الى القواعد حسب تعليمات المهندس المشرف, جميع القواعد الكونكريتية يجب ان تكون بمستوى واحد ولها عمق مدفون تحت الارض. يجب استخدام ساندويج بنل 5 سم للجدران و السقف, يجب مد السقف بمسافة 20 سم للخارج من جميع الجهات, و يجب انهاء جميع المفاصل و البراغي بالسيليكون. تحتوي الغرفة على باب بلاستك PVC قياس (1*2.1)م مع كيلون سويج, و شباك PVC (0.4*0.4)م مع سلك مانع الحشرات , زجاج 4 مم , مع قفل شباك يدوي بلاستيكي. جميع مقاطع PVC يجب ان تثبت الى الهيكل الحديدي مع عدم وجود فراغات بين الهيكل الحديدي و البلاستك PVC , و انهاء المفاصل بالسيليكون. (يتم تنفيذ هذه الفقرة في مواقع متعددة و حسب احتياجات الموقع).
A13: 11 | B13: Supply materials and cast reinforced concrete slab 20 cm thick for the floor of the prefabricated room f'c=30 MPa. Sulphate resisting cement must be used. Reinforcement must be a layer of BRC 6mm diameter and spacing of 15*15cm. A 25 cm layer of compacted subbase below the concrete floor must be provided. A 10 cm thick layer of compacted boulders must be provided below the subbase layer. Price includes excavating to the required levels and removing waste materials according to the instructions of the supervisor enginner. (to be implemented in various loacations according to the location's need). | C13: m2 | D13: 275 | F13: =E13*D13 -> 0 | G13: 275 | H13: م2 | I13: تجهيز مواد و صب صبة كونكريت مسلح سمك 20 سم لارضية غرفة ساندويج بنل مقاومة انضغاط 30 نت\مم2. يجب استخدام السمنت المقاوم للاملاح. التسليح يجب ان يكون طبقة من حديد المشبك BRC قطر 6 مم بمسافات (15*15)سم . يجب فرش طبقة من السبيس المحدول سمك 25 سم تحت صبة الارضية. يجب فرش طبقة من الجلمود المحدول سمك 10 سم تحت طبقة السبيس. يشمل السعر الحفر الى الاعماق المطلوبة و رفع الانقاض و حسب توجيهات المهندس المشرف. (يتم تنفيذ هذه الفقرة في مواقع متعددة و حسب احتياجات الموقع).
A14: 12 | B14: Supply materials and construct a collection basin for the outlet water using solid concrete blocks (15*20*40)cm, cement:sand mortar 1:3 with sulphate resisting cement. Walls of basin must be 120 cm high and base inside dimensions must ne (1.5*2)m. Base concrete must be f'c=30 MPa, 20 cm thick and reinforced with a layer of BRC (15*15)co 6mm diameter. A 25 cm layer of compacted subbase below the concrete base must be provided. A 10 cm thick layer of compacted boulders must be provided below the subbase layer. Price includes excavating to the required levels and according to the instructions of the supervisor enginner. Price includes cement plastering for the walls from outside and inside for all the sides of the basin with using sulphate resisting cement and fine sand. (to be implemented in various loacations according to the location's need). | C14: Pcs | D14: 24 | F14: =E14*D14 -> 0 | G14: 24 | H14: عدد | I14: تجهيز مواد و القيام ببناء حوض جمع مياه الدفع باستخدام البلوك الصلد الكونكريتي و مونة السمنت و الرمل 1:3 بالسمنت المقاوم للاملاح . جدران الحوض يجب ان تكون بارتفاع 120 سم و ابعاد القاعدة يجب ان تكون (1.5*2) م من الداخل . كونكريت القاعدة يجب ان يكون ذو مقاومة انضغاط 30 نت\مم2 , سمك 20 سم , و مسلحه بطبقة من حديد المشبك BRC (15*15)سم قطر 6 مم. يجب فرش طبقة من السبيس المحدول سمك 25 سم تحت صبة القاعدة. يجب فرش طبقة من الجلمود المحدول سمك 10 سم تحت طبقة السبيس. يشمل السعر الحفر الى الاعماق المطلوبة و حسب توجيهات المهندس المشرف. يشمل السعر لبخ الجدران من الداخل و الخارج و لكل جوانب الحوض باستخدام السمنت المقاوم للاملاح و الرمل الناعم. (يتم تنفيذ هذه الفقرة في مواقع متعددة و حسب احتياجات الموقع).
... A21: 19 | B21: Interior lighting: supply, install, connect, and test Interior LED projector light, (40 W), good quality. Price includes 13 A socket, cable (2*1.5 mm2), cable tray, and all accessories and requirements according to the instructions, and samples approval of the supervising engineer. | C21: Pcs | D21: 22 | F21: =E21*D21 -> 0 | G21: 22 | H21: عدد | I21: انارة داخلية: تجهيز ونصب وفحص وتشغيل بروجكتر للانارة الداخلية ذو مصباح LED قدرة (40) واط من نوع جيد ويشمل السعر مفتاح التشغيل والمأخذ 13 امبير والاسلاك 2*1.5ملم مع التري كيبل والملحقات وجميع متطلبات العمل وحسب توجيهات وموافقة المهندس الشرف.
A22: Total | F22: =SUM(F3:F21) -> 0 | G22: المجموع
A24: Locations | F24: المواقع
A25: No. | B25: farmer's name | C25: motor type | D25: no. of beneficiaries | E25: irrigated area (hectares) | F25: location | G25: coordinates | I25: region name
G26: X | H26: Y
A27: 1 | B27: farmer 1 | C27: electrical | D27: 654 | E27: 25 | F27: 17ألبو شجل | G27: 377407 | H27: 3695103 | I27: حويوة
A28: 2 | B28: farmer 2 | C28: electrical | D28: 564 | E28: 98 | F28: 24الزغاريت | G28: 376479 | H28: 3701764 | I28: الشنانة
A29: 3 | B29: farmer 3 | C29: gasoline | D29: 201 | E29: 122.5 | F29: 17ألبو شجل | G29: 373107 | H29: 3695110 | I29: حويوة
A30: 4 | B30: farmer 4 | C30: gasoline | D30: 390 | E30: 168.5 | F30: 16ألمصالحة و البو عكاش | G30: 376658 | H30: 3697416 | I30: محيريجة
A31: 5 | B31: farmer 5 | C31: electrical | D31: 765 | E31: 196.5 | F31: 17ألبو شجل | G31: 371526 | H31: 3697988 | I31: حويوة
A32: 6 | B32: farmer 6 | C32: electrical | D32: 634 | E32: 220 | F32: 17ألبو شجل | G32: 373699 | H32: 3698522 | I32: الطالعه
A33: 7 | B33: farmer 7 | C33: electrical | D33: 456 | E33: 247.5 | F33: 17ألبو شجل | G33: 3716611 | H33: 3698041 | I33: البو شجل
A34: 8 | B34: farmer 8 | C34: electrical | D34: 754 | E34: 246.75 | F34: 17ألبو شجل | G34: 374701 | H34: 3696117 | I34: الطالعه
A35: 9 | B35: farmer 9 | C35: electrical | D35: 478 | E35: 136 | F35: 17ألبو شجل | G35: 372297 | H35: 3698414 | I35: البو شجل
A36: 10 | B36: farmer 10 | C36: electrical | D36: 298 | E36: 100.25 | F36: 16ألمصالحة و البو عكاش | G36: 377247 | H36: 3697770 | I36: البو غايب
A37: 11 | B37: farmer 11 | C37: electrical | D37: 543 | E37: 130.25 | F37: 17ألبو شجل | G37: 374353 | H37: 3695928 | I37: الطالعه
A38: 12 | B38: farmer 12 | C38: electrical | D38: 678 | E38: 123.25 | F38: 17ألبو شجل | G38: 371744 | H38: 3699522 | I38: البو شجل
... A50: 24 | B50: farmer 24 | C50: electrical | D50: 298 | E50: 21.5 | F50: 17ألبو شجل | G50: 374790 | H50: 3698404 | I50: الطالعه
A51: Note: coordinates in UTM , zone 38N , Datum WGS 84

Sheet Irrigation canals Saqlawiya
A1: ECE for cleaning irrigation canals in Saqlawiya / Faluja | F1: جدول كميات تخميني لتطهير قنوات اروائية في الصقلاوية / فلوجة
A2: item no. | B2: Description | C2: Unit | D2: QUANTITY | E2: Cost /Unit (USD) | F2: Total cost(USD) | G2: الكمية | H2: الوحدة | I2: التفاصيل
A3: 1 | B3: supply materials and tools start cleaning works for the irrigation canals/channels and removing bushes, clay deposits, and weeds at the bottom of the canal to ensure the smooth flow of water in the required locations (see table below) , most of the canals' widths start from 1 m to 3.5 m and depths from 70 cm to 1.2 m (to be cleaned with workers' manual labor). | C3: ml | D3: 15250 | F3: =E3*D3 -> 0 | G3: 15250 | H3: م ط | I3: تجهيز مواد و المعدات و القيام باعمال التنظيف للقنوات الاروائية المبطنة و الغير مبطنة و ازالة الحشائش و القصب و الشمبلان و الترسبات الطينية في باطن القنوات لضمان انسيابية جريان المياه في المناطق المطلوبة (انظر الجدول ادناه) , معظم القنوات يتراوح عرضها من 1 م الى 3,5 م و عمقها من 70 سم الى 1,2 م (يتم تنظيفها بواسطة الايدي العاملة).
A4: Total | F4: =SUM(F3) -> 0 | G4: المجموع
A6: Locations
A7: No. | B7: Canal name | C7: length ml | D7: starting coordinates
A8: 1 | B8: canal 1 | C8: 500 | D8: 371668/3694795
A9: 2 | B9: canal 2 | C9: 500 | D9: 371668/3694795
A10: 3 | B10: canal 3 | C10: 500 | D10: 371372/3695728
A11: 4 | B11: canal 4 | C11: 900 | D11: 374410/3697655
A12: 5 | B12: canal 5 | C12: 500 | D12: 373223/3694593
A13: 6 | B13: canal 6 | C13: 1500 | D13: 374011/3694293
A14: 7 | B14: canal 7 | C14: 500 | D14: 374229/3695069
A15: 8 | B15: canal 8 | C15: 500 | D15: 371680/3695285
A16: 9 | B16: canal 9 | C16: 700 | D16: 370765/3696113
A17: 10 | B17: canal 10 | C17: 1000 | D17: 371212/3695864
A18: 11 | B18: canal 11 | C18: 4000 | D18: 378799/3693158
A19: 12 | B19: canal 12 | C19: 2000 | D19: 380766/3691751
... A24: 17 | B24: canal 17 | C24: 1000 | D24: 374694/3696150
A25: Note: coordinates in UTM , zone 38N , Datum WGS 84

Sheet Irrigation canals Nuaimya&Husai
A1: ECE for cleaning irrigation canals in Nuaimya&Husai / Faluja | F1: جدول كميات تخميني لتطهير قنوات اروائية في النعيمية و حصي / فلوجة
A2: item no. | B2: Description | C2: Unit | D2: QUANTITY | E2: Cost /Unit (USD) | F2: Total cost(USD) | G2: الكمية | H2: الوحدة | I2: التفاصيل
A3: 1 | B3: supply materials and tools start cleaning works for the irrigation canals/channels and removing bushes, clay deposits, and weeds at the bottom of the canal to ensure the smooth flow of water in the required locations (see table below) , most of the canals' widths start from 50 cm to 1 m and depths from 50 cm to 1.5 m (to be cleaned with workers' manual labor). | C3: ml | D3: 11250 | F3: =E3*D3 -> 0 | G3: 11250 | H3: م ط | I3: تجهيز مواد و المعدات و القيام باعمال التنظيف للقنوات الاروائية المبطنة و الغير مبطنة و ازالة الحشائش و القصب و الشمبلان و الترسبات الطينية في باطن القنوات لضمان انسيابية جريان المياه في المناطق المطلوبة (انظر الجدول ادناه) , معظم القنوات يتراوح عرضها من 50 سم الى 1 م و عمقها من 50 سم الى 1,5 م (يتم تنظيفها بواسطة الايدي العاملة)
A4: Total | F4: =SUM(F3) -> 0 | G4: المجموع
A9: Locations
A10: No. | B10: Canal name | C10: length ml | D10: coordinates
D11: X | E11: Y
A12: 1 | B12: قناة الخسروية 6/الحصي | C12: 2000 | D12: 381387 | E12: 3687204
A13: 2 | B13: قناة البو علي خلف 6/الحصي | C13: 350 | D13: 384531 | E13: 3688704
A14: 3 | B14: قناة البو عاصي خلف 6/الحصي | C14: 350 | D14: 384297 | E14: 3688607
A15: 4 | B15: قناة البو عيفان 6/الحصي | C15: 800 | D15: 384597 | E15: 3686715
A16: 5 | B16: قناة البو عيفان 6/الحصي | C16: 300 | D16: 384344 | E16: 3686738
A17: 6 | B17: قناة البو عيفان 6/الحصي | C17: 300 | D17: 384377 | E17: 3686627
A18: 7 | B18: قناة البو عيفان 6/الحصي | C18: 600 | D18: 384048 | E18: 3686269
A19: 8 | B19: قناة البو عيفان 6/الحصي | C19: 800 | D19: 384412 | E19: 3685653
A20: 9 | B20: قناة عرب الشيخ عايد 2/النعيمية | C20: 600 | D20: 393522 | E20: 3683010
A21: 10 | B21: قناة عرب الشيخ عايد 2/النعيمية | C21: 300 | D21: 393246 | E21: 3683053
A22: 11 | B22: قناة عرب الشيخ عايد 2/النعيمية | C22: 200 | D22: 393349 | E22: 3683068
A23: 12 | B23: قناة عرب الشيخ عايد 2/النعيمية | C23: 1000 | D23: 393392 | E23: 3682582
... A31: 20 | B31: قناة عرب الجميلة 2/النعيمية | C31: 700 | D31: 389256 | E31: 3684310
A32: Note: coordinates in UTM , zone 38N , Datum WGS 84

Sheet Drainage channels Saqlawiya
A1: ECE for cleaning main drainage channels in Saqlawiya / Faluja | F1: جدول كميات تخميني لتطهير مبازل رئيسية في الصقلاوية / فلوجة
A2: item no. | B2: Description | C2: Unit | D2: QUANTITY | E2: Cost /Unit (USD) | F2: Total cost(USD) | G2: الكمية | H2: الوحدة | I2: التفاصيل
A3: 1 | B3: supply machinary, materials, and tools start cleaning works for main drainage channels and removing bushes, deposits, and weeds at the bottom of the channel to ensure the smooth flow of water in the required locations (see table below) , all channels are main and big (to be cleaned with the use of long arm excavators from both sides). | C3: km | D3: 101 | F3: =E3*D3 -> 0 | G3: 101 | H3: كم | I3: تجهيز المكائن و الاليات والمواد و المعدات و القيام باعمال التنظيف للمبازل الرئيسية و ازالة الحشائش و القصب و الشمبلان و البردي و الترسبات في باطن القنوات لضمان انسيابية جريان المياه في المناطق المطلوبة (انظر الجدول ادناه) , جميع المبازل رئيسية و كبيرة (يتم تنظيفها بواسطة حفارات ذراع طويل و لكلا الجانبين)
A4: Total | F4: =SUM(F3) -> 0 | G4: المجموع
A7: Locations
A8: No. | B8: Channel name | C8: length km | D8: coordinates
D9: start | E9: end
A10: 1 | B10: DD00 | C10: 22 | D10: 383449/3691297 | E10: 387236/3697736
A11: 2 | B11: DD01 | C11: 3 | D11: 383838/3692429 | E11: 382627/3692398
A12: 3 | B12: DD02 | C12: 2 | D12: 381990/3690413 | E12: 382571/3692432
A13: 4 | B13: DD03 | C13: 2.5 | D13: 379762/3693789 | E13: 382652/3692584
A14: 5 | B14: DD04 | C14: 4 | D14: 383171/3693166 | E14: 382689/3692582
A15: 6 | B15: DD05 | C15: 3.5 | D15: 377903/3696011 | E15: 380033/3695446
A16: 7 | B16: DD06 | C16: 3.75 | D16: 376481/3696227 | E16: 381031/3695026
A17: 8 | B17: DD07 | C17: 1.5 | D17: 379093/3696283 | E17: 380003/3696032
A18: 9 | B18: DD08 | C18: 2 | D18: 382593/3698114 | E18: 383163/3696750
A19: 10 | B19: DD09 | C19: 2.1 | D19: 382067/3698034 | E19: 382571/3696991
A20: 11 | B20: DD10 | C20: 2.9 | D20: 383847/3698046 | E20: 386530/3697033
A21: 12 | B21: DD11 | C21: 9.5 | D21: 380011/3697760 | E21: 386375/3700041
... A24: 15 | B24: MD05 | C24: 12.5 | D24: 370526/3700606 | E24: 380463/3697223
A25: Note: coordinates in UTM , zone 38N , Datum WGS 84
